BEGIN:VCALENDAR
VERSION:2.0
PRODID:-//Luther Burbank Art and Garden Center - ECPv6.8.2.1//NONSGML v1.0//EN
CALSCALE:GREGORIAN
METHOD:PUBLISH
X-ORIGINAL-URL:http://lutherburbankartandgardencenter.com
X-WR-CALDESC:Events for Luther Burbank Art and Garden Center
REFRESH-INTERVAL;VALUE=DURATION:PT1H
X-Robots-Tag:noindex
X-PUBLISHED-TTL:PT1H
BEGIN:VTIMEZONE
TZID:America/Los_Angeles
BEGIN:DAYLIGHT
TZOFFSETFROM:-0800
TZOFFSETTO:-0700
TZNAME:PDT
DTSTART:20180311T100000
END:DAYLIGHT
BEGIN:STANDARD
TZOFFSETFROM:-0700
TZOFFSETTO:-0800
TZNAME:PST
DTSTART:20181104T090000
END:STANDARD
BEGIN:DAYLIGHT
TZOFFSETFROM:-0800
TZOFFSETTO:-0700
TZNAME:PDT
DTSTART:20190310T100000
END:DAYLIGHT
BEGIN:STANDARD
TZOFFSETFROM:-0700
TZOFFSETTO:-0800
TZNAME:PST
DTSTART:20191103T090000
END:STANDARD
TZID:America/Los_Angeles
BEGIN:DAYLIGHT
TZOFFSETFROM:-0800
TZOFFSETTO:-0700
TZNAME:PDT
DTSTART:20180311T100000
END:DAYLIGHT
BEGIN:STANDARD
TZOFFSETFROM:-0700
TZOFFSETTO:-0800
TZNAME:PST
DTSTART:20181104T090000
END:STANDARD
BEGIN:DAYLIGHT
TZOFFSETFROM:-0800
TZOFFSETTO:-0700
TZNAME:PDT
DTSTART:20190310T100000
END:DAYLIGHT
BEGIN:STANDARD
TZOFFSETFROM:-0700
TZOFFSETTO:-0800
TZNAME:PST
DTSTART:20191103T090000
END:STANDARD
TZID:UTC
BEGIN:STANDARD
TZOFFSETFROM:+0000
TZOFFSETTO:+0000
TZNAME:UTC
DTSTART:20180101T000000
END:STANDARD
END:VTIMEZONE
BEGIN:VEVENT
DTSTART;TZID=America/Los_Angeles:20190204T120000
DTEND;TZID=America/Los_Angeles:20190204T170000
DTSTAMP:20260421T162530
CREATED:20190201T190505Z
LAST-MODIFIED:20190201T190505Z
UID:6640-1549281600-1549299600@lutherburbankartandgardencenter.com
SUMMARY:Center -- Carpet Cleaning
DESCRIPTION:
URL:http://lutherburbankartandgardencenter.com/event/center-carpet-cleaning/
LOCATION:Luther Burbank Art & Garden Center\, 2050 Yulupa Avenue\, Santa Rosa\, CA\, 95405
CATEGORIES:LBA&GC
GEO:38.4369602;-122.6691319
X-APPLE-STRUCTURED-LOCATION;VALUE=URI;X-ADDRESS=Luther Burbank Art & Garden Center 2050 Yulupa Avenue Santa Rosa CA 95405;X-APPLE-RADIUS=500;X-TITLE=2050 Yulupa Avenue:geo:-122.6691319,38.4369602
END:VEVENT
BEGIN:VEVENT
DTSTART;TZID=America/Los_Angeles:20190131T080000
DTEND;TZID=America/Los_Angeles:20190131T160000
DTSTAMP:20260421T162530
CREATED:20181101T161624Z
LAST-MODIFIED:20181101T161624Z
UID:6278-1548921600-1548950400@lutherburbankartandgardencenter.com
SUMMARY:SR Quilt Guild
DESCRIPTION:
URL:http://lutherburbankartandgardencenter.com/event/sr-quilt-guild-4/
LOCATION:Luther Burbank Art & Garden Center\, 2050 Yulupa Avenue\, Santa Rosa\, CA\, 95405
CATEGORIES:Member Club Event
GEO:38.4369602;-122.6691319
X-APPLE-STRUCTURED-LOCATION;VALUE=URI;X-ADDRESS=Luther Burbank Art & Garden Center 2050 Yulupa Avenue Santa Rosa CA 95405;X-APPLE-RADIUS=500;X-TITLE=2050 Yulupa Avenue:geo:-122.6691319,38.4369602
END:VEVENT
BEGIN:VEVENT
DTSTART;TZID=America/Los_Angeles:20190130T080000
DTEND;TZID=America/Los_Angeles:20190130T170000
DTSTAMP:20260421T162530
CREATED:20190117T235508Z
LAST-MODIFIED:20190118T001600Z
UID:6610-1548835200-1548867600@lutherburbankartandgardencenter.com
SUMMARY:Center -- Electrician
DESCRIPTION:
URL:http://lutherburbankartandgardencenter.com/event/center-electrician-2/
LOCATION:Luther Burbank Art & Garden Center\, 2050 Yulupa Avenue\, Santa Rosa\, CA\, 95405
CATEGORIES:LBA&GC
GEO:38.4369602;-122.6691319
X-APPLE-STRUCTURED-LOCATION;VALUE=URI;X-ADDRESS=Luther Burbank Art & Garden Center 2050 Yulupa Avenue Santa Rosa CA 95405;X-APPLE-RADIUS=500;X-TITLE=2050 Yulupa Avenue:geo:-122.6691319,38.4369602
END:VEVENT
BEGIN:VEVENT
DTSTART;TZID=America/Los_Angeles:20190125T124500
DTEND;TZID=America/Los_Angeles:20190125T151500
DTSTAMP:20260421T162530
CREATED:20190118T001845Z
LAST-MODIFIED:20190118T193409Z
UID:6612-1548420300-1548429300@lutherburbankartandgardencenter.com
SUMMARY:SR Photographic Society board meeting
DESCRIPTION:
URL:http://lutherburbankartandgardencenter.com/event/sr-photographic-society-board-meeting/
LOCATION:Luther Burbank Art & Garden Center\, 2050 Yulupa Avenue\, Santa Rosa\, CA\, 95405
CATEGORIES:Member Club Event
GEO:38.4369602;-122.6691319
X-APPLE-STRUCTURED-LOCATION;VALUE=URI;X-ADDRESS=Luther Burbank Art & Garden Center 2050 Yulupa Avenue Santa Rosa CA 95405;X-APPLE-RADIUS=500;X-TITLE=2050 Yulupa Avenue:geo:-122.6691319,38.4369602
END:VEVENT
BEGIN:VEVENT
DTSTART;TZID=America/Los_Angeles:20190123T100000
DTEND;TZID=America/Los_Angeles:20190123T150000
DTSTAMP:20260421T162530
CREATED:20181109T195433Z
LAST-MODIFIED:20181109T195433Z
UID:6307-1548237600-1548255600@lutherburbankartandgardencenter.com
SUMMARY:Redwood Stitchers
DESCRIPTION:
URL:http://lutherburbankartandgardencenter.com/event/redwood-stitchers-5/
LOCATION:Luther Burbank Art & Garden Center\, 2050 Yulupa Avenue\, Santa Rosa\, CA\, 95405
GEO:38.4369602;-122.6691319
X-APPLE-STRUCTURED-LOCATION;VALUE=URI;X-ADDRESS=Luther Burbank Art & Garden Center 2050 Yulupa Avenue Santa Rosa CA 95405;X-APPLE-RADIUS=500;X-TITLE=2050 Yulupa Avenue:geo:-122.6691319,38.4369602
END:VEVENT
BEGIN:VEVENT
DTSTART;TZID=America/Los_Angeles:20190119T070000
DTEND;TZID=America/Los_Angeles:20190119T190000
DTSTAMP:20260421T162530
CREATED:20190111T182932Z
LAST-MODIFIED:20190117T181923Z
UID:6592-1547881200-1547924400@lutherburbankartandgardencenter.com
SUMMARY:Celebration of Life
DESCRIPTION:
URL:http://lutherburbankartandgardencenter.com/event/celebration-of-life-hold/
LOCATION:Luther Burbank Art & Garden Center\, 2050 Yulupa Avenue\, Santa Rosa\, CA\, 95405
CATEGORIES:Outside Rental
GEO:38.4369602;-122.6691319
X-APPLE-STRUCTURED-LOCATION;VALUE=URI;X-ADDRESS=Luther Burbank Art & Garden Center 2050 Yulupa Avenue Santa Rosa CA 95405;X-APPLE-RADIUS=500;X-TITLE=2050 Yulupa Avenue:geo:-122.6691319,38.4369602
END:VEVENT
BEGIN:VEVENT
DTSTART;TZID=America/Los_Angeles:20190118T080000
DTEND;TZID=America/Los_Angeles:20190118T160000
DTSTAMP:20260421T162530
CREATED:20180622T165444Z
LAST-MODIFIED:20181101T161447Z
UID:5936-1547798400-1547827200@lutherburbankartandgardencenter.com
SUMMARY:SR Quilt Guild
DESCRIPTION:
URL:http://lutherburbankartandgardencenter.com/event/s-r-quilt-guild-6/
LOCATION:Luther Burbank Art & Garden Center\, 2050 Yulupa Avenue\, Santa Rosa\, CA\, 95405
CATEGORIES:Member Club Event
GEO:38.4369602;-122.6691319
X-APPLE-STRUCTURED-LOCATION;VALUE=URI;X-ADDRESS=Luther Burbank Art & Garden Center 2050 Yulupa Avenue Santa Rosa CA 95405;X-APPLE-RADIUS=500;X-TITLE=2050 Yulupa Avenue:geo:-122.6691319,38.4369602
END:VEVENT
BEGIN:VEVENT
DTSTART;TZID=America/Los_Angeles:20190112T080000
DTEND;TZID=America/Los_Angeles:20190112T170000
DTSTAMP:20260421T162530
CREATED:20181116T231830Z
LAST-MODIFIED:20181116T231830Z
UID:6395-1547280000-1547312400@lutherburbankartandgardencenter.com
SUMMARY:Redwood Empire Rose Society Annual Pruning Day
DESCRIPTION:
URL:http://lutherburbankartandgardencenter.com/event/redwood-empire-rose-society-annual-pruning-day/
LOCATION:Luther Burbank Art & Garden Center\, 2050 Yulupa Avenue\, Santa Rosa\, CA\, 95405
CATEGORIES:Member Club Event
GEO:38.4369602;-122.6691319
X-APPLE-STRUCTURED-LOCATION;VALUE=URI;X-ADDRESS=Luther Burbank Art & Garden Center 2050 Yulupa Avenue Santa Rosa CA 95405;X-APPLE-RADIUS=500;X-TITLE=2050 Yulupa Avenue:geo:-122.6691319,38.4369602
END:VEVENT
BEGIN:VEVENT
DTSTART;TZID=America/Los_Angeles:20190109T100000
DTEND;TZID=America/Los_Angeles:20190109T150000
DTSTAMP:20260421T162530
CREATED:20181109T204446Z
LAST-MODIFIED:20181109T204446Z
UID:6344-1547028000-1547046000@lutherburbankartandgardencenter.com
SUMMARY:Redwood Stitchers
DESCRIPTION:
URL:http://lutherburbankartandgardencenter.com/event/redwood-stitchers-13/
LOCATION:Luther Burbank Art & Garden Center\, 2050 Yulupa Avenue\, Santa Rosa\, CA\, 95405
GEO:38.4369602;-122.6691319
X-APPLE-STRUCTURED-LOCATION;VALUE=URI;X-ADDRESS=Luther Burbank Art & Garden Center 2050 Yulupa Avenue Santa Rosa CA 95405;X-APPLE-RADIUS=500;X-TITLE=2050 Yulupa Avenue:geo:-122.6691319,38.4369602
END:VEVENT
BEGIN:VEVENT
DTSTART;TZID=America/Los_Angeles:20190108T130000
DTEND;TZID=America/Los_Angeles:20190108T150000
DTSTAMP:20260421T162530
CREATED:20181114T054616Z
LAST-MODIFIED:20181114T054616Z
UID:6389-1546952400-1546959600@lutherburbankartandgardencenter.com
SUMMARY:Center Maintenance Committee meeting
DESCRIPTION:
URL:http://lutherburbankartandgardencenter.com/event/center-maintenance-committee-meeting-2/
LOCATION:Luther Burbank Art & Garden Center\, 2050 Yulupa Avenue\, Santa Rosa\, CA\, 95405
CATEGORIES:LBA&GC
GEO:38.4369602;-122.6691319
X-APPLE-STRUCTURED-LOCATION;VALUE=URI;X-ADDRESS=Luther Burbank Art & Garden Center 2050 Yulupa Avenue Santa Rosa CA 95405;X-APPLE-RADIUS=500;X-TITLE=2050 Yulupa Avenue:geo:-122.6691319,38.4369602
END:VEVENT
BEGIN:VEVENT
DTSTART;TZID=America/Los_Angeles:20181229T080000
DTEND;TZID=America/Los_Angeles:20181229T230000
DTSTAMP:20260421T162530
CREATED:20181202T224107Z
LAST-MODIFIED:20181208T192157Z
UID:6489-1546070400-1546124400@lutherburbankartandgardencenter.com
SUMMARY:Birthday Party
DESCRIPTION:12/3/2018 – Rec’d $1450.00 Cash from: J. Consuelo & Torres Guzman\, 6461 Montecito.V.Apt-C\, Santa Rosa\, CA 95409 – 707-835-4870 \n 
URL:http://lutherburbankartandgardencenter.com/event/temp-hold-6/
LOCATION:Luther Burbank Art & Garden Center\, 2050 Yulupa Avenue\, Santa Rosa\, CA\, 95405
GEO:38.4369602;-122.6691319
X-APPLE-STRUCTURED-LOCATION;VALUE=URI;X-ADDRESS=Luther Burbank Art & Garden Center 2050 Yulupa Avenue Santa Rosa CA 95405;X-APPLE-RADIUS=500;X-TITLE=2050 Yulupa Avenue:geo:-122.6691319,38.4369602
END:VEVENT
BEGIN:VEVENT
DTSTART;TZID=America/Los_Angeles:20181224T080000
DTEND;TZID=America/Los_Angeles:20181224T170000
DTSTAMP:20260421T162530
CREATED:20180815T172436Z
LAST-MODIFIED:20180815T173328Z
UID:6086-1545638400-1545670800@lutherburbankartandgardencenter.com
SUMMARY:Temp Hold
DESCRIPTION:707-536-8492
URL:http://lutherburbankartandgardencenter.com/event/temp-hold/
LOCATION:Luther Burbank Art & Garden Center\, 2050 Yulupa Avenue\, Santa Rosa\, CA\, 95405
GEO:38.4369602;-122.6691319
X-APPLE-STRUCTURED-LOCATION;VALUE=URI;X-ADDRESS=Luther Burbank Art & Garden Center 2050 Yulupa Avenue Santa Rosa CA 95405;X-APPLE-RADIUS=500;X-TITLE=2050 Yulupa Avenue:geo:-122.6691319,38.4369602
END:VEVENT
BEGIN:VEVENT
DTSTART;TZID=America/Los_Angeles:20181222T090000
DTEND;TZID=America/Los_Angeles:20181222T230000
DTSTAMP:20260421T162530
CREATED:20180722T012917Z
LAST-MODIFIED:20180722T012917Z
UID:6046-1545469200-1545519600@lutherburbankartandgardencenter.com
SUMMARY:25 Anniversary Party
DESCRIPTION:Yoselyn Patino \n2615 Bellevue Ranch Rd.\, Santa Rosa\, CA 95407 \n707-696-1135 \n7/16/18 – Rec’d $500.00 Cash Deposit \nBal Due – $950.00
URL:http://lutherburbankartandgardencenter.com/event/25-anniversary-party/
LOCATION:Luther Burbank Art & Garden Center\, 2050 Yulupa Avenue\, Santa Rosa\, CA\, 95405
GEO:38.4369602;-122.6691319
X-APPLE-STRUCTURED-LOCATION;VALUE=URI;X-ADDRESS=Luther Burbank Art & Garden Center 2050 Yulupa Avenue Santa Rosa CA 95405;X-APPLE-RADIUS=500;X-TITLE=2050 Yulupa Avenue:geo:-122.6691319,38.4369602
END:VEVENT
BEGIN:VEVENT
DTSTART;TZID=America/Los_Angeles:20181221T080000
DTEND;TZID=America/Los_Angeles:20181221T170000
DTSTAMP:20260421T162530
CREATED:20180622T165255Z
LAST-MODIFIED:20180622T165255Z
UID:5934-1545379200-1545411600@lutherburbankartandgardencenter.com
SUMMARY:S R Quilt Guild
DESCRIPTION:
URL:http://lutherburbankartandgardencenter.com/event/s-r-quilt-guild-5/
LOCATION:Luther Burbank Art & Garden Center\, 2050 Yulupa Avenue\, Santa Rosa\, CA\, 95405
GEO:38.4369602;-122.6691319
X-APPLE-STRUCTURED-LOCATION;VALUE=URI;X-ADDRESS=Luther Burbank Art & Garden Center 2050 Yulupa Avenue Santa Rosa CA 95405;X-APPLE-RADIUS=500;X-TITLE=2050 Yulupa Avenue:geo:-122.6691319,38.4369602
END:VEVENT
BEGIN:VEVENT
DTSTART;TZID=America/Los_Angeles:20181214T160000
DTEND;TZID=America/Los_Angeles:20181214T163000
DTSTAMP:20260421T162530
CREATED:20181214T002914Z
LAST-MODIFIED:20181214T002914Z
UID:6520-1544803200-1544805000@lutherburbankartandgardencenter.com
SUMMARY:Meeting
DESCRIPTION:Show Center to potential renter
URL:http://lutherburbankartandgardencenter.com/event/meeting-21/
LOCATION:Luther Burbank Art & Garden Center\, 2050 Yulupa Avenue\, Santa Rosa\, CA\, 95405
GEO:38.4369602;-122.6691319
X-APPLE-STRUCTURED-LOCATION;VALUE=URI;X-ADDRESS=Luther Burbank Art & Garden Center 2050 Yulupa Avenue Santa Rosa CA 95405;X-APPLE-RADIUS=500;X-TITLE=2050 Yulupa Avenue:geo:-122.6691319,38.4369602
END:VEVENT
BEGIN:VEVENT
DTSTART;TZID=America/Los_Angeles:20181212T100000
DTEND;TZID=America/Los_Angeles:20181212T150000
DTSTAMP:20260421T162530
CREATED:20181111T194446Z
LAST-MODIFIED:20181111T194446Z
UID:6375-1544608800-1544626800@lutherburbankartandgardencenter.com
SUMMARY:Redwood Stitchers
DESCRIPTION:
URL:http://lutherburbankartandgardencenter.com/event/redwood-stitchers-26/
LOCATION:Luther Burbank Art & Garden Center\, 2050 Yulupa Avenue\, Santa Rosa\, CA\, 95405
GEO:38.4369602;-122.6691319
X-APPLE-STRUCTURED-LOCATION;VALUE=URI;X-ADDRESS=Luther Burbank Art & Garden Center 2050 Yulupa Avenue Santa Rosa CA 95405;X-APPLE-RADIUS=500;X-TITLE=2050 Yulupa Avenue:geo:-122.6691319,38.4369602
END:VEVENT
BEGIN:VEVENT
DTSTART;TZID=UTC:20181211T120000
DTEND;TZID=UTC:20181211T223000
DTSTAMP:20260421T162530
CREATED:20170505T055019Z
LAST-MODIFIED:20171031T043610Z
UID:4229-1544529600-1544567400@lutherburbankartandgardencenter.com
SUMMARY:Men's Garden Club
DESCRIPTION:Monthly on the second Tuesday
URL:http://lutherburbankartandgardencenter.com/event/mens-garden-club-46-2018-12-11/
LOCATION:Luther Burbank Art & Garden Center\, 2050 Yulupa Avenue\, Santa Rosa\, CA\, 95405
CATEGORIES:Member Club Event
GEO:38.4369602;-122.6691319
X-APPLE-STRUCTURED-LOCATION;VALUE=URI;X-ADDRESS=Luther Burbank Art & Garden Center 2050 Yulupa Avenue Santa Rosa CA 95405;X-APPLE-RADIUS=500;X-TITLE=2050 Yulupa Avenue:geo:-122.6691319,38.4369602
END:VEVENT
BEGIN:VEVENT
DTSTART;TZID=America/Los_Angeles:20181211T090000
DTEND;TZID=America/Los_Angeles:20181211T120000
DTSTAMP:20260421T162530
CREATED:20180729T150216Z
LAST-MODIFIED:20180729T150216Z
UID:6063-1544518800-1544529600@lutherburbankartandgardencenter.com
SUMMARY:Quilt Guild
DESCRIPTION:
URL:http://lutherburbankartandgardencenter.com/event/quilt-guild-4/
LOCATION:Luther Burbank Art & Garden Center\, 2050 Yulupa Avenue\, Santa Rosa\, CA\, 95405
GEO:38.4369602;-122.6691319
X-APPLE-STRUCTURED-LOCATION;VALUE=URI;X-ADDRESS=Luther Burbank Art & Garden Center 2050 Yulupa Avenue Santa Rosa CA 95405;X-APPLE-RADIUS=500;X-TITLE=2050 Yulupa Avenue:geo:-122.6691319,38.4369602
END:VEVENT
BEGIN:VEVENT
DTSTART;TZID=America/Los_Angeles:20181208T090000
DTEND;TZID=America/Los_Angeles:20181208T230000
DTSTAMP:20260421T162530
CREATED:20180927T201347Z
LAST-MODIFIED:20181202T224758Z
UID:6197-1544259600-1544310000@lutherburbankartandgardencenter.com
SUMMARY:Gender Reveal Party
DESCRIPTION:11/19/2018 Rec’d Cashiers check in the amount of $1450.00 from: Patricia Rebuelta\, 610 Humboldt St.\, Santa Rosa\, CA 95404 – 707-480-5109
URL:http://lutherburbankartandgardencenter.com/event/temp-hold-5/
LOCATION:Luther Burbank Art & Garden Center\, 2050 Yulupa Avenue\, Santa Rosa\, CA\, 95405
GEO:38.4369602;-122.6691319
X-APPLE-STRUCTURED-LOCATION;VALUE=URI;X-ADDRESS=Luther Burbank Art & Garden Center 2050 Yulupa Avenue Santa Rosa CA 95405;X-APPLE-RADIUS=500;X-TITLE=2050 Yulupa Avenue:geo:-122.6691319,38.4369602
END:VEVENT
BEGIN:VEVENT
DTSTART;TZID=America/Los_Angeles:20181207T170000
DTEND;TZID=America/Los_Angeles:20181207T170000
DTSTAMP:20260421T162530
CREATED:20181205T003328Z
LAST-MODIFIED:20181205T004923Z
UID:6504-1544202000-1544202000@lutherburbankartandgardencenter.com
SUMMARY:Meeting
DESCRIPTION:Meet group for Sat. set up at approx 5:10. Bring 8 round tablecloths.
URL:http://lutherburbankartandgardencenter.com/event/meeting-19/
LOCATION:Luther Burbank Art & Garden Center\, 2050 Yulupa Avenue\, Santa Rosa\, CA\, 95405
GEO:38.4369602;-122.6691319
X-APPLE-STRUCTURED-LOCATION;VALUE=URI;X-ADDRESS=Luther Burbank Art & Garden Center 2050 Yulupa Avenue Santa Rosa CA 95405;X-APPLE-RADIUS=500;X-TITLE=2050 Yulupa Avenue:geo:-122.6691319,38.4369602
END:VEVENT
BEGIN:VEVENT
DTSTART;TZID=America/Los_Angeles:20181207T163000
DTEND;TZID=America/Los_Angeles:20181207T170000
DTSTAMP:20260421T162530
CREATED:20181205T215616Z
LAST-MODIFIED:20181205T215616Z
UID:6507-1544200200-1544202000@lutherburbankartandgardencenter.com
SUMMARY:Meeting
DESCRIPTION:Meet Inga for tour with her sisters.
URL:http://lutherburbankartandgardencenter.com/event/meeting-20/
LOCATION:Luther Burbank Art & Garden Center\, 2050 Yulupa Avenue\, Santa Rosa\, CA\, 95405
GEO:38.4369602;-122.6691319
X-APPLE-STRUCTURED-LOCATION;VALUE=URI;X-ADDRESS=Luther Burbank Art & Garden Center 2050 Yulupa Avenue Santa Rosa CA 95405;X-APPLE-RADIUS=500;X-TITLE=2050 Yulupa Avenue:geo:-122.6691319,38.4369602
END:VEVENT
BEGIN:VEVENT
DTSTART;TZID=America/Los_Angeles:20181207T080000
DTEND;TZID=America/Los_Angeles:20181207T120000
DTSTAMP:20260421T162530
CREATED:20181206T223529Z
LAST-MODIFIED:20181206T223529Z
UID:6511-1544169600-1544184000@lutherburbankartandgardencenter.com
SUMMARY:Center: Plumber fix sink
DESCRIPTION:
URL:http://lutherburbankartandgardencenter.com/event/center-plumber-fix-sink/
LOCATION:Luther Burbank Art & Garden Center\, 2050 Yulupa Avenue\, Santa Rosa\, CA\, 95405
CATEGORIES:LBA&GC
GEO:38.4369602;-122.6691319
X-APPLE-STRUCTURED-LOCATION;VALUE=URI;X-ADDRESS=Luther Burbank Art & Garden Center 2050 Yulupa Avenue Santa Rosa CA 95405;X-APPLE-RADIUS=500;X-TITLE=2050 Yulupa Avenue:geo:-122.6691319,38.4369602
END:VEVENT
BEGIN:VEVENT
DTSTART;TZID=America/Los_Angeles:20181204T093000
DTEND;TZID=America/Los_Angeles:20181204T100000
DTSTAMP:20260421T162530
CREATED:20181204T003538Z
LAST-MODIFIED:20181204T003538Z
UID:6497-1543915800-1543917600@lutherburbankartandgardencenter.com
SUMMARY:Meeting
DESCRIPTION:Meet Renters for Dec. 16 Memorial Service 707-322-4718
URL:http://lutherburbankartandgardencenter.com/event/meeting-18/
LOCATION:Luther Burbank Art & Garden Center\, 2050 Yulupa Avenue\, Santa Rosa\, CA\, 95405
GEO:38.4369602;-122.6691319
X-APPLE-STRUCTURED-LOCATION;VALUE=URI;X-ADDRESS=Luther Burbank Art & Garden Center 2050 Yulupa Avenue Santa Rosa CA 95405;X-APPLE-RADIUS=500;X-TITLE=2050 Yulupa Avenue:geo:-122.6691319,38.4369602
END:VEVENT
BEGIN:VEVENT
DTSTART;TZID=America/Los_Angeles:20181203T120000
DTEND;TZID=America/Los_Angeles:20181203T130000
DTSTAMP:20260421T162530
CREATED:20181202T230453Z
LAST-MODIFIED:20181202T230541Z
UID:6493-1543838400-1543842000@lutherburbankartandgardencenter.com
SUMMARY:Meeting
DESCRIPTION:Meet Renter for Dec. 29\, 2018 at 12:20 707-835-4870
URL:http://lutherburbankartandgardencenter.com/event/meeting-17/
LOCATION:Luther Burbank Art & Garden Center\, 2050 Yulupa Avenue\, Santa Rosa\, CA\, 95405
GEO:38.4369602;-122.6691319
X-APPLE-STRUCTURED-LOCATION;VALUE=URI;X-ADDRESS=Luther Burbank Art & Garden Center 2050 Yulupa Avenue Santa Rosa CA 95405;X-APPLE-RADIUS=500;X-TITLE=2050 Yulupa Avenue:geo:-122.6691319,38.4369602
END:VEVENT
BEGIN:VEVENT
DTSTART;TZID=America/Los_Angeles:20181201T090000
DTEND;TZID=America/Los_Angeles:20181201T230000
DTSTAMP:20260421T162530
CREATED:20181006T213343Z
LAST-MODIFIED:20181027T175945Z
UID:6229-1543654800-1543705200@lutherburbankartandgardencenter.com
SUMMARY:Memorial
DESCRIPTION:10/5/18 – Rec’d Ck #4260 – Amt of $500.00 \nElizabeth Hendrickson\, 4353 Princeton Way\, Santa Rosa\, CA 95405 \n707-799-9053
URL:http://lutherburbankartandgardencenter.com/event/memorial-9/
LOCATION:Luther Burbank Art & Garden Center\, 2050 Yulupa Avenue\, Santa Rosa\, CA\, 95405
GEO:38.4369602;-122.6691319
X-APPLE-STRUCTURED-LOCATION;VALUE=URI;X-ADDRESS=Luther Burbank Art & Garden Center 2050 Yulupa Avenue Santa Rosa CA 95405;X-APPLE-RADIUS=500;X-TITLE=2050 Yulupa Avenue:geo:-122.6691319,38.4369602
END:VEVENT
BEGIN:VEVENT
DTSTART;TZID=America/Los_Angeles:20181129T170000
DTEND;TZID=America/Los_Angeles:20181129T210000
DTSTAMP:20260421T162530
CREATED:20181113T000007Z
LAST-MODIFIED:20181113T000007Z
UID:6382-1543510800-1543525200@lutherburbankartandgardencenter.com
SUMMARY:Bridal Info
DESCRIPTION:Morgan and group from Keller Williams
URL:http://lutherburbankartandgardencenter.com/event/bridal-info/
LOCATION:Luther Burbank Art & Garden Center\, 2050 Yulupa Avenue\, Santa Rosa\, CA\, 95405
GEO:38.4369602;-122.6691319
X-APPLE-STRUCTURED-LOCATION;VALUE=URI;X-ADDRESS=Luther Burbank Art & Garden Center 2050 Yulupa Avenue Santa Rosa CA 95405;X-APPLE-RADIUS=500;X-TITLE=2050 Yulupa Avenue:geo:-122.6691319,38.4369602
END:VEVENT
BEGIN:VEVENT
DTSTART;TZID=America/Los_Angeles:20181128T100000
DTEND;TZID=America/Los_Angeles:20181128T150000
DTSTAMP:20260421T162530
CREATED:20181111T194321Z
LAST-MODIFIED:20181111T194321Z
UID:6373-1543399200-1543417200@lutherburbankartandgardencenter.com
SUMMARY:Redwood Stitchers
DESCRIPTION:
URL:http://lutherburbankartandgardencenter.com/event/redwood-stitchers-25/
LOCATION:Luther Burbank Art & Garden Center\, 2050 Yulupa Avenue\, Santa Rosa\, CA\, 95405
GEO:38.4369602;-122.6691319
X-APPLE-STRUCTURED-LOCATION;VALUE=URI;X-ADDRESS=Luther Burbank Art & Garden Center 2050 Yulupa Avenue Santa Rosa CA 95405;X-APPLE-RADIUS=500;X-TITLE=2050 Yulupa Avenue:geo:-122.6691319,38.4369602
END:VEVENT
BEGIN:VEVENT
DTSTART;TZID=America/Los_Angeles:20181123T153000
DTEND;TZID=America/Los_Angeles:20181123T160000
DTSTAMP:20260421T162530
CREATED:20181115T194402Z
LAST-MODIFIED:20181115T194402Z
UID:6391-1542987000-1542988800@lutherburbankartandgardencenter.com
SUMMARY:Meeting
DESCRIPTION:Meeting to sign r/a and collect deposit for Feb. 9 or 10 707-569-6253
URL:http://lutherburbankartandgardencenter.com/event/meeting-16/
LOCATION:Luther Burbank Art & Garden Center\, 2050 Yulupa Avenue\, Santa Rosa\, CA\, 95405
GEO:38.4369602;-122.6691319
X-APPLE-STRUCTURED-LOCATION;VALUE=URI;X-ADDRESS=Luther Burbank Art & Garden Center 2050 Yulupa Avenue Santa Rosa CA 95405;X-APPLE-RADIUS=500;X-TITLE=2050 Yulupa Avenue:geo:-122.6691319,38.4369602
END:VEVENT
BEGIN:VEVENT
DTSTART;TZID=America/Los_Angeles:20181123T090000
DTEND;TZID=America/Los_Angeles:20181123T150000
DTSTAMP:20260421T162530
CREATED:20181019T221545Z
LAST-MODIFIED:20181019T221545Z
UID:6256-1542963600-1542985200@lutherburbankartandgardencenter.com
SUMMARY:Memorial
DESCRIPTION:10/17/18 – Rec’d Cash deposit of $950.00 and r/a from: Ty Borchardt\, 2406 Zurlo Ct.\, Santa Rosa\, CA 95403 – 707-542-3890
URL:http://lutherburbankartandgardencenter.com/event/memorial-10/
LOCATION:Luther Burbank Art & Garden Center\, 2050 Yulupa Avenue\, Santa Rosa\, CA\, 95405
GEO:38.4369602;-122.6691319
X-APPLE-STRUCTURED-LOCATION;VALUE=URI;X-ADDRESS=Luther Burbank Art & Garden Center 2050 Yulupa Avenue Santa Rosa CA 95405;X-APPLE-RADIUS=500;X-TITLE=2050 Yulupa Avenue:geo:-122.6691319,38.4369602
END:VEVENT
BEGIN:VEVENT
DTSTART;TZID=America/Los_Angeles:20181119T130000
DTEND;TZID=America/Los_Angeles:20181119T133000
DTSTAMP:20260421T162530
CREATED:20181114T003432Z
LAST-MODIFIED:20181114T003432Z
UID:6386-1542632400-1542634200@lutherburbankartandgardencenter.com
SUMMARY:Meeting
DESCRIPTION:Meet for r/a and funds for Dec. 8\, 2018 707-480-5109 \n 
URL:http://lutherburbankartandgardencenter.com/event/meeting-15/
LOCATION:Luther Burbank Art & Garden Center\, 2050 Yulupa Avenue\, Santa Rosa\, CA\, 95405
GEO:38.4369602;-122.6691319
X-APPLE-STRUCTURED-LOCATION;VALUE=URI;X-ADDRESS=Luther Burbank Art & Garden Center 2050 Yulupa Avenue Santa Rosa CA 95405;X-APPLE-RADIUS=500;X-TITLE=2050 Yulupa Avenue:geo:-122.6691319,38.4369602
END:VEVENT
END:VCALENDAR