BEGIN:VCALENDAR
VERSION:2.0
PRODID:-//Luther Burbank Art and Garden Center - ECPv6.8.2.1//NONSGML v1.0//EN
CALSCALE:GREGORIAN
METHOD:PUBLISH
X-ORIGINAL-URL:http://lutherburbankartandgardencenter.com
X-WR-CALDESC:Events for Luther Burbank Art and Garden Center
REFRESH-INTERVAL;VALUE=DURATION:PT1H
X-Robots-Tag:noindex
X-PUBLISHED-TTL:PT1H
BEGIN:VTIMEZONE
TZID:America/Los_Angeles
BEGIN:DAYLIGHT
TZOFFSETFROM:-0800
TZOFFSETTO:-0700
TZNAME:PDT
DTSTART:20190310T100000
END:DAYLIGHT
BEGIN:STANDARD
TZOFFSETFROM:-0700
TZOFFSETTO:-0800
TZNAME:PST
DTSTART:20191103T090000
END:STANDARD
END:VTIMEZONE
BEGIN:VEVENT
DTSTART;TZID=America/Los_Angeles:20190424T100000
DTEND;TZID=America/Los_Angeles:20190424T150000
DTSTAMP:20260421T111337
CREATED:20181109T210001Z
LAST-MODIFIED:20181109T210001Z
UID:6359-1556100000-1556118000@lutherburbankartandgardencenter.com
SUMMARY:Redwood Stitchers
DESCRIPTION:
URL:http://lutherburbankartandgardencenter.com/event/redwood-stitchers-19/
LOCATION:Luther Burbank Art & Garden Center\, 2050 Yulupa Avenue\, Santa Rosa\, CA\, 95405
GEO:38.4369602;-122.6691319
X-APPLE-STRUCTURED-LOCATION;VALUE=URI;X-ADDRESS=Luther Burbank Art & Garden Center 2050 Yulupa Avenue Santa Rosa CA 95405;X-APPLE-RADIUS=500;X-TITLE=2050 Yulupa Avenue:geo:-122.6691319,38.4369602
END:VEVENT
BEGIN:VEVENT
DTSTART;TZID=America/Los_Angeles:20190420T100000
DTEND;TZID=America/Los_Angeles:20190420T230000
DTSTAMP:20260421T111337
CREATED:20190219T183356Z
LAST-MODIFIED:20190219T183356Z
UID:6703-1555754400-1555801200@lutherburbankartandgardencenter.com
SUMMARY:Wedding
DESCRIPTION:Betzabe Rosas Diaz\, 3309 Santa Rosa Ave\, Spc#57\, Santa Rosa\, CA  95407 \n707-774-3615 \nDeposit 2.18 $450 \nBalance Due 2/22 $1\,000.  She’ll drop off check in mailbox on Thursday.
URL:http://lutherburbankartandgardencenter.com/event/wedding-6/
LOCATION:Luther Burbank Art & Garden Center\, 2050 Yulupa Avenue\, Santa Rosa\, CA\, 95405
CATEGORIES:Outside Rental
GEO:38.4369602;-122.6691319
X-APPLE-STRUCTURED-LOCATION;VALUE=URI;X-ADDRESS=Luther Burbank Art & Garden Center 2050 Yulupa Avenue Santa Rosa CA 95405;X-APPLE-RADIUS=500;X-TITLE=2050 Yulupa Avenue:geo:-122.6691319,38.4369602
END:VEVENT
BEGIN:VEVENT
DTSTART;TZID=America/Los_Angeles:20190415T130000
DTEND;TZID=America/Los_Angeles:20190415T160000
DTSTAMP:20260421T111337
CREATED:20190409T040458Z
LAST-MODIFIED:20190409T040458Z
UID:6838-1555333200-1555344000@lutherburbankartandgardencenter.com
SUMMARY:Installation L Simonds Plaque
DESCRIPTION:
URL:http://lutherburbankartandgardencenter.com/event/installation-l-simonds-plaque/
LOCATION:Luther Burbank Art & Garden Center\, 2050 Yulupa Avenue\, Santa Rosa\, CA\, 95405
CATEGORIES:LBA&GC
GEO:38.4369602;-122.6691319
X-APPLE-STRUCTURED-LOCATION;VALUE=URI;X-ADDRESS=Luther Burbank Art & Garden Center 2050 Yulupa Avenue Santa Rosa CA 95405;X-APPLE-RADIUS=500;X-TITLE=2050 Yulupa Avenue:geo:-122.6691319,38.4369602
END:VEVENT
BEGIN:VEVENT
DTSTART;TZID=America/Los_Angeles:20190414T080000
DTEND;TZID=America/Los_Angeles:20190414T170000
DTSTAMP:20260421T111337
CREATED:20181102T164126Z
LAST-MODIFIED:20181102T164126Z
UID:6292-1555228800-1555261200@lutherburbankartandgardencenter.com
SUMMARY:WASCO
DESCRIPTION:
URL:http://lutherburbankartandgardencenter.com/event/wasco-14/
LOCATION:Luther Burbank Art & Garden Center\, 2050 Yulupa Avenue\, Santa Rosa\, CA\, 95405
GEO:38.4369602;-122.6691319
X-APPLE-STRUCTURED-LOCATION;VALUE=URI;X-ADDRESS=Luther Burbank Art & Garden Center 2050 Yulupa Avenue Santa Rosa CA 95405;X-APPLE-RADIUS=500;X-TITLE=2050 Yulupa Avenue:geo:-122.6691319,38.4369602
END:VEVENT
BEGIN:VEVENT
DTSTART;TZID=America/Los_Angeles:20190413T080000
DTEND;TZID=America/Los_Angeles:20190413T170000
DTSTAMP:20260421T111337
CREATED:20181102T164029Z
LAST-MODIFIED:20181102T164029Z
UID:6290-1555142400-1555174800@lutherburbankartandgardencenter.com
SUMMARY:WASCO
DESCRIPTION:
URL:http://lutherburbankartandgardencenter.com/event/wasco-13/
LOCATION:Luther Burbank Art & Garden Center\, 2050 Yulupa Avenue\, Santa Rosa\, CA\, 95405
GEO:38.4369602;-122.6691319
X-APPLE-STRUCTURED-LOCATION;VALUE=URI;X-ADDRESS=Luther Burbank Art & Garden Center 2050 Yulupa Avenue Santa Rosa CA 95405;X-APPLE-RADIUS=500;X-TITLE=2050 Yulupa Avenue:geo:-122.6691319,38.4369602
END:VEVENT
BEGIN:VEVENT
DTSTART;TZID=America/Los_Angeles:20190412T080000
DTEND;TZID=America/Los_Angeles:20190412T170000
DTSTAMP:20260421T111337
CREATED:20181102T163932Z
LAST-MODIFIED:20181102T163932Z
UID:6288-1555056000-1555088400@lutherburbankartandgardencenter.com
SUMMARY:WASCO
DESCRIPTION:
URL:http://lutherburbankartandgardencenter.com/event/wasco-12/
LOCATION:Luther Burbank Art & Garden Center\, 2050 Yulupa Avenue\, Santa Rosa\, CA\, 95405
GEO:38.4369602;-122.6691319
X-APPLE-STRUCTURED-LOCATION;VALUE=URI;X-ADDRESS=Luther Burbank Art & Garden Center 2050 Yulupa Avenue Santa Rosa CA 95405;X-APPLE-RADIUS=500;X-TITLE=2050 Yulupa Avenue:geo:-122.6691319,38.4369602
END:VEVENT
BEGIN:VEVENT
DTSTART;TZID=America/Los_Angeles:20190410T100000
DTEND;TZID=America/Los_Angeles:20190410T150000
DTSTAMP:20260421T111337
CREATED:20181109T205436Z
LAST-MODIFIED:20181109T205436Z
UID:6354-1554890400-1554908400@lutherburbankartandgardencenter.com
SUMMARY:Redwood Stitchers
DESCRIPTION:
URL:http://lutherburbankartandgardencenter.com/event/redwood-stitchers-17/
LOCATION:Luther Burbank Art & Garden Center\, 2050 Yulupa Avenue\, Santa Rosa\, CA\, 95405
GEO:38.4369602;-122.6691319
X-APPLE-STRUCTURED-LOCATION;VALUE=URI;X-ADDRESS=Luther Burbank Art & Garden Center 2050 Yulupa Avenue Santa Rosa CA 95405;X-APPLE-RADIUS=500;X-TITLE=2050 Yulupa Avenue:geo:-122.6691319,38.4369602
END:VEVENT
BEGIN:VEVENT
DTSTART;TZID=America/Los_Angeles:20190408T130000
DTEND;TZID=America/Los_Angeles:20190408T150000
DTSTAMP:20260421T111337
CREATED:20190319T180654Z
LAST-MODIFIED:20190319T180654Z
UID:6785-1554728400-1554735600@lutherburbankartandgardencenter.com
SUMMARY:Center: Maintenance Committee Meeting
DESCRIPTION:
URL:http://lutherburbankartandgardencenter.com/event/center-maintenance-committee-meeting-5/
LOCATION:Luther Burbank Art & Garden Center\, 2050 Yulupa Avenue\, Santa Rosa\, CA\, 95405
CATEGORIES:LBA&GC
GEO:38.4369602;-122.6691319
X-APPLE-STRUCTURED-LOCATION;VALUE=URI;X-ADDRESS=Luther Burbank Art & Garden Center 2050 Yulupa Avenue Santa Rosa CA 95405;X-APPLE-RADIUS=500;X-TITLE=2050 Yulupa Avenue:geo:-122.6691319,38.4369602
END:VEVENT
BEGIN:VEVENT
DTSTART;TZID=America/Los_Angeles:20190406T100000
DTEND;TZID=America/Los_Angeles:20190406T230000
DTSTAMP:20260421T111337
CREATED:20190323T142859Z
LAST-MODIFIED:20190323T142859Z
UID:6811-1554544800-1554591600@lutherburbankartandgardencenter.com
SUMMARY:Celebration of Life
DESCRIPTION:
URL:http://lutherburbankartandgardencenter.com/event/celebration-of-life-15/
LOCATION:Luther Burbank Art & Garden Center\, 2050 Yulupa Avenue\, Santa Rosa\, CA\, 95405
CATEGORIES:Outside Rental
GEO:38.4369602;-122.6691319
X-APPLE-STRUCTURED-LOCATION;VALUE=URI;X-ADDRESS=Luther Burbank Art & Garden Center 2050 Yulupa Avenue Santa Rosa CA 95405;X-APPLE-RADIUS=500;X-TITLE=2050 Yulupa Avenue:geo:-122.6691319,38.4369602
END:VEVENT
BEGIN:VEVENT
DTSTART;TZID=America/Los_Angeles:20190405T160000
DTEND;TZID=America/Los_Angeles:20190405T220000
DTSTAMP:20260421T111337
CREATED:20190323T143059Z
LAST-MODIFIED:20190326T010735Z
UID:6813-1554480000-1554501600@lutherburbankartandgardencenter.com
SUMMARY:Surprise Birthday Party
DESCRIPTION:
URL:http://lutherburbankartandgardencenter.com/event/surprise-birthday/
LOCATION:Luther Burbank Art & Garden Center\, 2050 Yulupa Avenue\, Santa Rosa\, CA\, 95405
CATEGORIES:Outside Rental
GEO:38.4369602;-122.6691319
X-APPLE-STRUCTURED-LOCATION;VALUE=URI;X-ADDRESS=Luther Burbank Art & Garden Center 2050 Yulupa Avenue Santa Rosa CA 95405;X-APPLE-RADIUS=500;X-TITLE=2050 Yulupa Avenue:geo:-122.6691319,38.4369602
END:VEVENT
BEGIN:VEVENT
DTSTART;TZID=America/Los_Angeles:20190331T160000
DTEND;TZID=America/Los_Angeles:20190331T220000
DTSTAMP:20260421T111337
CREATED:20190304T012640Z
LAST-MODIFIED:20190304T012640Z
UID:6724-1554048000-1554069600@lutherburbankartandgardencenter.com
SUMMARY:Birthday Party
DESCRIPTION:
URL:http://lutherburbankartandgardencenter.com/event/birthday-party-9/
LOCATION:Luther Burbank Art & Garden Center\, 2050 Yulupa Avenue\, Santa Rosa\, CA\, 95405
CATEGORIES:Outside Rental
GEO:38.4369602;-122.6691319
X-APPLE-STRUCTURED-LOCATION;VALUE=URI;X-ADDRESS=Luther Burbank Art & Garden Center 2050 Yulupa Avenue Santa Rosa CA 95405;X-APPLE-RADIUS=500;X-TITLE=2050 Yulupa Avenue:geo:-122.6691319,38.4369602
END:VEVENT
BEGIN:VEVENT
DTSTART;TZID=America/Los_Angeles:20190329T100000
DTEND;TZID=America/Los_Angeles:20190329T183000
DTSTAMP:20260421T111337
CREATED:20190322T204748Z
LAST-MODIFIED:20190322T204748Z
UID:6809-1553853600-1553884200@lutherburbankartandgardencenter.com
SUMMARY:Center: Carpet Cleaning
DESCRIPTION:
URL:http://lutherburbankartandgardencenter.com/event/center-carpet-cleaning-2/
LOCATION:Luther Burbank Art & Garden Center\, 2050 Yulupa Avenue\, Santa Rosa\, CA\, 95405
CATEGORIES:LBA&GC
GEO:38.4369602;-122.6691319
X-APPLE-STRUCTURED-LOCATION;VALUE=URI;X-ADDRESS=Luther Burbank Art & Garden Center 2050 Yulupa Avenue Santa Rosa CA 95405;X-APPLE-RADIUS=500;X-TITLE=2050 Yulupa Avenue:geo:-122.6691319,38.4369602
END:VEVENT
BEGIN:VEVENT
DTSTART;TZID=America/Los_Angeles:20190327T100000
DTEND;TZID=America/Los_Angeles:20190327T150000
DTSTAMP:20260421T111337
CREATED:20181109T205717Z
LAST-MODIFIED:20181109T205717Z
UID:6357-1553680800-1553698800@lutherburbankartandgardencenter.com
SUMMARY:Redwood Stitchers
DESCRIPTION:
URL:http://lutherburbankartandgardencenter.com/event/redwood-stitchers-18/
LOCATION:Luther Burbank Art & Garden Center\, 2050 Yulupa Avenue\, Santa Rosa\, CA\, 95405
GEO:38.4369602;-122.6691319
X-APPLE-STRUCTURED-LOCATION;VALUE=URI;X-ADDRESS=Luther Burbank Art & Garden Center 2050 Yulupa Avenue Santa Rosa CA 95405;X-APPLE-RADIUS=500;X-TITLE=2050 Yulupa Avenue:geo:-122.6691319,38.4369602
END:VEVENT
BEGIN:VEVENT
DTSTART;TZID=America/Los_Angeles:20190324T090000
DTEND;TZID=America/Los_Angeles:20190324T150000
DTSTAMP:20260421T111337
CREATED:20190225T003817Z
LAST-MODIFIED:20190304T014215Z
UID:6716-1553418000-1553439600@lutherburbankartandgardencenter.com
SUMMARY:Memorial
DESCRIPTION:
URL:http://lutherburbankartandgardencenter.com/event/memorial-hold/
LOCATION:Luther Burbank Art & Garden Center\, 2050 Yulupa Avenue\, Santa Rosa\, CA\, 95405
CATEGORIES:Outside Rental
GEO:38.4369602;-122.6691319
X-APPLE-STRUCTURED-LOCATION;VALUE=URI;X-ADDRESS=Luther Burbank Art & Garden Center 2050 Yulupa Avenue Santa Rosa CA 95405;X-APPLE-RADIUS=500;X-TITLE=2050 Yulupa Avenue:geo:-122.6691319,38.4369602
END:VEVENT
BEGIN:VEVENT
DTSTART;TZID=America/Los_Angeles:20190323T100000
DTEND;TZID=America/Los_Angeles:20190323T230000
DTSTAMP:20260421T111337
CREATED:20190130T142625Z
LAST-MODIFIED:20190214T174227Z
UID:6634-1553335200-1553382000@lutherburbankartandgardencenter.com
SUMMARY:1st Birthday and Baptism Celebration
DESCRIPTION:Ponce & Falcon
URL:http://lutherburbankartandgardencenter.com/event/birthday-party-hold/
LOCATION:Luther Burbank Art & Garden Center\, 2050 Yulupa Avenue\, Santa Rosa\, CA\, 95405
CATEGORIES:Outside Rental
GEO:38.4369602;-122.6691319
X-APPLE-STRUCTURED-LOCATION;VALUE=URI;X-ADDRESS=Luther Burbank Art & Garden Center 2050 Yulupa Avenue Santa Rosa CA 95405;X-APPLE-RADIUS=500;X-TITLE=2050 Yulupa Avenue:geo:-122.6691319,38.4369602
END:VEVENT
BEGIN:VEVENT
DTSTART;TZID=America/Los_Angeles:20190320T150000
DTEND;TZID=America/Los_Angeles:20190320T180000
DTSTAMP:20260421T111337
CREATED:20190118T193553Z
LAST-MODIFIED:20190118T193553Z
UID:6614-1553094000-1553104800@lutherburbankartandgardencenter.com
SUMMARY:Master Gardeners Training Class Reunion
DESCRIPTION:
URL:http://lutherburbankartandgardencenter.com/event/master-gardeners-training-class-reunion/
LOCATION:Luther Burbank Art & Garden Center\, 2050 Yulupa Avenue\, Santa Rosa\, CA\, 95405
CATEGORIES:Member Club Event
GEO:38.4369602;-122.6691319
X-APPLE-STRUCTURED-LOCATION;VALUE=URI;X-ADDRESS=Luther Burbank Art & Garden Center 2050 Yulupa Avenue Santa Rosa CA 95405;X-APPLE-RADIUS=500;X-TITLE=2050 Yulupa Avenue:geo:-122.6691319,38.4369602
END:VEVENT
BEGIN:VEVENT
DTSTART;TZID=America/Los_Angeles:20190316T100000
DTEND;TZID=America/Los_Angeles:20190316T230000
DTSTAMP:20260421T111337
CREATED:20190220T001510Z
LAST-MODIFIED:20190304T012741Z
UID:6709-1552730400-1552777200@lutherburbankartandgardencenter.com
SUMMARY:Baby Shower
DESCRIPTION:  \n 
URL:http://lutherburbankartandgardencenter.com/event/baby-shower-hold/
LOCATION:Luther Burbank Art & Garden Center\, 2050 Yulupa Avenue\, Santa Rosa\, CA\, 95405
CATEGORIES:Outside Rental
GEO:38.4369602;-122.6691319
X-APPLE-STRUCTURED-LOCATION;VALUE=URI;X-ADDRESS=Luther Burbank Art & Garden Center 2050 Yulupa Avenue Santa Rosa CA 95405;X-APPLE-RADIUS=500;X-TITLE=2050 Yulupa Avenue:geo:-122.6691319,38.4369602
END:VEVENT
BEGIN:VEVENT
DTSTART;TZID=America/Los_Angeles:20190313T100000
DTEND;TZID=America/Los_Angeles:20190313T150000
DTSTAMP:20260421T111337
CREATED:20181109T205247Z
LAST-MODIFIED:20181109T205247Z
UID:6352-1552471200-1552489200@lutherburbankartandgardencenter.com
SUMMARY:Redwood Stitchers
DESCRIPTION:
URL:http://lutherburbankartandgardencenter.com/event/redwood-stitchers-16/
LOCATION:Luther Burbank Art & Garden Center\, 2050 Yulupa Avenue\, Santa Rosa\, CA\, 95405
GEO:38.4369602;-122.6691319
X-APPLE-STRUCTURED-LOCATION;VALUE=URI;X-ADDRESS=Luther Burbank Art & Garden Center 2050 Yulupa Avenue Santa Rosa CA 95405;X-APPLE-RADIUS=500;X-TITLE=2050 Yulupa Avenue:geo:-122.6691319,38.4369602
END:VEVENT
BEGIN:VEVENT
DTSTART;TZID=America/Los_Angeles:20190311T130000
DTEND;TZID=America/Los_Angeles:20190311T150000
DTSTAMP:20260421T111337
CREATED:20190307T151722Z
LAST-MODIFIED:20190307T151722Z
UID:6732-1552309200-1552316400@lutherburbankartandgardencenter.com
SUMMARY:Center: Maintenance Committee meeting
DESCRIPTION:
URL:http://lutherburbankartandgardencenter.com/event/center-maintenance-committee-meeting-4/
LOCATION:Luther Burbank Art & Garden Center\, 2050 Yulupa Avenue\, Santa Rosa\, CA\, 95405
CATEGORIES:LBA&GC
GEO:38.4369602;-122.6691319
X-APPLE-STRUCTURED-LOCATION;VALUE=URI;X-ADDRESS=Luther Burbank Art & Garden Center 2050 Yulupa Avenue Santa Rosa CA 95405;X-APPLE-RADIUS=500;X-TITLE=2050 Yulupa Avenue:geo:-122.6691319,38.4369602
END:VEVENT
BEGIN:VEVENT
DTSTART;TZID=America/Los_Angeles:20190309T100000
DTEND;TZID=America/Los_Angeles:20190309T220000
DTSTAMP:20260421T111337
CREATED:20190211T020133Z
LAST-MODIFIED:20190211T021355Z
UID:6684-1552125600-1552168800@lutherburbankartandgardencenter.com
SUMMARY:Celebration of Life
DESCRIPTION:Allan
URL:http://lutherburbankartandgardencenter.com/event/celebration-of-life-14/
LOCATION:Luther Burbank Art & Garden Center\, 2050 Yulupa Avenue\, Santa Rosa\, CA\, 95405
CATEGORIES:Outside Rental
GEO:38.4369602;-122.6691319
X-APPLE-STRUCTURED-LOCATION;VALUE=URI;X-ADDRESS=Luther Burbank Art & Garden Center 2050 Yulupa Avenue Santa Rosa CA 95405;X-APPLE-RADIUS=500;X-TITLE=2050 Yulupa Avenue:geo:-122.6691319,38.4369602
END:VEVENT
BEGIN:VEVENT
DTSTART;TZID=America/Los_Angeles:20190304T080000
DTEND;TZID=America/Los_Angeles:20190304T100000
DTSTAMP:20260421T111337
CREATED:20190225T005127Z
LAST-MODIFIED:20190228T002743Z
UID:6719-1551686400-1551693600@lutherburbankartandgardencenter.com
SUMMARY:Center -- contractor
DESCRIPTION:
URL:http://lutherburbankartandgardencenter.com/event/center-contractor-2/
LOCATION:Luther Burbank Art & Garden Center\, 2050 Yulupa Avenue\, Santa Rosa\, CA\, 95405
CATEGORIES:LBA&GC
GEO:38.4369602;-122.6691319
X-APPLE-STRUCTURED-LOCATION;VALUE=URI;X-ADDRESS=Luther Burbank Art & Garden Center 2050 Yulupa Avenue Santa Rosa CA 95405;X-APPLE-RADIUS=500;X-TITLE=2050 Yulupa Avenue:geo:-122.6691319,38.4369602
END:VEVENT
BEGIN:VEVENT
DTSTART;TZID=America/Los_Angeles:20190302T090000
DTEND;TZID=America/Los_Angeles:20190302T230000
DTSTAMP:20260421T111337
CREATED:20181025T153647Z
LAST-MODIFIED:20181025T153647Z
UID:6268-1551517200-1551567600@lutherburbankartandgardencenter.com
SUMMARY:Baptism
DESCRIPTION:10/24/2018 – Rec’d Ck #09904 – Amount of $500.00 – Ana Ochoa\, 3983 Match Point Ave.\, Santa Rosa\, CA 95407 – 707-569-6520 – Due to grandmother’s health gave her balance due date of 2/3/2019.
URL:http://lutherburbankartandgardencenter.com/event/baptism-6/
LOCATION:Luther Burbank Art & Garden Center\, 2050 Yulupa Avenue\, Santa Rosa\, CA\, 95405
GEO:38.4369602;-122.6691319
X-APPLE-STRUCTURED-LOCATION;VALUE=URI;X-ADDRESS=Luther Burbank Art & Garden Center 2050 Yulupa Avenue Santa Rosa CA 95405;X-APPLE-RADIUS=500;X-TITLE=2050 Yulupa Avenue:geo:-122.6691319,38.4369602
END:VEVENT
BEGIN:VEVENT
DTSTART;TZID=America/Los_Angeles:20190227T100000
DTEND;TZID=America/Los_Angeles:20190227T150000
DTSTAMP:20260421T111337
CREATED:20181109T205032Z
LAST-MODIFIED:20181109T205032Z
UID:6350-1551261600-1551279600@lutherburbankartandgardencenter.com
SUMMARY:Redwood Stitchers
DESCRIPTION:
URL:http://lutherburbankartandgardencenter.com/event/redwood-stitchers-15/
LOCATION:Luther Burbank Art & Garden Center\, 2050 Yulupa Avenue\, Santa Rosa\, CA\, 95405
GEO:38.4369602;-122.6691319
X-APPLE-STRUCTURED-LOCATION;VALUE=URI;X-ADDRESS=Luther Burbank Art & Garden Center 2050 Yulupa Avenue Santa Rosa CA 95405;X-APPLE-RADIUS=500;X-TITLE=2050 Yulupa Avenue:geo:-122.6691319,38.4369602
END:VEVENT
BEGIN:VEVENT
DTSTART;TZID=America/Los_Angeles:20190223T090000
DTEND;TZID=America/Los_Angeles:20190223T220000
DTSTAMP:20260421T111337
CREATED:20181017T204426Z
LAST-MODIFIED:20190115T164402Z
UID:6249-1550912400-1550959200@lutherburbankartandgardencenter.com
SUMMARY:Birthday Party
DESCRIPTION:
URL:http://lutherburbankartandgardencenter.com/event/temp-hold-8/
LOCATION:Luther Burbank Art & Garden Center\, 2050 Yulupa Avenue\, Santa Rosa\, CA\, 95405
CATEGORIES:Outside Rental
GEO:38.4369602;-122.6691319
X-APPLE-STRUCTURED-LOCATION;VALUE=URI;X-ADDRESS=Luther Burbank Art & Garden Center 2050 Yulupa Avenue Santa Rosa CA 95405;X-APPLE-RADIUS=500;X-TITLE=2050 Yulupa Avenue:geo:-122.6691319,38.4369602
END:VEVENT
BEGIN:VEVENT
DTSTART;TZID=America/Los_Angeles:20190213T100000
DTEND;TZID=America/Los_Angeles:20190213T150000
DTSTAMP:20260421T111337
CREATED:20181109T204900Z
LAST-MODIFIED:20181109T204900Z
UID:6348-1550052000-1550070000@lutherburbankartandgardencenter.com
SUMMARY:Redwood Stitchers
DESCRIPTION:
URL:http://lutherburbankartandgardencenter.com/event/redwood-stitchers-14/
LOCATION:Luther Burbank Art & Garden Center\, 2050 Yulupa Avenue\, Santa Rosa\, CA\, 95405
GEO:38.4369602;-122.6691319
X-APPLE-STRUCTURED-LOCATION;VALUE=URI;X-ADDRESS=Luther Burbank Art & Garden Center 2050 Yulupa Avenue Santa Rosa CA 95405;X-APPLE-RADIUS=500;X-TITLE=2050 Yulupa Avenue:geo:-122.6691319,38.4369602
END:VEVENT
BEGIN:VEVENT
DTSTART;TZID=America/Los_Angeles:20190211T130000
DTEND;TZID=America/Los_Angeles:20190211T150000
DTSTAMP:20260421T111337
CREATED:20190211T015806Z
LAST-MODIFIED:20190211T015806Z
UID:6682-1549890000-1549897200@lutherburbankartandgardencenter.com
SUMMARY:Center: Maintenance Committee Meeting
DESCRIPTION:
URL:http://lutherburbankartandgardencenter.com/event/center-maintenance-committee-meeting-3/
LOCATION:Luther Burbank Art & Garden Center\, 2050 Yulupa Avenue\, Santa Rosa\, CA\, 95405
CATEGORIES:LBA&GC
GEO:38.4369602;-122.6691319
X-APPLE-STRUCTURED-LOCATION;VALUE=URI;X-ADDRESS=Luther Burbank Art & Garden Center 2050 Yulupa Avenue Santa Rosa CA 95405;X-APPLE-RADIUS=500;X-TITLE=2050 Yulupa Avenue:geo:-122.6691319,38.4369602
END:VEVENT
BEGIN:VEVENT
DTSTART;TZID=America/Los_Angeles:20190210T160000
DTEND;TZID=America/Los_Angeles:20190210T220000
DTSTAMP:20260421T111337
CREATED:20181115T194635Z
LAST-MODIFIED:20181124T212633Z
UID:6393-1549814400-1549836000@lutherburbankartandgardencenter.com
SUMMARY:Birthday Party
DESCRIPTION:11/15/18 Temp Hold pending r/a and deposit for Feb 19. 707-569-6253 \n11/22/18 – Signed r/a – Waiting for check from Rosalio Gabnel\, 3520 Gravenstein Hwy.\, So.\, Sebastopol\, CA 95472
URL:http://lutherburbankartandgardencenter.com/event/temp-hold-2/
LOCATION:Luther Burbank Art & Garden Center\, 2050 Yulupa Avenue\, Santa Rosa\, CA\, 95405
GEO:38.4369602;-122.6691319
X-APPLE-STRUCTURED-LOCATION;VALUE=URI;X-ADDRESS=Luther Burbank Art & Garden Center 2050 Yulupa Avenue Santa Rosa CA 95405;X-APPLE-RADIUS=500;X-TITLE=2050 Yulupa Avenue:geo:-122.6691319,38.4369602
END:VEVENT
BEGIN:VEVENT
DTSTART;TZID=America/Los_Angeles:20190204T120000
DTEND;TZID=America/Los_Angeles:20190204T170000
DTSTAMP:20260421T111337
CREATED:20190201T190505Z
LAST-MODIFIED:20190201T190505Z
UID:6640-1549281600-1549299600@lutherburbankartandgardencenter.com
SUMMARY:Center -- Carpet Cleaning
DESCRIPTION:
URL:http://lutherburbankartandgardencenter.com/event/center-carpet-cleaning/
LOCATION:Luther Burbank Art & Garden Center\, 2050 Yulupa Avenue\, Santa Rosa\, CA\, 95405
CATEGORIES:LBA&GC
GEO:38.4369602;-122.6691319
X-APPLE-STRUCTURED-LOCATION;VALUE=URI;X-ADDRESS=Luther Burbank Art & Garden Center 2050 Yulupa Avenue Santa Rosa CA 95405;X-APPLE-RADIUS=500;X-TITLE=2050 Yulupa Avenue:geo:-122.6691319,38.4369602
END:VEVENT
BEGIN:VEVENT
DTSTART;TZID=America/Los_Angeles:20190131T080000
DTEND;TZID=America/Los_Angeles:20190131T160000
DTSTAMP:20260421T111337
CREATED:20181101T161624Z
LAST-MODIFIED:20181101T161624Z
UID:6278-1548921600-1548950400@lutherburbankartandgardencenter.com
SUMMARY:SR Quilt Guild
DESCRIPTION:
URL:http://lutherburbankartandgardencenter.com/event/sr-quilt-guild-4/
LOCATION:Luther Burbank Art & Garden Center\, 2050 Yulupa Avenue\, Santa Rosa\, CA\, 95405
CATEGORIES:Member Club Event
GEO:38.4369602;-122.6691319
X-APPLE-STRUCTURED-LOCATION;VALUE=URI;X-ADDRESS=Luther Burbank Art & Garden Center 2050 Yulupa Avenue Santa Rosa CA 95405;X-APPLE-RADIUS=500;X-TITLE=2050 Yulupa Avenue:geo:-122.6691319,38.4369602
END:VEVENT
BEGIN:VEVENT
DTSTART;TZID=America/Los_Angeles:20190130T080000
DTEND;TZID=America/Los_Angeles:20190130T170000
DTSTAMP:20260421T111337
CREATED:20190117T235508Z
LAST-MODIFIED:20190118T001600Z
UID:6610-1548835200-1548867600@lutherburbankartandgardencenter.com
SUMMARY:Center -- Electrician
DESCRIPTION:
URL:http://lutherburbankartandgardencenter.com/event/center-electrician-2/
LOCATION:Luther Burbank Art & Garden Center\, 2050 Yulupa Avenue\, Santa Rosa\, CA\, 95405
CATEGORIES:LBA&GC
GEO:38.4369602;-122.6691319
X-APPLE-STRUCTURED-LOCATION;VALUE=URI;X-ADDRESS=Luther Burbank Art & Garden Center 2050 Yulupa Avenue Santa Rosa CA 95405;X-APPLE-RADIUS=500;X-TITLE=2050 Yulupa Avenue:geo:-122.6691319,38.4369602
END:VEVENT
END:VCALENDAR