BEGIN:VCALENDAR
VERSION:2.0
PRODID:-//Luther Burbank Art and Garden Center - ECPv6.8.2.1//NONSGML v1.0//EN
CALSCALE:GREGORIAN
METHOD:PUBLISH
X-ORIGINAL-URL:http://lutherburbankartandgardencenter.com
X-WR-CALDESC:Events for Luther Burbank Art and Garden Center
REFRESH-INTERVAL;VALUE=DURATION:PT1H
X-Robots-Tag:noindex
X-PUBLISHED-TTL:PT1H
BEGIN:VTIMEZONE
TZID:America/Los_Angeles
BEGIN:DAYLIGHT
TZOFFSETFROM:-0800
TZOFFSETTO:-0700
TZNAME:PDT
DTSTART:20190310T100000
END:DAYLIGHT
BEGIN:STANDARD
TZOFFSETFROM:-0700
TZOFFSETTO:-0800
TZNAME:PST
DTSTART:20191103T090000
END:STANDARD
TZID:America/Los_Angeles
BEGIN:DAYLIGHT
TZOFFSETFROM:-0800
TZOFFSETTO:-0700
TZNAME:PDT
DTSTART:20190310T100000
END:DAYLIGHT
BEGIN:STANDARD
TZOFFSETFROM:-0700
TZOFFSETTO:-0800
TZNAME:PST
DTSTART:20191103T090000
END:STANDARD
END:VTIMEZONE
BEGIN:VEVENT
DTSTART;TZID=America/Los_Angeles:20190628T160000
DTEND;TZID=America/Los_Angeles:20190628T220000
DTSTAMP:20260421T061931
CREATED:20190618T004846Z
LAST-MODIFIED:20190620T140008Z
UID:6965-1561737600-1561759200@lutherburbankartandgardencenter.com
SUMMARY:Family Reunion Dinner Party
DESCRIPTION:Lydia Aguayo
URL:http://lutherburbankartandgardencenter.com/event/family-reunion-dinner-party/
LOCATION:Luther Burbank Art & Garden Center\, 2050 Yulupa Avenue\, Santa Rosa\, CA\, 95405
CATEGORIES:Outside Rental
GEO:38.4369602;-122.6691319
X-APPLE-STRUCTURED-LOCATION;VALUE=URI;X-ADDRESS=Luther Burbank Art & Garden Center 2050 Yulupa Avenue Santa Rosa CA 95405;X-APPLE-RADIUS=500;X-TITLE=2050 Yulupa Avenue:geo:-122.6691319,38.4369602
END:VEVENT
BEGIN:VEVENT
DTSTART;TZID=America/Los_Angeles:20190626T100000
DTEND;TZID=America/Los_Angeles:20190626T150000
DTSTAMP:20260421T061931
CREATED:20181109T211019Z
LAST-MODIFIED:20181109T211019Z
UID:6367-1561543200-1561561200@lutherburbankartandgardencenter.com
SUMMARY:Redwood Stitchers
DESCRIPTION:
URL:http://lutherburbankartandgardencenter.com/event/redwood-stitchers-23/
LOCATION:Luther Burbank Art & Garden Center\, 2050 Yulupa Avenue\, Santa Rosa\, CA\, 95405
GEO:38.4369602;-122.6691319
X-APPLE-STRUCTURED-LOCATION;VALUE=URI;X-ADDRESS=Luther Burbank Art & Garden Center 2050 Yulupa Avenue Santa Rosa CA 95405;X-APPLE-RADIUS=500;X-TITLE=2050 Yulupa Avenue:geo:-122.6691319,38.4369602
END:VEVENT
BEGIN:VEVENT
DTSTART;TZID=America/Los_Angeles:20190622T120000
DTEND;TZID=America/Los_Angeles:20190622T230000
DTSTAMP:20260421T061931
CREATED:20190423T154058Z
LAST-MODIFIED:20190622T151951Z
UID:6859-1561204800-1561244400@lutherburbankartandgardencenter.com
SUMMARY:Birthday and Baptism
DESCRIPTION:Maria Garcia
URL:http://lutherburbankartandgardencenter.com/event/birthday-and-baptism/
LOCATION:Luther Burbank Art & Garden Center\, 2050 Yulupa Avenue\, Santa Rosa\, CA\, 95405
CATEGORIES:Outside Rental
GEO:38.4369602;-122.6691319
X-APPLE-STRUCTURED-LOCATION;VALUE=URI;X-ADDRESS=Luther Burbank Art & Garden Center 2050 Yulupa Avenue Santa Rosa CA 95405;X-APPLE-RADIUS=500;X-TITLE=2050 Yulupa Avenue:geo:-122.6691319,38.4369602
END:VEVENT
BEGIN:VEVENT
DTSTART;TZID=America/Los_Angeles:20190617T083000
DTEND;TZID=America/Los_Angeles:20190617T160000
DTSTAMP:20260421T061931
CREATED:20190526T183555Z
LAST-MODIFIED:20190615T202914Z
UID:6932-1560760200-1560787200@lutherburbankartandgardencenter.com
SUMMARY:Center: Contractor repair work
DESCRIPTION:
URL:http://lutherburbankartandgardencenter.com/event/center-contractor-repair-work/
LOCATION:Luther Burbank Art & Garden Center\, 2050 Yulupa Avenue\, Santa Rosa\, CA\, 95405
CATEGORIES:LBA&GC
GEO:38.4369602;-122.6691319
X-APPLE-STRUCTURED-LOCATION;VALUE=URI;X-ADDRESS=Luther Burbank Art & Garden Center 2050 Yulupa Avenue Santa Rosa CA 95405;X-APPLE-RADIUS=500;X-TITLE=2050 Yulupa Avenue:geo:-122.6691319,38.4369602
END:VEVENT
BEGIN:VEVENT
DTSTART;TZID=America/Los_Angeles:20190615T100000
DTEND;TZID=America/Los_Angeles:20190615T233000
DTSTAMP:20260421T061931
CREATED:20190312T181239Z
LAST-MODIFIED:20190319T180903Z
UID:6740-1560592800-1560641400@lutherburbankartandgardencenter.com
SUMMARY:Birthday Party
DESCRIPTION:
URL:http://lutherburbankartandgardencenter.com/event/birthday-party-temp-hold/
LOCATION:Luther Burbank Art & Garden Center\, 2050 Yulupa Avenue\, Santa Rosa\, CA\, 95405
CATEGORIES:Outside Rental
GEO:38.4369602;-122.6691319
X-APPLE-STRUCTURED-LOCATION;VALUE=URI;X-ADDRESS=Luther Burbank Art & Garden Center 2050 Yulupa Avenue Santa Rosa CA 95405;X-APPLE-RADIUS=500;X-TITLE=2050 Yulupa Avenue:geo:-122.6691319,38.4369602
END:VEVENT
BEGIN:VEVENT
DTSTART;TZID=America/Los_Angeles:20190612T100000
DTEND;TZID=America/Los_Angeles:20190612T150000
DTSTAMP:20260421T061931
CREATED:20181109T210846Z
LAST-MODIFIED:20181109T210846Z
UID:6365-1560333600-1560351600@lutherburbankartandgardencenter.com
SUMMARY:Redwood Stitchers
DESCRIPTION:
URL:http://lutherburbankartandgardencenter.com/event/redwood-stitchers-22/
LOCATION:Luther Burbank Art & Garden Center\, 2050 Yulupa Avenue\, Santa Rosa\, CA\, 95405
GEO:38.4369602;-122.6691319
X-APPLE-STRUCTURED-LOCATION;VALUE=URI;X-ADDRESS=Luther Burbank Art & Garden Center 2050 Yulupa Avenue Santa Rosa CA 95405;X-APPLE-RADIUS=500;X-TITLE=2050 Yulupa Avenue:geo:-122.6691319,38.4369602
END:VEVENT
BEGIN:VEVENT
DTSTART;TZID=America/Los_Angeles:20190611T083000
DTEND;TZID=America/Los_Angeles:20190611T160000
DTSTAMP:20260421T061931
CREATED:20190526T183639Z
LAST-MODIFIED:20190526T183639Z
UID:6934-1560241800-1560268800@lutherburbankartandgardencenter.com
SUMMARY:Center: Contractor repair work
DESCRIPTION:
URL:http://lutherburbankartandgardencenter.com/event/center-contractor-repair-work-2/
LOCATION:Luther Burbank Art & Garden Center\, 2050 Yulupa Avenue\, Santa Rosa\, CA\, 95405
CATEGORIES:LBA&GC
GEO:38.4369602;-122.6691319
X-APPLE-STRUCTURED-LOCATION;VALUE=URI;X-ADDRESS=Luther Burbank Art & Garden Center 2050 Yulupa Avenue Santa Rosa CA 95405;X-APPLE-RADIUS=500;X-TITLE=2050 Yulupa Avenue:geo:-122.6691319,38.4369602
END:VEVENT
BEGIN:VEVENT
DTSTART;TZID=America/Los_Angeles:20190608T100000
DTEND;TZID=America/Los_Angeles:20190608T230000
DTSTAMP:20260421T061931
CREATED:20190214T232604Z
LAST-MODIFIED:20190225T010146Z
UID:6697-1559988000-1560034800@lutherburbankartandgardencenter.com
SUMMARY:Birthday Party
DESCRIPTION:Reyes
URL:http://lutherburbankartandgardencenter.com/event/birthday-party-hold-2/
LOCATION:Luther Burbank Art & Garden Center\, 2050 Yulupa Avenue\, Santa Rosa\, CA\, 95405
CATEGORIES:Outside Rental
GEO:38.4369602;-122.6691319
X-APPLE-STRUCTURED-LOCATION;VALUE=URI;X-ADDRESS=Luther Burbank Art & Garden Center 2050 Yulupa Avenue Santa Rosa CA 95405;X-APPLE-RADIUS=500;X-TITLE=2050 Yulupa Avenue:geo:-122.6691319,38.4369602
END:VEVENT
BEGIN:VEVENT
DTSTART;TZID=America/Los_Angeles:20190607T160000
DTEND;TZID=America/Los_Angeles:20190607T220000
DTSTAMP:20260421T061931
CREATED:20190404T040653Z
LAST-MODIFIED:20190423T161601Z
UID:6832-1559923200-1559944800@lutherburbankartandgardencenter.com
SUMMARY:Graduation
DESCRIPTION:
URL:http://lutherburbankartandgardencenter.com/event/graduation/
LOCATION:Luther Burbank Art & Garden Center\, 2050 Yulupa Avenue\, Santa Rosa\, CA\, 95405
CATEGORIES:Outside Rental
GEO:38.4369602;-122.6691319
X-APPLE-STRUCTURED-LOCATION;VALUE=URI;X-ADDRESS=Luther Burbank Art & Garden Center 2050 Yulupa Avenue Santa Rosa CA 95405;X-APPLE-RADIUS=500;X-TITLE=2050 Yulupa Avenue:geo:-122.6691319,38.4369602
END:VEVENT
BEGIN:VEVENT
DTSTART;TZID=America/Los_Angeles:20190602T090000
DTEND;TZID=America/Los_Angeles:20190602T150000
DTSTAMP:20260421T061931
CREATED:20190328T220130Z
LAST-MODIFIED:20190411T174132Z
UID:6820-1559466000-1559487600@lutherburbankartandgardencenter.com
SUMMARY:Fundraiser
DESCRIPTION:
URL:http://lutherburbankartandgardencenter.com/event/fundraiser/
LOCATION:Luther Burbank Art & Garden Center\, 2050 Yulupa Avenue\, Santa Rosa\, CA\, 95405
CATEGORIES:Outside Rental
GEO:38.4369602;-122.6691319
X-APPLE-STRUCTURED-LOCATION;VALUE=URI;X-ADDRESS=Luther Burbank Art & Garden Center 2050 Yulupa Avenue Santa Rosa CA 95405;X-APPLE-RADIUS=500;X-TITLE=2050 Yulupa Avenue:geo:-122.6691319,38.4369602
END:VEVENT
BEGIN:VEVENT
DTSTART;TZID=America/Los_Angeles:20190601T100000
DTEND;TZID=America/Los_Angeles:20190601T230000
DTSTAMP:20260421T061931
CREATED:20190405T222932Z
LAST-MODIFIED:20190405T222932Z
UID:6834-1559383200-1559430000@lutherburbankartandgardencenter.com
SUMMARY:Baptism Celebration
DESCRIPTION:
URL:http://lutherburbankartandgardencenter.com/event/baptism-celebration/
LOCATION:Luther Burbank Art & Garden Center\, 2050 Yulupa Avenue\, Santa Rosa\, CA\, 95405
CATEGORIES:Outside Rental
GEO:38.4369602;-122.6691319
X-APPLE-STRUCTURED-LOCATION;VALUE=URI;X-ADDRESS=Luther Burbank Art & Garden Center 2050 Yulupa Avenue Santa Rosa CA 95405;X-APPLE-RADIUS=500;X-TITLE=2050 Yulupa Avenue:geo:-122.6691319,38.4369602
END:VEVENT
BEGIN:VEVENT
DTSTART;TZID=America/Los_Angeles:20190530T080000
DTEND;TZID=America/Los_Angeles:20190530T160000
DTSTAMP:20260421T061931
CREATED:20181101T161751Z
LAST-MODIFIED:20181101T161751Z
UID:6280-1559203200-1559232000@lutherburbankartandgardencenter.com
SUMMARY:SR Quilt Guild
DESCRIPTION:
URL:http://lutherburbankartandgardencenter.com/event/sr-quilt-guild-5/
LOCATION:Luther Burbank Art & Garden Center\, 2050 Yulupa Avenue\, Santa Rosa\, CA\, 95405
CATEGORIES:Member Club Event
GEO:38.4369602;-122.6691319
X-APPLE-STRUCTURED-LOCATION;VALUE=URI;X-ADDRESS=Luther Burbank Art & Garden Center 2050 Yulupa Avenue Santa Rosa CA 95405;X-APPLE-RADIUS=500;X-TITLE=2050 Yulupa Avenue:geo:-122.6691319,38.4369602
END:VEVENT
BEGIN:VEVENT
DTSTART;TZID=America/Los_Angeles:20190529T083000
DTEND;TZID=America/Los_Angeles:20190529T160000
DTSTAMP:20260421T061931
CREATED:20190114T163840Z
LAST-MODIFIED:20190114T163840Z
UID:6596-1559118600-1559145600@lutherburbankartandgardencenter.com
SUMMARY:Pointless Sisters workshop--Pati Fried
DESCRIPTION:
URL:http://lutherburbankartandgardencenter.com/event/pointless-sisters-workshop-pati-fried/
LOCATION:Luther Burbank Art & Garden Center\, 2050 Yulupa Avenue\, Santa Rosa\, CA\, 95405
CATEGORIES:Member Club Event
GEO:38.4369602;-122.6691319
X-APPLE-STRUCTURED-LOCATION;VALUE=URI;X-ADDRESS=Luther Burbank Art & Garden Center 2050 Yulupa Avenue Santa Rosa CA 95405;X-APPLE-RADIUS=500;X-TITLE=2050 Yulupa Avenue:geo:-122.6691319,38.4369602
END:VEVENT
BEGIN:VEVENT
DTSTART;TZID=America/Los_Angeles:20190526T160000
DTEND;TZID=America/Los_Angeles:20190526T220000
DTSTAMP:20260421T061931
CREATED:20190520T155009Z
LAST-MODIFIED:20190522T040427Z
UID:6895-1558886400-1558908000@lutherburbankartandgardencenter.com
SUMMARY:Wedding Reception
DESCRIPTION:Sweeney
URL:http://lutherburbankartandgardencenter.com/event/wedding-reception/
LOCATION:Luther Burbank Art & Garden Center\, 2050 Yulupa Avenue\, Santa Rosa\, CA\, 95405
CATEGORIES:Outside Rental
GEO:38.4369602;-122.6691319
X-APPLE-STRUCTURED-LOCATION;VALUE=URI;X-ADDRESS=Luther Burbank Art & Garden Center 2050 Yulupa Avenue Santa Rosa CA 95405;X-APPLE-RADIUS=500;X-TITLE=2050 Yulupa Avenue:geo:-122.6691319,38.4369602
END:VEVENT
BEGIN:VEVENT
DTSTART;TZID=America/Los_Angeles:20190525T100000
DTEND;TZID=America/Los_Angeles:20190525T233000
DTSTAMP:20260421T061931
CREATED:20190312T180954Z
LAST-MODIFIED:20190319T181012Z
UID:6738-1558778400-1558827000@lutherburbankartandgardencenter.com
SUMMARY:Quinceanera
DESCRIPTION:
URL:http://lutherburbankartandgardencenter.com/event/quinceanera-temp-hold/
LOCATION:Luther Burbank Art & Garden Center\, 2050 Yulupa Avenue\, Santa Rosa\, CA\, 95405
CATEGORIES:Outside Rental
GEO:38.4369602;-122.6691319
X-APPLE-STRUCTURED-LOCATION;VALUE=URI;X-ADDRESS=Luther Burbank Art & Garden Center 2050 Yulupa Avenue Santa Rosa CA 95405;X-APPLE-RADIUS=500;X-TITLE=2050 Yulupa Avenue:geo:-122.6691319,38.4369602
END:VEVENT
BEGIN:VEVENT
DTSTART;TZID=America/Los_Angeles:20190522T100000
DTEND;TZID=America/Los_Angeles:20190522T150000
DTSTAMP:20260421T061931
CREATED:20181109T210430Z
LAST-MODIFIED:20181109T210700Z
UID:6363-1558519200-1558537200@lutherburbankartandgardencenter.com
SUMMARY:Redwood Stitchers
DESCRIPTION:
URL:http://lutherburbankartandgardencenter.com/event/redwood-stitchers-21/
LOCATION:Luther Burbank Art & Garden Center\, 2050 Yulupa Avenue\, Santa Rosa\, CA\, 95405
GEO:38.4369602;-122.6691319
X-APPLE-STRUCTURED-LOCATION;VALUE=URI;X-ADDRESS=Luther Burbank Art & Garden Center 2050 Yulupa Avenue Santa Rosa CA 95405;X-APPLE-RADIUS=500;X-TITLE=2050 Yulupa Avenue:geo:-122.6691319,38.4369602
END:VEVENT
BEGIN:VEVENT
DTSTART;TZID=America/Los_Angeles:20190519T100000
DTEND;TZID=America/Los_Angeles:20190519T230000
DTSTAMP:20260421T061931
CREATED:20190328T224622Z
LAST-MODIFIED:20190416T004529Z
UID:6824-1558260000-1558306800@lutherburbankartandgardencenter.com
SUMMARY:Baby Shower
DESCRIPTION:
URL:http://lutherburbankartandgardencenter.com/event/celebration/
LOCATION:Luther Burbank Art & Garden Center\, 2050 Yulupa Avenue\, Santa Rosa\, CA\, 95405
CATEGORIES:Outside Rental
GEO:38.4369602;-122.6691319
X-APPLE-STRUCTURED-LOCATION;VALUE=URI;X-ADDRESS=Luther Burbank Art & Garden Center 2050 Yulupa Avenue Santa Rosa CA 95405;X-APPLE-RADIUS=500;X-TITLE=2050 Yulupa Avenue:geo:-122.6691319,38.4369602
END:VEVENT
BEGIN:VEVENT
DTSTART;TZID=America/Los_Angeles:20190518T100000
DTEND;TZID=America/Los_Angeles:20190518T230000
DTSTAMP:20260421T061931
CREATED:20190214T173315Z
LAST-MODIFIED:20190214T173315Z
UID:6692-1558173600-1558220400@lutherburbankartandgardencenter.com
SUMMARY:First Communion
DESCRIPTION:Quiutana
URL:http://lutherburbankartandgardencenter.com/event/first-communion/
LOCATION:Luther Burbank Art & Garden Center\, 2050 Yulupa Avenue\, Santa Rosa\, CA\, 95405
CATEGORIES:Outside Rental
GEO:38.4369602;-122.6691319
X-APPLE-STRUCTURED-LOCATION;VALUE=URI;X-ADDRESS=Luther Burbank Art & Garden Center 2050 Yulupa Avenue Santa Rosa CA 95405;X-APPLE-RADIUS=500;X-TITLE=2050 Yulupa Avenue:geo:-122.6691319,38.4369602
END:VEVENT
BEGIN:VEVENT
DTSTART;TZID=America/Los_Angeles:20190514T090000
DTEND;TZID=America/Los_Angeles:20190514T140000
DTSTAMP:20260421T061931
CREATED:20190320T180754Z
LAST-MODIFIED:20190320T181043Z
UID:6803-1557824400-1557842400@lutherburbankartandgardencenter.com
SUMMARY:Men's Garden Club Luncheon
DESCRIPTION:
URL:http://lutherburbankartandgardencenter.com/event/mens-garden-club-luncheon/
LOCATION:Luther Burbank Art & Garden Center\, 2050 Yulupa Avenue\, Santa Rosa\, CA\, 95405
CATEGORIES:Member Club Event
GEO:38.4369602;-122.6691319
X-APPLE-STRUCTURED-LOCATION;VALUE=URI;X-ADDRESS=Luther Burbank Art & Garden Center 2050 Yulupa Avenue Santa Rosa CA 95405;X-APPLE-RADIUS=500;X-TITLE=2050 Yulupa Avenue:geo:-122.6691319,38.4369602
END:VEVENT
BEGIN:VEVENT
DTSTART;TZID=America/Los_Angeles:20190513T130000
DTEND;TZID=America/Los_Angeles:20190513T150000
DTSTAMP:20260421T061931
CREATED:20190501T141438Z
LAST-MODIFIED:20190501T141438Z
UID:6869-1557752400-1557759600@lutherburbankartandgardencenter.com
SUMMARY:Center: Maintenance Committee Meeting
DESCRIPTION:
URL:http://lutherburbankartandgardencenter.com/event/center-maintenance-committee-meeting-6/
LOCATION:Luther Burbank Art & Garden Center\, 2050 Yulupa Avenue\, Santa Rosa\, CA\, 95405
CATEGORIES:LBA&GC
GEO:38.4369602;-122.6691319
X-APPLE-STRUCTURED-LOCATION;VALUE=URI;X-ADDRESS=Luther Burbank Art & Garden Center 2050 Yulupa Avenue Santa Rosa CA 95405;X-APPLE-RADIUS=500;X-TITLE=2050 Yulupa Avenue:geo:-122.6691319,38.4369602
END:VEVENT
BEGIN:VEVENT
DTSTART;TZID=America/Los_Angeles:20190511T100000
DTEND;TZID=America/Los_Angeles:20190511T230000
DTSTAMP:20260421T061931
CREATED:20190214T174017Z
LAST-MODIFIED:20190219T191945Z
UID:6694-1557568800-1557615600@lutherburbankartandgardencenter.com
SUMMARY:1st Birthday and Baptism Celebration
DESCRIPTION:Ordaz
URL:http://lutherburbankartandgardencenter.com/event/1st-birthday-and-baptism-celebration-hold/
LOCATION:Luther Burbank Art & Garden Center\, 2050 Yulupa Avenue\, Santa Rosa\, CA\, 95405
CATEGORIES:Outside Rental
GEO:38.4369602;-122.6691319
X-APPLE-STRUCTURED-LOCATION;VALUE=URI;X-ADDRESS=Luther Burbank Art & Garden Center 2050 Yulupa Avenue Santa Rosa CA 95405;X-APPLE-RADIUS=500;X-TITLE=2050 Yulupa Avenue:geo:-122.6691319,38.4369602
END:VEVENT
BEGIN:VEVENT
DTSTART;TZID=America/Los_Angeles:20190508T100000
DTEND;TZID=America/Los_Angeles:20190508T150000
DTSTAMP:20260421T061931
CREATED:20181109T210326Z
LAST-MODIFIED:20181109T210326Z
UID:6361-1557309600-1557327600@lutherburbankartandgardencenter.com
SUMMARY:Redwood Stitchers
DESCRIPTION:
URL:http://lutherburbankartandgardencenter.com/event/redwood-stitchers-20/
LOCATION:Luther Burbank Art & Garden Center\, 2050 Yulupa Avenue\, Santa Rosa\, CA\, 95405
GEO:38.4369602;-122.6691319
X-APPLE-STRUCTURED-LOCATION;VALUE=URI;X-ADDRESS=Luther Burbank Art & Garden Center 2050 Yulupa Avenue Santa Rosa CA 95405;X-APPLE-RADIUS=500;X-TITLE=2050 Yulupa Avenue:geo:-122.6691319,38.4369602
END:VEVENT
BEGIN:VEVENT
DTSTART;TZID=America/Los_Angeles:20190506T160000
DTEND;TZID=America/Los_Angeles:20190506T220000
DTSTAMP:20260421T061931
CREATED:20190328T220306Z
LAST-MODIFIED:20190511T211736Z
UID:6822-1557158400-1557180000@lutherburbankartandgardencenter.com
SUMMARY:Women's Educational Seminar
DESCRIPTION:
URL:http://lutherburbankartandgardencenter.com/event/retreat/
LOCATION:Luther Burbank Art & Garden Center\, 2050 Yulupa Avenue\, Santa Rosa\, CA\, 95405
CATEGORIES:Outside Rental
GEO:38.4369602;-122.6691319
X-APPLE-STRUCTURED-LOCATION;VALUE=URI;X-ADDRESS=Luther Burbank Art & Garden Center 2050 Yulupa Avenue Santa Rosa CA 95405;X-APPLE-RADIUS=500;X-TITLE=2050 Yulupa Avenue:geo:-122.6691319,38.4369602
END:VEVENT
BEGIN:VEVENT
DTSTART;TZID=America/Los_Angeles:20190504T080000
DTEND;TZID=America/Los_Angeles:20190504T170000
DTSTAMP:20260421T061931
CREATED:20181116T232119Z
LAST-MODIFIED:20181116T233429Z
UID:6397-1556956800-1556989200@lutherburbankartandgardencenter.com
SUMMARY:Redwood Empire Rose Society Annual Rose Show
DESCRIPTION:
URL:http://lutherburbankartandgardencenter.com/event/redwood-empire-rose-society-annual-rose-show/
LOCATION:Luther Burbank Art & Garden Center\, 2050 Yulupa Avenue\, Santa Rosa\, CA\, 95405
CATEGORIES:Member Club Event
GEO:38.4369602;-122.6691319
X-APPLE-STRUCTURED-LOCATION;VALUE=URI;X-ADDRESS=Luther Burbank Art & Garden Center 2050 Yulupa Avenue Santa Rosa CA 95405;X-APPLE-RADIUS=500;X-TITLE=2050 Yulupa Avenue:geo:-122.6691319,38.4369602
END:VEVENT
BEGIN:VEVENT
DTSTART;TZID=America/Los_Angeles:20190503T163000
DTEND;TZID=America/Los_Angeles:20190503T193000
DTSTAMP:20260421T061931
CREATED:20181129T171625Z
LAST-MODIFIED:20181129T171625Z
UID:6414-1556901000-1556911800@lutherburbankartandgardencenter.com
SUMMARY:Redwood Empire Rose Society show setup
DESCRIPTION:
URL:http://lutherburbankartandgardencenter.com/event/redwood-empire-rose-society-show-setup/
LOCATION:Luther Burbank Art & Garden Center\, 2050 Yulupa Avenue\, Santa Rosa\, CA\, 95405
CATEGORIES:Member Club Event
GEO:38.4369602;-122.6691319
X-APPLE-STRUCTURED-LOCATION;VALUE=URI;X-ADDRESS=Luther Burbank Art & Garden Center 2050 Yulupa Avenue Santa Rosa CA 95405;X-APPLE-RADIUS=500;X-TITLE=2050 Yulupa Avenue:geo:-122.6691319,38.4369602
END:VEVENT
BEGIN:VEVENT
DTSTART;TZID=America/Los_Angeles:20190430T170000
DTEND;TZID=America/Los_Angeles:20190430T210000
DTSTAMP:20260421T061931
CREATED:20190320T160611Z
LAST-MODIFIED:20190320T160611Z
UID:6797-1556643600-1556658000@lutherburbankartandgardencenter.com
SUMMARY:Men's Garden Club
DESCRIPTION:
URL:http://lutherburbankartandgardencenter.com/event/mens-garden-club-2/
LOCATION:Luther Burbank Art & Garden Center\, 2050 Yulupa Avenue\, Santa Rosa\, CA\, 95405
CATEGORIES:Member Club Event
GEO:38.4369602;-122.6691319
X-APPLE-STRUCTURED-LOCATION;VALUE=URI;X-ADDRESS=Luther Burbank Art & Garden Center 2050 Yulupa Avenue Santa Rosa CA 95405;X-APPLE-RADIUS=500;X-TITLE=2050 Yulupa Avenue:geo:-122.6691319,38.4369602
END:VEVENT
BEGIN:VEVENT
DTSTART;TZID=America/Los_Angeles:20190426T080000
DTEND;TZID=America/Los_Angeles:20190427T170000
DTSTAMP:20260421T061931
CREATED:20180701T164049Z
LAST-MODIFIED:20180701T164049Z
UID:6014-1556265600-1556384400@lutherburbankartandgardencenter.com
SUMMARY:SRGC Plant Sale
DESCRIPTION:
URL:http://lutherburbankartandgardencenter.com/event/srgc-plant-sale-2/
LOCATION:Luther Burbank Art & Garden Center\, 2050 Yulupa Avenue\, Santa Rosa\, CA\, 95405
CATEGORIES:Member Club Event
ORGANIZER;CN="Madeline Welsh":MAILTO:madelinewelsh@yahoo.com
GEO:38.4369602;-122.6691319
X-APPLE-STRUCTURED-LOCATION;VALUE=URI;X-ADDRESS=Luther Burbank Art & Garden Center 2050 Yulupa Avenue Santa Rosa CA 95405;X-APPLE-RADIUS=500;X-TITLE=2050 Yulupa Avenue:geo:-122.6691319,38.4369602
END:VEVENT
BEGIN:VEVENT
DTSTART;TZID=America/Los_Angeles:20190424T100000
DTEND;TZID=America/Los_Angeles:20190424T150000
DTSTAMP:20260421T061931
CREATED:20181109T210001Z
LAST-MODIFIED:20181109T210001Z
UID:6359-1556100000-1556118000@lutherburbankartandgardencenter.com
SUMMARY:Redwood Stitchers
DESCRIPTION:
URL:http://lutherburbankartandgardencenter.com/event/redwood-stitchers-19/
LOCATION:Luther Burbank Art & Garden Center\, 2050 Yulupa Avenue\, Santa Rosa\, CA\, 95405
GEO:38.4369602;-122.6691319
X-APPLE-STRUCTURED-LOCATION;VALUE=URI;X-ADDRESS=Luther Burbank Art & Garden Center 2050 Yulupa Avenue Santa Rosa CA 95405;X-APPLE-RADIUS=500;X-TITLE=2050 Yulupa Avenue:geo:-122.6691319,38.4369602
END:VEVENT
BEGIN:VEVENT
DTSTART;TZID=America/Los_Angeles:20190420T100000
DTEND;TZID=America/Los_Angeles:20190420T230000
DTSTAMP:20260421T061931
CREATED:20190219T183356Z
LAST-MODIFIED:20190219T183356Z
UID:6703-1555754400-1555801200@lutherburbankartandgardencenter.com
SUMMARY:Wedding
DESCRIPTION:Betzabe Rosas Diaz\, 3309 Santa Rosa Ave\, Spc#57\, Santa Rosa\, CA  95407 \n707-774-3615 \nDeposit 2.18 $450 \nBalance Due 2/22 $1\,000.  She’ll drop off check in mailbox on Thursday.
URL:http://lutherburbankartandgardencenter.com/event/wedding-6/
LOCATION:Luther Burbank Art & Garden Center\, 2050 Yulupa Avenue\, Santa Rosa\, CA\, 95405
CATEGORIES:Outside Rental
GEO:38.4369602;-122.6691319
X-APPLE-STRUCTURED-LOCATION;VALUE=URI;X-ADDRESS=Luther Burbank Art & Garden Center 2050 Yulupa Avenue Santa Rosa CA 95405;X-APPLE-RADIUS=500;X-TITLE=2050 Yulupa Avenue:geo:-122.6691319,38.4369602
END:VEVENT
BEGIN:VEVENT
DTSTART;TZID=America/Los_Angeles:20190415T130000
DTEND;TZID=America/Los_Angeles:20190415T160000
DTSTAMP:20260421T061931
CREATED:20190409T040458Z
LAST-MODIFIED:20190409T040458Z
UID:6838-1555333200-1555344000@lutherburbankartandgardencenter.com
SUMMARY:Installation L Simonds Plaque
DESCRIPTION:
URL:http://lutherburbankartandgardencenter.com/event/installation-l-simonds-plaque/
LOCATION:Luther Burbank Art & Garden Center\, 2050 Yulupa Avenue\, Santa Rosa\, CA\, 95405
CATEGORIES:LBA&GC
GEO:38.4369602;-122.6691319
X-APPLE-STRUCTURED-LOCATION;VALUE=URI;X-ADDRESS=Luther Burbank Art & Garden Center 2050 Yulupa Avenue Santa Rosa CA 95405;X-APPLE-RADIUS=500;X-TITLE=2050 Yulupa Avenue:geo:-122.6691319,38.4369602
END:VEVENT
END:VCALENDAR