BEGIN:VCALENDAR
VERSION:2.0
PRODID:-//Luther Burbank Art and Garden Center - ECPv6.8.2.1//NONSGML v1.0//EN
CALSCALE:GREGORIAN
METHOD:PUBLISH
X-ORIGINAL-URL:http://lutherburbankartandgardencenter.com
X-WR-CALDESC:Events for Luther Burbank Art and Garden Center
REFRESH-INTERVAL;VALUE=DURATION:PT1H
X-Robots-Tag:noindex
X-PUBLISHED-TTL:PT1H
BEGIN:VTIMEZONE
TZID:America/Los_Angeles
BEGIN:DAYLIGHT
TZOFFSETFROM:-0800
TZOFFSETTO:-0700
TZNAME:PDT
DTSTART:20190310T100000
END:DAYLIGHT
BEGIN:STANDARD
TZOFFSETFROM:-0700
TZOFFSETTO:-0800
TZNAME:PST
DTSTART:20191103T090000
END:STANDARD
END:VTIMEZONE
BEGIN:VEVENT
DTSTART;TZID=America/Los_Angeles:20191109T120000
DTEND;TZID=America/Los_Angeles:20191109T230000
DTSTAMP:20260420T210829
CREATED:20190919T184947Z
LAST-MODIFIED:20191107T233137Z
UID:7238-1573300800-1573340400@lutherburbankartandgardencenter.com
SUMMARY:Baby Shower
DESCRIPTION:Blanca Villalva
URL:http://lutherburbankartandgardencenter.com/event/shower/
LOCATION:Luther Burbank Art & Garden Center\, 2050 Yulupa Avenue\, Santa Rosa\, CA\, 95405
CATEGORIES:Outside Rental
GEO:38.4369602;-122.6691319
X-APPLE-STRUCTURED-LOCATION;VALUE=URI;X-ADDRESS=Luther Burbank Art & Garden Center 2050 Yulupa Avenue Santa Rosa CA 95405;X-APPLE-RADIUS=500;X-TITLE=2050 Yulupa Avenue:geo:-122.6691319,38.4369602
END:VEVENT
BEGIN:VEVENT
DTSTART;TZID=America/Los_Angeles:20191109T090000
DTEND;TZID=America/Los_Angeles:20191109T113000
DTSTAMP:20260420T210829
CREATED:20191021T235632Z
LAST-MODIFIED:20191021T235632Z
UID:7335-1573290000-1573299000@lutherburbankartandgardencenter.com
SUMMARY:Photographic Society Board Meeting
DESCRIPTION:Cheryl Akers
URL:http://lutherburbankartandgardencenter.com/event/photographic-society-board-meeting-2/
LOCATION:Luther Burbank Art & Garden Center\, 2050 Yulupa Avenue\, Santa Rosa\, CA\, 95405
CATEGORIES:Member Club Event
GEO:38.4369602;-122.6691319
X-APPLE-STRUCTURED-LOCATION;VALUE=URI;X-ADDRESS=Luther Burbank Art & Garden Center 2050 Yulupa Avenue Santa Rosa CA 95405;X-APPLE-RADIUS=500;X-TITLE=2050 Yulupa Avenue:geo:-122.6691319,38.4369602
END:VEVENT
BEGIN:VEVENT
DTSTART;TZID=America/Los_Angeles:20191104T090000
DTEND;TZID=America/Los_Angeles:20191104T130000
DTSTAMP:20260420T210829
CREATED:20191030T222439Z
LAST-MODIFIED:20191030T222439Z
UID:7373-1572858000-1572872400@lutherburbankartandgardencenter.com
SUMMARY:Master Gardener Training Interviews
DESCRIPTION:Suzie Shield
URL:http://lutherburbankartandgardencenter.com/event/master-gardener-training-interviews/
LOCATION:Luther Burbank Art & Garden Center\, 2050 Yulupa Avenue\, Santa Rosa\, CA\, 95405
CATEGORIES:Member Club Event
GEO:38.4369602;-122.6691319
X-APPLE-STRUCTURED-LOCATION;VALUE=URI;X-ADDRESS=Luther Burbank Art & Garden Center 2050 Yulupa Avenue Santa Rosa CA 95405;X-APPLE-RADIUS=500;X-TITLE=2050 Yulupa Avenue:geo:-122.6691319,38.4369602
END:VEVENT
BEGIN:VEVENT
DTSTART;TZID=America/Los_Angeles:20191103T090000
DTEND;TZID=America/Los_Angeles:20191103T150000
DTSTAMP:20260420T210829
CREATED:20190830T214434Z
LAST-MODIFIED:20190912T003302Z
UID:7174-1572771600-1572793200@lutherburbankartandgardencenter.com
SUMMARY:Baby Shower
DESCRIPTION:Jessica Werby
URL:http://lutherburbankartandgardencenter.com/event/family-party-2/
LOCATION:Luther Burbank Art & Garden Center\, 2050 Yulupa Avenue\, Santa Rosa\, CA\, 95405
CATEGORIES:Outside Rental
GEO:38.4369602;-122.6691319
X-APPLE-STRUCTURED-LOCATION;VALUE=URI;X-ADDRESS=Luther Burbank Art & Garden Center 2050 Yulupa Avenue Santa Rosa CA 95405;X-APPLE-RADIUS=500;X-TITLE=2050 Yulupa Avenue:geo:-122.6691319,38.4369602
END:VEVENT
BEGIN:VEVENT
DTSTART;TZID=America/Los_Angeles:20191102T100000
DTEND;TZID=America/Los_Angeles:20191102T170000
DTSTAMP:20260420T210829
CREATED:20190320T153135Z
LAST-MODIFIED:20190320T153135Z
UID:6794-1572688800-1572714000@lutherburbankartandgardencenter.com
SUMMARY:Santa Rosa Iris Society
DESCRIPTION:
URL:http://lutherburbankartandgardencenter.com/event/santa-rosa-iris-society/
LOCATION:Luther Burbank Art & Garden Center\, 2050 Yulupa Avenue\, Santa Rosa\, CA\, 95405
CATEGORIES:Member Club Event
GEO:38.4369602;-122.6691319
X-APPLE-STRUCTURED-LOCATION;VALUE=URI;X-ADDRESS=Luther Burbank Art & Garden Center 2050 Yulupa Avenue Santa Rosa CA 95405;X-APPLE-RADIUS=500;X-TITLE=2050 Yulupa Avenue:geo:-122.6691319,38.4369602
END:VEVENT
BEGIN:VEVENT
DTSTART;TZID=America/Los_Angeles:20191101T160000
DTEND;TZID=America/Los_Angeles:20191101T233000
DTSTAMP:20260420T210829
CREATED:20190515T230606Z
LAST-MODIFIED:20190515T230606Z
UID:6891-1572624000-1572651000@lutherburbankartandgardencenter.com
SUMMARY:SCPN
DESCRIPTION:
URL:http://lutherburbankartandgardencenter.com/event/scpn/
LOCATION:Luther Burbank Art & Garden Center\, 2050 Yulupa Avenue\, Santa Rosa\, CA\, 95405
CATEGORIES:Member Club Event
GEO:38.4369602;-122.6691319
X-APPLE-STRUCTURED-LOCATION;VALUE=URI;X-ADDRESS=Luther Burbank Art & Garden Center 2050 Yulupa Avenue Santa Rosa CA 95405;X-APPLE-RADIUS=500;X-TITLE=2050 Yulupa Avenue:geo:-122.6691319,38.4369602
END:VEVENT
BEGIN:VEVENT
DTSTART;TZID=America/Los_Angeles:20191026T130000
DTEND;TZID=America/Los_Angeles:20191026T220000
DTSTAMP:20260420T210829
CREATED:20191022T001941Z
LAST-MODIFIED:20191024T150454Z
UID:7345-1572094800-1572127200@lutherburbankartandgardencenter.com
SUMMARY:Family Gathering
DESCRIPTION:Blanca …Rosa Solorio
URL:http://lutherburbankartandgardencenter.com/event/quinceanara-2/
LOCATION:Luther Burbank Art & Garden Center\, 2050 Yulupa Avenue\, Santa Rosa\, CA\, 95405
CATEGORIES:Outside Rental
GEO:38.4369602;-122.6691319
X-APPLE-STRUCTURED-LOCATION;VALUE=URI;X-ADDRESS=Luther Burbank Art & Garden Center 2050 Yulupa Avenue Santa Rosa CA 95405;X-APPLE-RADIUS=500;X-TITLE=2050 Yulupa Avenue:geo:-122.6691319,38.4369602
END:VEVENT
BEGIN:VEVENT
DTSTART;TZID=America/Los_Angeles:20191023T100000
DTEND;TZID=America/Los_Angeles:20191023T150000
DTSTAMP:20260420T210829
CREATED:20181109T203230Z
LAST-MODIFIED:20181109T203230Z
UID:6335-1571824800-1571842800@lutherburbankartandgardencenter.com
SUMMARY:Redwood Stitchers
DESCRIPTION:
URL:http://lutherburbankartandgardencenter.com/event/redwood-stitchers-9/
LOCATION:Luther Burbank Art & Garden Center\, 2050 Yulupa Avenue\, Santa Rosa\, CA\, 95405
GEO:38.4369602;-122.6691319
X-APPLE-STRUCTURED-LOCATION;VALUE=URI;X-ADDRESS=Luther Burbank Art & Garden Center 2050 Yulupa Avenue Santa Rosa CA 95405;X-APPLE-RADIUS=500;X-TITLE=2050 Yulupa Avenue:geo:-122.6691319,38.4369602
END:VEVENT
BEGIN:VEVENT
DTSTART;TZID=America/Los_Angeles:20191020T120000
DTEND;TZID=America/Los_Angeles:20191020T180000
DTSTAMP:20260420T210829
CREATED:20190629T002137Z
LAST-MODIFIED:20190711T161757Z
UID:7022-1571572800-1571594400@lutherburbankartandgardencenter.com
SUMMARY:Graduation Celebration
DESCRIPTION:Laura Strom
URL:http://lutherburbankartandgardencenter.com/event/graduation-celebration-2/
LOCATION:Luther Burbank Art & Garden Center\, 2050 Yulupa Avenue\, Santa Rosa\, CA\, 95405
CATEGORIES:Outside Rental
GEO:38.4369602;-122.6691319
X-APPLE-STRUCTURED-LOCATION;VALUE=URI;X-ADDRESS=Luther Burbank Art & Garden Center 2050 Yulupa Avenue Santa Rosa CA 95405;X-APPLE-RADIUS=500;X-TITLE=2050 Yulupa Avenue:geo:-122.6691319,38.4369602
END:VEVENT
BEGIN:VEVENT
DTSTART;TZID=America/Los_Angeles:20191014T130000
DTEND;TZID=America/Los_Angeles:20191014T150000
DTSTAMP:20260420T210829
CREATED:20190921T004446Z
LAST-MODIFIED:20190921T004446Z
UID:7243-1571058000-1571065200@lutherburbankartandgardencenter.com
SUMMARY:Center: Maintenance Committee Meeting
DESCRIPTION:
URL:http://lutherburbankartandgardencenter.com/event/center-maintenance-committee-meeting-8/
LOCATION:Luther Burbank Art & Garden Center\, 2050 Yulupa Avenue\, Santa Rosa\, CA\, 95405
CATEGORIES:LBA&GC
GEO:38.4369602;-122.6691319
X-APPLE-STRUCTURED-LOCATION;VALUE=URI;X-ADDRESS=Luther Burbank Art & Garden Center 2050 Yulupa Avenue Santa Rosa CA 95405;X-APPLE-RADIUS=500;X-TITLE=2050 Yulupa Avenue:geo:-122.6691319,38.4369602
END:VEVENT
BEGIN:VEVENT
DTSTART;TZID=America/Los_Angeles:20191013T130000
DTEND;TZID=America/Los_Angeles:20191013T220000
DTSTAMP:20260420T210829
CREATED:20190919T185213Z
LAST-MODIFIED:20190920T220548Z
UID:7240-1570971600-1571004000@lutherburbankartandgardencenter.com
SUMMARY:50th Birthday Party
DESCRIPTION:Heidi Ibarra
URL:http://lutherburbankartandgardencenter.com/event/50th-birthday-party/
LOCATION:Luther Burbank Art & Garden Center\, 2050 Yulupa Avenue\, Santa Rosa\, CA\, 95405
CATEGORIES:Outside Rental
GEO:38.4369602;-122.6691319
X-APPLE-STRUCTURED-LOCATION;VALUE=URI;X-ADDRESS=Luther Burbank Art & Garden Center 2050 Yulupa Avenue Santa Rosa CA 95405;X-APPLE-RADIUS=500;X-TITLE=2050 Yulupa Avenue:geo:-122.6691319,38.4369602
END:VEVENT
BEGIN:VEVENT
DTSTART;TZID=America/Los_Angeles:20191012T140000
DTEND;TZID=America/Los_Angeles:20191012T230000
DTSTAMP:20260420T210829
CREATED:20190914T043630Z
LAST-MODIFIED:20190917T162021Z
UID:7228-1570888800-1570921200@lutherburbankartandgardencenter.com
SUMMARY:Wedding and Reception
DESCRIPTION:Michael Vega and Blanca Toro
URL:http://lutherburbankartandgardencenter.com/event/wedding-and-reception/
LOCATION:Luther Burbank Art & Garden Center\, 2050 Yulupa Avenue\, Santa Rosa\, CA\, 95405
CATEGORIES:Outside Rental
GEO:38.4369602;-122.6691319
X-APPLE-STRUCTURED-LOCATION;VALUE=URI;X-ADDRESS=Luther Burbank Art & Garden Center 2050 Yulupa Avenue Santa Rosa CA 95405;X-APPLE-RADIUS=500;X-TITLE=2050 Yulupa Avenue:geo:-122.6691319,38.4369602
END:VEVENT
BEGIN:VEVENT
DTSTART;TZID=America/Los_Angeles:20191009T100000
DTEND;TZID=America/Los_Angeles:20191009T150000
DTSTAMP:20260420T210829
CREATED:20181109T203055Z
LAST-MODIFIED:20181109T203055Z
UID:6333-1570615200-1570633200@lutherburbankartandgardencenter.com
SUMMARY:Redwood Stitchers
DESCRIPTION:
URL:http://lutherburbankartandgardencenter.com/event/redwood-stitchers-8/
LOCATION:Luther Burbank Art & Garden Center\, 2050 Yulupa Avenue\, Santa Rosa\, CA\, 95405
GEO:38.4369602;-122.6691319
X-APPLE-STRUCTURED-LOCATION;VALUE=URI;X-ADDRESS=Luther Burbank Art & Garden Center 2050 Yulupa Avenue Santa Rosa CA 95405;X-APPLE-RADIUS=500;X-TITLE=2050 Yulupa Avenue:geo:-122.6691319,38.4369602
END:VEVENT
BEGIN:VEVENT
DTSTART;TZID=America/Los_Angeles:20191008T080000
DTEND;TZID=America/Los_Angeles:20191008T130000
DTSTAMP:20260420T210829
CREATED:20190416T135543Z
LAST-MODIFIED:20190416T135543Z
UID:6852-1570521600-1570539600@lutherburbankartandgardencenter.com
SUMMARY:Master Gardener Training Orientation
DESCRIPTION:
URL:http://lutherburbankartandgardencenter.com/event/master-gardener-training-orientation-2/
LOCATION:Luther Burbank Art & Garden Center\, 2050 Yulupa Avenue\, Santa Rosa\, CA\, 95405
CATEGORIES:Member Club Event
GEO:38.4369602;-122.6691319
X-APPLE-STRUCTURED-LOCATION;VALUE=URI;X-ADDRESS=Luther Burbank Art & Garden Center 2050 Yulupa Avenue Santa Rosa CA 95405;X-APPLE-RADIUS=500;X-TITLE=2050 Yulupa Avenue:geo:-122.6691319,38.4369602
END:VEVENT
BEGIN:VEVENT
DTSTART;TZID=America/Los_Angeles:20191007T160000
DTEND;TZID=America/Los_Angeles:20191007T220000
DTSTAMP:20260420T210829
CREATED:20190416T135313Z
LAST-MODIFIED:20190416T135439Z
UID:6850-1570464000-1570485600@lutherburbankartandgardencenter.com
SUMMARY:Master Gardener Training Orientation
DESCRIPTION:
URL:http://lutherburbankartandgardencenter.com/event/master-gardener-training-orientation/
LOCATION:Luther Burbank Art & Garden Center\, 2050 Yulupa Avenue\, Santa Rosa\, CA\, 95405
CATEGORIES:Member Club Event
GEO:38.4369602;-122.6691319
X-APPLE-STRUCTURED-LOCATION;VALUE=URI;X-ADDRESS=Luther Burbank Art & Garden Center 2050 Yulupa Avenue Santa Rosa CA 95405;X-APPLE-RADIUS=500;X-TITLE=2050 Yulupa Avenue:geo:-122.6691319,38.4369602
END:VEVENT
BEGIN:VEVENT
DTSTART;TZID=America/Los_Angeles:20191006T140000
DTEND;TZID=America/Los_Angeles:20191006T200000
DTSTAMP:20260420T210829
CREATED:20190712T232211Z
LAST-MODIFIED:20190712T232211Z
UID:7035-1570370400-1570392000@lutherburbankartandgardencenter.com
SUMMARY:Family Party
DESCRIPTION:Nikki and Philip Troy
URL:http://lutherburbankartandgardencenter.com/event/family-party/
LOCATION:Luther Burbank Art & Garden Center\, 2050 Yulupa Avenue\, Santa Rosa\, CA\, 95405
CATEGORIES:Outside Rental
GEO:38.4369602;-122.6691319
X-APPLE-STRUCTURED-LOCATION;VALUE=URI;X-ADDRESS=Luther Burbank Art & Garden Center 2050 Yulupa Avenue Santa Rosa CA 95405;X-APPLE-RADIUS=500;X-TITLE=2050 Yulupa Avenue:geo:-122.6691319,38.4369602
END:VEVENT
BEGIN:VEVENT
DTSTART;TZID=America/Los_Angeles:20191001T083000
DTEND;TZID=America/Los_Angeles:20191001T160000
DTSTAMP:20260420T210829
CREATED:20190307T152028Z
LAST-MODIFIED:20190307T152028Z
UID:6734-1569918600-1569945600@lutherburbankartandgardencenter.com
SUMMARY:Pointless Sisters
DESCRIPTION:
URL:http://lutherburbankartandgardencenter.com/event/pointless-sisters-6/
LOCATION:Luther Burbank Art & Garden Center\, 2050 Yulupa Avenue\, Santa Rosa\, CA\, 95405
CATEGORIES:Member Club Event
GEO:38.4369602;-122.6691319
X-APPLE-STRUCTURED-LOCATION;VALUE=URI;X-ADDRESS=Luther Burbank Art & Garden Center 2050 Yulupa Avenue Santa Rosa CA 95405;X-APPLE-RADIUS=500;X-TITLE=2050 Yulupa Avenue:geo:-122.6691319,38.4369602
END:VEVENT
BEGIN:VEVENT
DTSTART;TZID=America/Los_Angeles:20190925T100000
DTEND;TZID=America/Los_Angeles:20190925T150000
DTSTAMP:20260420T210829
CREATED:20181109T202616Z
LAST-MODIFIED:20181109T202756Z
UID:6330-1569405600-1569423600@lutherburbankartandgardencenter.com
SUMMARY:Redwood Stitchers
DESCRIPTION:
URL:http://lutherburbankartandgardencenter.com/event/redwood-stitchers-7/
LOCATION:Luther Burbank Art & Garden Center\, 2050 Yulupa Avenue\, Santa Rosa\, CA\, 95405
GEO:38.4369602;-122.6691319
X-APPLE-STRUCTURED-LOCATION;VALUE=URI;X-ADDRESS=Luther Burbank Art & Garden Center 2050 Yulupa Avenue Santa Rosa CA 95405;X-APPLE-RADIUS=500;X-TITLE=2050 Yulupa Avenue:geo:-122.6691319,38.4369602
END:VEVENT
BEGIN:VEVENT
DTSTART;TZID=America/Los_Angeles:20190921T100000
DTEND;TZID=America/Los_Angeles:20190921T230000
DTSTAMP:20260420T210829
CREATED:20190319T181350Z
LAST-MODIFIED:20190326T014449Z
UID:6789-1569060000-1569106800@lutherburbankartandgardencenter.com
SUMMARY:Birthday
DESCRIPTION:
URL:http://lutherburbankartandgardencenter.com/event/birthday-hold/
LOCATION:Luther Burbank Art & Garden Center\, 2050 Yulupa Avenue\, Santa Rosa\, CA\, 95405
CATEGORIES:Outside Rental
GEO:38.4369602;-122.6691319
X-APPLE-STRUCTURED-LOCATION;VALUE=URI;X-ADDRESS=Luther Burbank Art & Garden Center 2050 Yulupa Avenue Santa Rosa CA 95405;X-APPLE-RADIUS=500;X-TITLE=2050 Yulupa Avenue:geo:-122.6691319,38.4369602
END:VEVENT
BEGIN:VEVENT
DTSTART;TZID=America/Los_Angeles:20190916T073000
DTEND;TZID=America/Los_Angeles:20190916T120000
DTSTAMP:20260420T210829
CREATED:20190917T170028Z
LAST-MODIFIED:20190917T170028Z
UID:7233-1568619000-1568635200@lutherburbankartandgardencenter.com
SUMMARY:Center: Maintenance Painting and Shed repair
DESCRIPTION:
URL:http://lutherburbankartandgardencenter.com/event/center-maintenance-painting-and-shed-repair/
LOCATION:Luther Burbank Art & Garden Center\, 2050 Yulupa Avenue\, Santa Rosa\, CA\, 95405
CATEGORIES:LBA&GC
GEO:38.4369602;-122.6691319
X-APPLE-STRUCTURED-LOCATION;VALUE=URI;X-ADDRESS=Luther Burbank Art & Garden Center 2050 Yulupa Avenue Santa Rosa CA 95405;X-APPLE-RADIUS=500;X-TITLE=2050 Yulupa Avenue:geo:-122.6691319,38.4369602
END:VEVENT
BEGIN:VEVENT
DTSTART;TZID=America/Los_Angeles:20190914T100000
DTEND;TZID=America/Los_Angeles:20190914T230000
DTSTAMP:20260420T210829
CREATED:20190206T001933Z
LAST-MODIFIED:20190206T001933Z
UID:6676-1568455200-1568502000@lutherburbankartandgardencenter.com
SUMMARY:Quinceanera
DESCRIPTION:De La Torre
URL:http://lutherburbankartandgardencenter.com/event/quinceanera-3/
LOCATION:Luther Burbank Art & Garden Center\, 2050 Yulupa Avenue\, Santa Rosa\, CA\, 95405
CATEGORIES:Outside Rental
GEO:38.4369602;-122.6691319
X-APPLE-STRUCTURED-LOCATION;VALUE=URI;X-ADDRESS=Luther Burbank Art & Garden Center 2050 Yulupa Avenue Santa Rosa CA 95405;X-APPLE-RADIUS=500;X-TITLE=2050 Yulupa Avenue:geo:-122.6691319,38.4369602
END:VEVENT
BEGIN:VEVENT
DTSTART;TZID=America/Los_Angeles:20190911T100000
DTEND;TZID=America/Los_Angeles:20190911T150000
DTSTAMP:20260420T210829
CREATED:20181109T202423Z
LAST-MODIFIED:20181109T202423Z
UID:6328-1568196000-1568214000@lutherburbankartandgardencenter.com
SUMMARY:Redwood Stitchers
DESCRIPTION:
URL:http://lutherburbankartandgardencenter.com/event/redwood-stitchers-6/
LOCATION:Luther Burbank Art & Garden Center\, 2050 Yulupa Avenue\, Santa Rosa\, CA\, 95405
GEO:38.4369602;-122.6691319
X-APPLE-STRUCTURED-LOCATION;VALUE=URI;X-ADDRESS=Luther Burbank Art & Garden Center 2050 Yulupa Avenue Santa Rosa CA 95405;X-APPLE-RADIUS=500;X-TITLE=2050 Yulupa Avenue:geo:-122.6691319,38.4369602
END:VEVENT
BEGIN:VEVENT
DTSTART;TZID=America/Los_Angeles:20190909T130000
DTEND;TZID=America/Los_Angeles:20190909T150000
DTSTAMP:20260420T210829
CREATED:20190903T222615Z
LAST-MODIFIED:20190903T222615Z
UID:7179-1568034000-1568041200@lutherburbankartandgardencenter.com
SUMMARY:Center: Maintenance Meeting
DESCRIPTION:
URL:http://lutherburbankartandgardencenter.com/event/center-maintenance-meeting/
LOCATION:Luther Burbank Art & Garden Center\, 2050 Yulupa Avenue\, Santa Rosa\, CA\, 95405
CATEGORIES:LBA&GC
GEO:38.4369602;-122.6691319
X-APPLE-STRUCTURED-LOCATION;VALUE=URI;X-ADDRESS=Luther Burbank Art & Garden Center 2050 Yulupa Avenue Santa Rosa CA 95405;X-APPLE-RADIUS=500;X-TITLE=2050 Yulupa Avenue:geo:-122.6691319,38.4369602
END:VEVENT
BEGIN:VEVENT
DTSTART;TZID=America/Los_Angeles:20190907T100000
DTEND;TZID=America/Los_Angeles:20190907T170000
DTSTAMP:20260420T210829
CREATED:20190201T190812Z
LAST-MODIFIED:20190320T153000Z
UID:6642-1567850400-1567875600@lutherburbankartandgardencenter.com
SUMMARY:Santa Rosa Iris Society
DESCRIPTION:
URL:http://lutherburbankartandgardencenter.com/event/quinceanara/
LOCATION:Luther Burbank Art & Garden Center\, 2050 Yulupa Avenue\, Santa Rosa\, CA\, 95405
CATEGORIES:Member Club Event
GEO:38.4369602;-122.6691319
X-APPLE-STRUCTURED-LOCATION;VALUE=URI;X-ADDRESS=Luther Burbank Art & Garden Center 2050 Yulupa Avenue Santa Rosa CA 95405;X-APPLE-RADIUS=500;X-TITLE=2050 Yulupa Avenue:geo:-122.6691319,38.4369602
END:VEVENT
BEGIN:VEVENT
DTSTART;TZID=America/Los_Angeles:20190901T090000
DTEND;TZID=America/Los_Angeles:20190901T150000
DTSTAMP:20260420T210829
CREATED:20190708T194910Z
LAST-MODIFIED:20190712T231732Z
UID:7029-1567328400-1567350000@lutherburbankartandgardencenter.com
SUMMARY:Celebration
DESCRIPTION:Nancy Pieraccini
URL:http://lutherburbankartandgardencenter.com/event/celebration-5/
LOCATION:Luther Burbank Art & Garden Center\, 2050 Yulupa Avenue\, Santa Rosa\, CA\, 95405
CATEGORIES:Outside Rental
GEO:38.4369602;-122.6691319
X-APPLE-STRUCTURED-LOCATION;VALUE=URI;X-ADDRESS=Luther Burbank Art & Garden Center 2050 Yulupa Avenue Santa Rosa CA 95405;X-APPLE-RADIUS=500;X-TITLE=2050 Yulupa Avenue:geo:-122.6691319,38.4369602
END:VEVENT
BEGIN:VEVENT
DTSTART;TZID=America/Los_Angeles:20190829T080000
DTEND;TZID=America/Los_Angeles:20190829T160000
DTSTAMP:20260420T210829
CREATED:20181101T161857Z
LAST-MODIFIED:20181101T161857Z
UID:6282-1567065600-1567094400@lutherburbankartandgardencenter.com
SUMMARY:SR Quilt Guild
DESCRIPTION:
URL:http://lutherburbankartandgardencenter.com/event/sr-quilt-guild-6/
LOCATION:Luther Burbank Art & Garden Center\, 2050 Yulupa Avenue\, Santa Rosa\, CA\, 95405
CATEGORIES:Member Club Event
GEO:38.4369602;-122.6691319
X-APPLE-STRUCTURED-LOCATION;VALUE=URI;X-ADDRESS=Luther Burbank Art & Garden Center 2050 Yulupa Avenue Santa Rosa CA 95405;X-APPLE-RADIUS=500;X-TITLE=2050 Yulupa Avenue:geo:-122.6691319,38.4369602
END:VEVENT
BEGIN:VEVENT
DTSTART;TZID=America/Los_Angeles:20190826T100000
DTEND;TZID=America/Los_Angeles:20190826T130000
DTSTAMP:20260420T210829
CREATED:20190131T235657Z
LAST-MODIFIED:20190806T232950Z
UID:6638-1566813600-1566824400@lutherburbankartandgardencenter.com
SUMMARY:Santa Rosa Garden Club
DESCRIPTION:Budget Meeting
URL:http://lutherburbankartandgardencenter.com/event/santa-rosa-garden-club-2/
LOCATION:Luther Burbank Art & Garden Center\, 2050 Yulupa Avenue\, Santa Rosa\, CA\, 95405
CATEGORIES:Member Club Event
GEO:38.4369602;-122.6691319
X-APPLE-STRUCTURED-LOCATION;VALUE=URI;X-ADDRESS=Luther Burbank Art & Garden Center 2050 Yulupa Avenue Santa Rosa CA 95405;X-APPLE-RADIUS=500;X-TITLE=2050 Yulupa Avenue:geo:-122.6691319,38.4369602
END:VEVENT
BEGIN:VEVENT
DTSTART;TZID=America/Los_Angeles:20190825T130000
DTEND;TZID=America/Los_Angeles:20190825T220000
DTSTAMP:20260420T210829
CREATED:20190731T230012Z
LAST-MODIFIED:20190812T133456Z
UID:7054-1566738000-1566770400@lutherburbankartandgardencenter.com
SUMMARY:Baby Shower
DESCRIPTION:Cindy Hahn
URL:http://lutherburbankartandgardencenter.com/event/baby-shower-3/
LOCATION:Luther Burbank Art & Garden Center\, 2050 Yulupa Avenue\, Santa Rosa\, CA\, 95405
CATEGORIES:Outside Rental
GEO:38.4369602;-122.6691319
X-APPLE-STRUCTURED-LOCATION;VALUE=URI;X-ADDRESS=Luther Burbank Art & Garden Center 2050 Yulupa Avenue Santa Rosa CA 95405;X-APPLE-RADIUS=500;X-TITLE=2050 Yulupa Avenue:geo:-122.6691319,38.4369602
END:VEVENT
BEGIN:VEVENT
DTSTART;TZID=America/Los_Angeles:20190824T100000
DTEND;TZID=America/Los_Angeles:20190824T230000
DTSTAMP:20260420T210829
CREATED:20190219T184028Z
LAST-MODIFIED:20190219T184028Z
UID:6705-1566640800-1566687600@lutherburbankartandgardencenter.com
SUMMARY:Quinceanera
DESCRIPTION:Maria Cortes and Octavio Hernandez \n  \nDeposit $450 received 2/18 \nSent pages back to get signed 2/19 by email.
URL:http://lutherburbankartandgardencenter.com/event/quinceanera-2/
LOCATION:Luther Burbank Art & Garden Center\, 2050 Yulupa Avenue\, Santa Rosa\, CA\, 95405
CATEGORIES:Outside Rental
GEO:38.4369602;-122.6691319
X-APPLE-STRUCTURED-LOCATION;VALUE=URI;X-ADDRESS=Luther Burbank Art & Garden Center 2050 Yulupa Avenue Santa Rosa CA 95405;X-APPLE-RADIUS=500;X-TITLE=2050 Yulupa Avenue:geo:-122.6691319,38.4369602
END:VEVENT
BEGIN:VEVENT
DTSTART;TZID=America/Los_Angeles:20190823T160000
DTEND;TZID=America/Los_Angeles:20190823T220000
DTSTAMP:20260420T210829
CREATED:20190815T165843Z
LAST-MODIFIED:20190821T225959Z
UID:7072-1566576000-1566597600@lutherburbankartandgardencenter.com
SUMMARY:Family Birthday Party
DESCRIPTION:Judith Salazar and Olga Salazar
URL:http://lutherburbankartandgardencenter.com/event/family-birthday-party-2/
LOCATION:Luther Burbank Art & Garden Center\, 2050 Yulupa Avenue\, Santa Rosa\, CA\, 95405
CATEGORIES:Outside Rental
GEO:38.4369602;-122.6691319
X-APPLE-STRUCTURED-LOCATION;VALUE=URI;X-ADDRESS=Luther Burbank Art & Garden Center 2050 Yulupa Avenue Santa Rosa CA 95405;X-APPLE-RADIUS=500;X-TITLE=2050 Yulupa Avenue:geo:-122.6691319,38.4369602
END:VEVENT
END:VCALENDAR