BEGIN:VCALENDAR
VERSION:2.0
PRODID:-//Luther Burbank Art and Garden Center - ECPv6.8.2.1//NONSGML v1.0//EN
CALSCALE:GREGORIAN
METHOD:PUBLISH
X-ORIGINAL-URL:http://lutherburbankartandgardencenter.com
X-WR-CALDESC:Events for Luther Burbank Art and Garden Center
REFRESH-INTERVAL;VALUE=DURATION:PT1H
X-Robots-Tag:noindex
X-PUBLISHED-TTL:PT1H
BEGIN:VTIMEZONE
TZID:America/Los_Angeles
BEGIN:DAYLIGHT
TZOFFSETFROM:-0800
TZOFFSETTO:-0700
TZNAME:PDT
DTSTART:20200308T100000
END:DAYLIGHT
BEGIN:STANDARD
TZOFFSETFROM:-0700
TZOFFSETTO:-0800
TZNAME:PST
DTSTART:20201101T090000
END:STANDARD
TZID:UTC
BEGIN:STANDARD
TZOFFSETFROM:+0000
TZOFFSETTO:+0000
TZNAME:UTC
DTSTART:20200101T000000
END:STANDARD
END:VTIMEZONE
BEGIN:VEVENT
DTSTART;TZID=America/Los_Angeles:20200416T080000
DTEND;TZID=America/Los_Angeles:20200416T163000
DTSTAMP:20260420T120055
CREATED:20190912T234522Z
LAST-MODIFIED:20190912T234522Z
UID:7216-1587024000-1587054600@lutherburbankartandgardencenter.com
SUMMARY:Master Gardener Training Class
DESCRIPTION:
URL:http://lutherburbankartandgardencenter.com/event/master-gardener-training-class-8/
LOCATION:Luther Burbank Art & Garden Center\, 2050 Yulupa Avenue\, Santa Rosa\, CA\, 95405
CATEGORIES:Member Club Event
GEO:38.4369602;-122.6691319
X-APPLE-STRUCTURED-LOCATION;VALUE=URI;X-ADDRESS=Luther Burbank Art & Garden Center 2050 Yulupa Avenue Santa Rosa CA 95405;X-APPLE-RADIUS=500;X-TITLE=2050 Yulupa Avenue:geo:-122.6691319,38.4369602
END:VEVENT
BEGIN:VEVENT
DTSTART;TZID=America/Los_Angeles:20200413T130000
DTEND;TZID=America/Los_Angeles:20200413T150000
DTSTAMP:20260420T120055
CREATED:20200310T230540Z
LAST-MODIFIED:20200310T230540Z
UID:7613-1586782800-1586790000@lutherburbankartandgardencenter.com
SUMMARY:Center: Maintenance Committee Mtg
DESCRIPTION:Cindy Moore
URL:http://lutherburbankartandgardencenter.com/event/center-maintenance-committee-mtg/
LOCATION:Luther Burbank Art & Garden Center\, 2050 Yulupa Avenue\, Santa Rosa\, CA\, 95405
CATEGORIES:LBA&GC
GEO:38.4369602;-122.6691319
X-APPLE-STRUCTURED-LOCATION;VALUE=URI;X-ADDRESS=Luther Burbank Art & Garden Center 2050 Yulupa Avenue Santa Rosa CA 95405;X-APPLE-RADIUS=500;X-TITLE=2050 Yulupa Avenue:geo:-122.6691319,38.4369602
END:VEVENT
BEGIN:VEVENT
DTSTART;TZID=UTC:20200401T090000
DTEND;TZID=UTC:20200401T163000
DTSTAMP:20260420T120055
CREATED:20171031T054514Z
LAST-MODIFIED:20190911T230016Z
UID:5698-1585731600-1585758600@lutherburbankartandgardencenter.com
SUMMARY:RGFA
DESCRIPTION:Redwood Guild of Fiber Arts
URL:http://lutherburbankartandgardencenter.com/event/rgfa-2-2020-04-01/
LOCATION:Luther Burbank Art & Garden Center\, 2050 Yulupa Avenue\, Santa Rosa\, CA\, 95405
CATEGORIES:Member Club Event
GEO:38.4369602;-122.6691319
X-APPLE-STRUCTURED-LOCATION;VALUE=URI;X-ADDRESS=Luther Burbank Art & Garden Center 2050 Yulupa Avenue Santa Rosa CA 95405;X-APPLE-RADIUS=500;X-TITLE=2050 Yulupa Avenue:geo:-122.6691319,38.4369602
END:VEVENT
BEGIN:VEVENT
DTSTART;TZID=America/Los_Angeles:20200331T183000
DTEND;TZID=America/Los_Angeles:20200331T213000
DTSTAMP:20260420T120055
CREATED:20200310T230935Z
LAST-MODIFIED:20200310T231054Z
UID:7617-1585679400-1585690200@lutherburbankartandgardencenter.com
SUMMARY:Men's Garden Club
DESCRIPTION:Dave Berg
URL:http://lutherburbankartandgardencenter.com/event/sr-mens-garden-club/
LOCATION:Luther Burbank Art & Garden Center\, 2050 Yulupa Avenue\, Santa Rosa\, CA\, 95405
CATEGORIES:Member Club Event
GEO:38.4369602;-122.6691319
X-APPLE-STRUCTURED-LOCATION;VALUE=URI;X-ADDRESS=Luther Burbank Art & Garden Center 2050 Yulupa Avenue Santa Rosa CA 95405;X-APPLE-RADIUS=500;X-TITLE=2050 Yulupa Avenue:geo:-122.6691319,38.4369602
END:VEVENT
BEGIN:VEVENT
DTSTART;TZID=America/Los_Angeles:20200326T173000
DTEND;TZID=America/Los_Angeles:20200326T223000
DTSTAMP:20260420T120055
CREATED:20200307T184601Z
LAST-MODIFIED:20200307T184601Z
UID:7595-1585243800-1585261800@lutherburbankartandgardencenter.com
SUMMARY:SR Photographic Society
DESCRIPTION:Cheryl Akers
URL:http://lutherburbankartandgardencenter.com/event/sr-photographic-society-3/
LOCATION:Luther Burbank Art & Garden Center\, 2050 Yulupa Avenue\, Santa Rosa\, CA\, 95405
CATEGORIES:Member Club Event
GEO:38.4369602;-122.6691319
X-APPLE-STRUCTURED-LOCATION;VALUE=URI;X-ADDRESS=Luther Burbank Art & Garden Center 2050 Yulupa Avenue Santa Rosa CA 95405;X-APPLE-RADIUS=500;X-TITLE=2050 Yulupa Avenue:geo:-122.6691319,38.4369602
END:VEVENT
BEGIN:VEVENT
DTSTART;TZID=America/Los_Angeles:20200326T080000
DTEND;TZID=America/Los_Angeles:20200326T170000
DTSTAMP:20260420T120055
CREATED:20190912T234427Z
LAST-MODIFIED:20200313T224807Z
UID:7214-1585209600-1585242000@lutherburbankartandgardencenter.com
SUMMARY:Master Gardener Training Class - Cancelled
DESCRIPTION:
URL:http://lutherburbankartandgardencenter.com/event/master-gardener-training-class-7/
LOCATION:Luther Burbank Art & Garden Center\, 2050 Yulupa Avenue\, Santa Rosa\, CA\, 95405
CATEGORIES:Member Club Event
GEO:38.4369602;-122.6691319
X-APPLE-STRUCTURED-LOCATION;VALUE=URI;X-ADDRESS=Luther Burbank Art & Garden Center 2050 Yulupa Avenue Santa Rosa CA 95405;X-APPLE-RADIUS=500;X-TITLE=2050 Yulupa Avenue:geo:-122.6691319,38.4369602
END:VEVENT
BEGIN:VEVENT
DTSTART;TZID=America/Los_Angeles:20200319T080000
DTEND;TZID=America/Los_Angeles:20200319T163000
DTSTAMP:20260420T120055
CREATED:20190912T234327Z
LAST-MODIFIED:20200313T224639Z
UID:7212-1584604800-1584635400@lutherburbankartandgardencenter.com
SUMMARY:Master Gardener Training Class - Cancelled
DESCRIPTION:
URL:http://lutherburbankartandgardencenter.com/event/master-gardener-training-class-6/
LOCATION:Luther Burbank Art & Garden Center\, 2050 Yulupa Avenue\, Santa Rosa\, CA\, 95405
CATEGORIES:Member Club Event
GEO:38.4369602;-122.6691319
X-APPLE-STRUCTURED-LOCATION;VALUE=URI;X-ADDRESS=Luther Burbank Art & Garden Center 2050 Yulupa Avenue Santa Rosa CA 95405;X-APPLE-RADIUS=500;X-TITLE=2050 Yulupa Avenue:geo:-122.6691319,38.4369602
END:VEVENT
BEGIN:VEVENT
DTSTART;TZID=America/Los_Angeles:20200313T100000
DTEND;TZID=America/Los_Angeles:20200313T120000
DTSTAMP:20260420T120055
CREATED:20200310T230646Z
LAST-MODIFIED:20200310T230646Z
UID:7615-1584093600-1584100800@lutherburbankartandgardencenter.com
SUMMARY:Center: Meeting
DESCRIPTION:Cindy Moore
URL:http://lutherburbankartandgardencenter.com/event/center-meeting/
LOCATION:Luther Burbank Art & Garden Center\, 2050 Yulupa Avenue\, Santa Rosa\, CA\, 95405
CATEGORIES:LBA&GC
GEO:38.4369602;-122.6691319
X-APPLE-STRUCTURED-LOCATION;VALUE=URI;X-ADDRESS=Luther Burbank Art & Garden Center 2050 Yulupa Avenue Santa Rosa CA 95405;X-APPLE-RADIUS=500;X-TITLE=2050 Yulupa Avenue:geo:-122.6691319,38.4369602
END:VEVENT
BEGIN:VEVENT
DTSTART;TZID=America/Los_Angeles:20200309T130000
DTEND;TZID=America/Los_Angeles:20200309T143000
DTSTAMP:20260420T120055
CREATED:20200305T234509Z
LAST-MODIFIED:20200305T234509Z
UID:7589-1583758800-1583764200@lutherburbankartandgardencenter.com
SUMMARY:Center: Maintenance Committee meeting
DESCRIPTION:Cindy Moore
URL:http://lutherburbankartandgardencenter.com/event/center-maintenance-committee-meeting-11/
LOCATION:Luther Burbank Art & Garden Center\, 2050 Yulupa Avenue\, Santa Rosa\, CA\, 95405
CATEGORIES:LBA&GC
GEO:38.4369602;-122.6691319
X-APPLE-STRUCTURED-LOCATION;VALUE=URI;X-ADDRESS=Luther Burbank Art & Garden Center 2050 Yulupa Avenue Santa Rosa CA 95405;X-APPLE-RADIUS=500;X-TITLE=2050 Yulupa Avenue:geo:-122.6691319,38.4369602
END:VEVENT
BEGIN:VEVENT
DTSTART;TZID=America/Los_Angeles:20200307T140000
DTEND;TZID=America/Los_Angeles:20200307T230000
DTSTAMP:20260420T120055
CREATED:20200202T154538Z
LAST-MODIFIED:20200202T154538Z
UID:7509-1583589600-1583622000@lutherburbankartandgardencenter.com
SUMMARY:Birthday Party
DESCRIPTION:Dinalda Romo
URL:http://lutherburbankartandgardencenter.com/event/birthday-party-21/
LOCATION:Luther Burbank Art & Garden Center\, 2050 Yulupa Avenue\, Santa Rosa\, CA\, 95405
CATEGORIES:Outside Rental
GEO:38.4369602;-122.6691319
X-APPLE-STRUCTURED-LOCATION;VALUE=URI;X-ADDRESS=Luther Burbank Art & Garden Center 2050 Yulupa Avenue Santa Rosa CA 95405;X-APPLE-RADIUS=500;X-TITLE=2050 Yulupa Avenue:geo:-122.6691319,38.4369602
END:VEVENT
BEGIN:VEVENT
DTSTART;TZID=America/Los_Angeles:20200305T133000
DTEND;TZID=America/Los_Angeles:20200305T163000
DTSTAMP:20260420T120055
CREATED:20200224T000358Z
LAST-MODIFIED:20200224T000358Z
UID:7564-1583415000-1583425800@lutherburbankartandgardencenter.com
SUMMARY:SR Photographic Society Board Meeting
DESCRIPTION:Cheryl Akers
URL:http://lutherburbankartandgardencenter.com/event/sr-photographic-society-board-meeting-2/
LOCATION:Luther Burbank Art & Garden Center\, 2050 Yulupa Avenue\, Santa Rosa\, CA\, 95405
CATEGORIES:Member Club Event
GEO:38.4369602;-122.6691319
X-APPLE-STRUCTURED-LOCATION;VALUE=URI;X-ADDRESS=Luther Burbank Art & Garden Center 2050 Yulupa Avenue Santa Rosa CA 95405;X-APPLE-RADIUS=500;X-TITLE=2050 Yulupa Avenue:geo:-122.6691319,38.4369602
END:VEVENT
BEGIN:VEVENT
DTSTART;TZID=UTC:20200304T090000
DTEND;TZID=UTC:20200304T163000
DTSTAMP:20260420T120055
CREATED:20171031T054514Z
LAST-MODIFIED:20190911T225908Z
UID:5603-1583312400-1583339400@lutherburbankartandgardencenter.com
SUMMARY:RGFA
DESCRIPTION:Redwood Guild of Fiber Arts
URL:http://lutherburbankartandgardencenter.com/event/rgfa-2-2020-03-04/
LOCATION:Luther Burbank Art & Garden Center\, 2050 Yulupa Avenue\, Santa Rosa\, CA\, 95405
CATEGORIES:Member Club Event
GEO:38.4369602;-122.6691319
X-APPLE-STRUCTURED-LOCATION;VALUE=URI;X-ADDRESS=Luther Burbank Art & Garden Center 2050 Yulupa Avenue Santa Rosa CA 95405;X-APPLE-RADIUS=500;X-TITLE=2050 Yulupa Avenue:geo:-122.6691319,38.4369602
END:VEVENT
BEGIN:VEVENT
DTSTART;TZID=America/Los_Angeles:20200229T140000
DTEND;TZID=America/Los_Angeles:20200229T230000
DTSTAMP:20260420T120055
CREATED:20200108T003012Z
LAST-MODIFIED:20200220T011431Z
UID:7465-1582984800-1583017200@lutherburbankartandgardencenter.com
SUMMARY:Birthday Party
DESCRIPTION:John Castinelli
URL:http://lutherburbankartandgardencenter.com/event/birthday-party-14/
LOCATION:Luther Burbank Art & Garden Center\, 2050 Yulupa Avenue\, Santa Rosa\, CA\, 95405
CATEGORIES:Outside Rental
GEO:38.4369602;-122.6691319
X-APPLE-STRUCTURED-LOCATION;VALUE=URI;X-ADDRESS=Luther Burbank Art & Garden Center 2050 Yulupa Avenue Santa Rosa CA 95405;X-APPLE-RADIUS=500;X-TITLE=2050 Yulupa Avenue:geo:-122.6691319,38.4369602
END:VEVENT
BEGIN:VEVENT
DTSTART;TZID=America/Los_Angeles:20200228T160000
DTEND;TZID=America/Los_Angeles:20200228T220000
DTSTAMP:20260420T120055
CREATED:20200124T204251Z
LAST-MODIFIED:20200202T154710Z
UID:7493-1582905600-1582927200@lutherburbankartandgardencenter.com
SUMMARY:Birthday Party
DESCRIPTION:Anna Judd
URL:http://lutherburbankartandgardencenter.com/event/birthday-party-20/
LOCATION:Luther Burbank Art & Garden Center\, 2050 Yulupa Avenue\, Santa Rosa\, CA\, 95405
CATEGORIES:Outside Rental
GEO:38.4369602;-122.6691319
X-APPLE-STRUCTURED-LOCATION;VALUE=URI;X-ADDRESS=Luther Burbank Art & Garden Center 2050 Yulupa Avenue Santa Rosa CA 95405;X-APPLE-RADIUS=500;X-TITLE=2050 Yulupa Avenue:geo:-122.6691319,38.4369602
END:VEVENT
BEGIN:VEVENT
DTSTART;TZID=America/Los_Angeles:20200227T080000
DTEND;TZID=America/Los_Angeles:20200227T170000
DTSTAMP:20260420T120055
CREATED:20190912T234221Z
LAST-MODIFIED:20190912T234221Z
UID:7210-1582790400-1582822800@lutherburbankartandgardencenter.com
SUMMARY:Master Gardener Training Class
DESCRIPTION:
URL:http://lutherburbankartandgardencenter.com/event/master-gardener-training-class-5/
LOCATION:Luther Burbank Art & Garden Center\, 2050 Yulupa Avenue\, Santa Rosa\, CA\, 95405
CATEGORIES:Member Club Event
GEO:38.4369602;-122.6691319
X-APPLE-STRUCTURED-LOCATION;VALUE=URI;X-ADDRESS=Luther Burbank Art & Garden Center 2050 Yulupa Avenue Santa Rosa CA 95405;X-APPLE-RADIUS=500;X-TITLE=2050 Yulupa Avenue:geo:-122.6691319,38.4369602
END:VEVENT
BEGIN:VEVENT
DTSTART;TZID=America/Los_Angeles:20200223T090000
DTEND;TZID=America/Los_Angeles:20200223T150000
DTSTAMP:20260420T120055
CREATED:20200104T151933Z
LAST-MODIFIED:20200111T050253Z
UID:7451-1582448400-1582470000@lutherburbankartandgardencenter.com
SUMMARY:Baby Shower
DESCRIPTION:Kimberlee for Lynn Styles
URL:http://lutherburbankartandgardencenter.com/event/baby-shower-4/
LOCATION:Luther Burbank Art & Garden Center\, 2050 Yulupa Avenue\, Santa Rosa\, CA\, 95405
CATEGORIES:Outside Rental
GEO:38.4369602;-122.6691319
X-APPLE-STRUCTURED-LOCATION;VALUE=URI;X-ADDRESS=Luther Burbank Art & Garden Center 2050 Yulupa Avenue Santa Rosa CA 95405;X-APPLE-RADIUS=500;X-TITLE=2050 Yulupa Avenue:geo:-122.6691319,38.4369602
END:VEVENT
BEGIN:VEVENT
DTSTART;TZID=America/Los_Angeles:20200222T130000
DTEND;TZID=America/Los_Angeles:20200222T230000
DTSTAMP:20260420T120055
CREATED:20190611T204032Z
LAST-MODIFIED:20200221T002655Z
UID:6950-1582376400-1582412400@lutherburbankartandgardencenter.com
SUMMARY:Quinceanera
DESCRIPTION:Blanca Munoz
URL:http://lutherburbankartandgardencenter.com/event/quinceanera-4/
LOCATION:Luther Burbank Art & Garden Center\, 2050 Yulupa Avenue\, Santa Rosa\, CA\, 95405
CATEGORIES:Outside Rental
GEO:38.4369602;-122.6691319
X-APPLE-STRUCTURED-LOCATION;VALUE=URI;X-ADDRESS=Luther Burbank Art & Garden Center 2050 Yulupa Avenue Santa Rosa CA 95405;X-APPLE-RADIUS=500;X-TITLE=2050 Yulupa Avenue:geo:-122.6691319,38.4369602
END:VEVENT
BEGIN:VEVENT
DTSTART;TZID=America/Los_Angeles:20200220T080000
DTEND;TZID=America/Los_Angeles:20200220T163000
DTSTAMP:20260420T120055
CREATED:20190912T234001Z
LAST-MODIFIED:20190912T234001Z
UID:7208-1582185600-1582216200@lutherburbankartandgardencenter.com
SUMMARY:Master Gardener Training Class
DESCRIPTION:
URL:http://lutherburbankartandgardencenter.com/event/master-gardener-training-class-4/
LOCATION:Luther Burbank Art & Garden Center\, 2050 Yulupa Avenue\, Santa Rosa\, CA\, 95405
CATEGORIES:Member Club Event
GEO:38.4369602;-122.6691319
X-APPLE-STRUCTURED-LOCATION;VALUE=URI;X-ADDRESS=Luther Burbank Art & Garden Center 2050 Yulupa Avenue Santa Rosa CA 95405;X-APPLE-RADIUS=500;X-TITLE=2050 Yulupa Avenue:geo:-122.6691319,38.4369602
END:VEVENT
BEGIN:VEVENT
DTSTART;TZID=America/Los_Angeles:20200215T130000
DTEND;TZID=America/Los_Angeles:20200215T220000
DTSTAMP:20260420T120055
CREATED:20191004T222542Z
LAST-MODIFIED:20191004T222542Z
UID:7303-1581771600-1581804000@lutherburbankartandgardencenter.com
SUMMARY:Birthday Party
DESCRIPTION:Maria Gradilla
URL:http://lutherburbankartandgardencenter.com/event/birthday-party-11/
LOCATION:Luther Burbank Art & Garden Center\, 2050 Yulupa Avenue\, Santa Rosa\, CA\, 95405
CATEGORIES:Outside Rental
GEO:38.4369602;-122.6691319
X-APPLE-STRUCTURED-LOCATION;VALUE=URI;X-ADDRESS=Luther Burbank Art & Garden Center 2050 Yulupa Avenue Santa Rosa CA 95405;X-APPLE-RADIUS=500;X-TITLE=2050 Yulupa Avenue:geo:-122.6691319,38.4369602
END:VEVENT
BEGIN:VEVENT
DTSTART;TZID=America/Los_Angeles:20200210T130000
DTEND;TZID=America/Los_Angeles:20200210T140000
DTSTAMP:20260420T120055
CREATED:20200205T194209Z
LAST-MODIFIED:20200205T194209Z
UID:7529-1581339600-1581343200@lutherburbankartandgardencenter.com
SUMMARY:Center: Maintenance Meeting
DESCRIPTION:
URL:http://lutherburbankartandgardencenter.com/event/center-maintenance-meeting-2/
LOCATION:Luther Burbank Art & Garden Center\, 2050 Yulupa Avenue\, Santa Rosa\, CA\, 95405
CATEGORIES:LBA&GC
GEO:38.4369602;-122.6691319
X-APPLE-STRUCTURED-LOCATION;VALUE=URI;X-ADDRESS=Luther Burbank Art & Garden Center 2050 Yulupa Avenue Santa Rosa CA 95405;X-APPLE-RADIUS=500;X-TITLE=2050 Yulupa Avenue:geo:-122.6691319,38.4369602
END:VEVENT
BEGIN:VEVENT
DTSTART;TZID=America/Los_Angeles:20200209T110000
DTEND;TZID=America/Los_Angeles:20200209T170000
DTSTAMP:20260420T120055
CREATED:20191208T184159Z
LAST-MODIFIED:20200111T050404Z
UID:7427-1581246000-1581267600@lutherburbankartandgardencenter.com
SUMMARY:Fundraiser
DESCRIPTION:Susan Gorin\, Supervisor \nSabrine 835-7633
URL:http://lutherburbankartandgardencenter.com/event/fundraiser-3/
LOCATION:Luther Burbank Art & Garden Center\, 2050 Yulupa Avenue\, Santa Rosa\, CA\, 95405
CATEGORIES:Outside Rental
GEO:38.4369602;-122.6691319
X-APPLE-STRUCTURED-LOCATION;VALUE=URI;X-ADDRESS=Luther Burbank Art & Garden Center 2050 Yulupa Avenue Santa Rosa CA 95405;X-APPLE-RADIUS=500;X-TITLE=2050 Yulupa Avenue:geo:-122.6691319,38.4369602
END:VEVENT
BEGIN:VEVENT
DTSTART;TZID=UTC:20200205T090000
DTEND;TZID=UTC:20200205T163000
DTSTAMP:20260420T120055
CREATED:20171031T054514Z
LAST-MODIFIED:20190911T225703Z
UID:5512-1580893200-1580920200@lutherburbankartandgardencenter.com
SUMMARY:RGFA
DESCRIPTION:Redwood Guild of Fiber Arts
URL:http://lutherburbankartandgardencenter.com/event/rgfa-2-2020-02-05/
LOCATION:Luther Burbank Art & Garden Center\, 2050 Yulupa Avenue\, Santa Rosa\, CA\, 95405
CATEGORIES:Member Club Event
GEO:38.4369602;-122.6691319
X-APPLE-STRUCTURED-LOCATION;VALUE=URI;X-ADDRESS=Luther Burbank Art & Garden Center 2050 Yulupa Avenue Santa Rosa CA 95405;X-APPLE-RADIUS=500;X-TITLE=2050 Yulupa Avenue:geo:-122.6691319,38.4369602
END:VEVENT
BEGIN:VEVENT
DTSTART;TZID=America/Los_Angeles:20200130T080000
DTEND;TZID=America/Los_Angeles:20200130T170000
DTSTAMP:20260420T120055
CREATED:20190912T233801Z
LAST-MODIFIED:20190912T233801Z
UID:7206-1580371200-1580403600@lutherburbankartandgardencenter.com
SUMMARY:Master Gardener Training Class
DESCRIPTION:
URL:http://lutherburbankartandgardencenter.com/event/master-gardener-training-class-3/
LOCATION:Luther Burbank Art & Garden Center\, 2050 Yulupa Avenue\, Santa Rosa\, CA\, 95405
CATEGORIES:Member Club Event
GEO:38.4369602;-122.6691319
X-APPLE-STRUCTURED-LOCATION;VALUE=URI;X-ADDRESS=Luther Burbank Art & Garden Center 2050 Yulupa Avenue Santa Rosa CA 95405;X-APPLE-RADIUS=500;X-TITLE=2050 Yulupa Avenue:geo:-122.6691319,38.4369602
END:VEVENT
BEGIN:VEVENT
DTSTART;TZID=America/Los_Angeles:20200125T130000
DTEND;TZID=America/Los_Angeles:20200125T220000
DTSTAMP:20260420T120055
CREATED:20191107T220015Z
LAST-MODIFIED:20191124T190903Z
UID:7389-1579957200-1579989600@lutherburbankartandgardencenter.com
SUMMARY:Birthday Party
DESCRIPTION:Dean Hamlin
URL:http://lutherburbankartandgardencenter.com/event/birthday-party/
LOCATION:Luther Burbank Art & Garden Center\, 2050 Yulupa Avenue\, Santa Rosa\, CA\, 95405
CATEGORIES:Outside Rental
GEO:38.4369602;-122.6691319
X-APPLE-STRUCTURED-LOCATION;VALUE=URI;X-ADDRESS=Luther Burbank Art & Garden Center 2050 Yulupa Avenue Santa Rosa CA 95405;X-APPLE-RADIUS=500;X-TITLE=2050 Yulupa Avenue:geo:-122.6691319,38.4369602
END:VEVENT
BEGIN:VEVENT
DTSTART;TZID=America/Los_Angeles:20200123T080000
DTEND;TZID=America/Los_Angeles:20200123T170000
DTSTAMP:20260420T120055
CREATED:20190912T233531Z
LAST-MODIFIED:20190912T233531Z
UID:7204-1579766400-1579798800@lutherburbankartandgardencenter.com
SUMMARY:Master Gardener Training Class
DESCRIPTION:
URL:http://lutherburbankartandgardencenter.com/event/master-gardener-training-class-2/
LOCATION:Luther Burbank Art & Garden Center\, 2050 Yulupa Avenue\, Santa Rosa\, CA\, 95405
CATEGORIES:Member Club Event
GEO:38.4369602;-122.6691319
X-APPLE-STRUCTURED-LOCATION;VALUE=URI;X-ADDRESS=Luther Burbank Art & Garden Center 2050 Yulupa Avenue Santa Rosa CA 95405;X-APPLE-RADIUS=500;X-TITLE=2050 Yulupa Avenue:geo:-122.6691319,38.4369602
END:VEVENT
BEGIN:VEVENT
DTSTART;TZID=America/Los_Angeles:20200117T083000
DTEND;TZID=America/Los_Angeles:20200117T160000
DTSTAMP:20260420T120055
CREATED:20190819T152929Z
LAST-MODIFIED:20190819T152929Z
UID:7096-1579249800-1579276800@lutherburbankartandgardencenter.com
SUMMARY:SR Quilt Guild
DESCRIPTION:Laura Barrett
URL:http://lutherburbankartandgardencenter.com/event/sr-quilt-guild-8/2020-01-17/
LOCATION:Luther Burbank Art & Garden Center\, 2050 Yulupa Avenue\, Santa Rosa\, CA\, 95405
CATEGORIES:Member Club Event
GEO:38.4369602;-122.6691319
X-APPLE-STRUCTURED-LOCATION;VALUE=URI;X-ADDRESS=Luther Burbank Art & Garden Center 2050 Yulupa Avenue Santa Rosa CA 95405;X-APPLE-RADIUS=500;X-TITLE=2050 Yulupa Avenue:geo:-122.6691319,38.4369602
END:VEVENT
BEGIN:VEVENT
DTSTART;TZID=America/Los_Angeles:20200116T080000
DTEND;TZID=America/Los_Angeles:20200116T163000
DTSTAMP:20260420T120055
CREATED:20190912T233414Z
LAST-MODIFIED:20190912T233414Z
UID:7202-1579161600-1579192200@lutherburbankartandgardencenter.com
SUMMARY:Master Gardener Training Class
DESCRIPTION:
URL:http://lutherburbankartandgardencenter.com/event/master-gardener-training-class/
LOCATION:Luther Burbank Art & Garden Center\, 2050 Yulupa Avenue\, Santa Rosa\, CA\, 95405
CATEGORIES:Member Club Event
GEO:38.4369602;-122.6691319
X-APPLE-STRUCTURED-LOCATION;VALUE=URI;X-ADDRESS=Luther Burbank Art & Garden Center 2050 Yulupa Avenue Santa Rosa CA 95405;X-APPLE-RADIUS=500;X-TITLE=2050 Yulupa Avenue:geo:-122.6691319,38.4369602
END:VEVENT
BEGIN:VEVENT
DTSTART;TZID=America/Los_Angeles:20200113T130000
DTEND;TZID=America/Los_Angeles:20200113T150000
DTSTAMP:20260420T120055
CREATED:20190921T004709Z
LAST-MODIFIED:20191119T004956Z
UID:7247-1578920400-1578927600@lutherburbankartandgardencenter.com
SUMMARY:Center: Maintenance Committee Meeting
DESCRIPTION:
URL:http://lutherburbankartandgardencenter.com/event/center-maintenance-committee-meeting-10/
LOCATION:Luther Burbank Art & Garden Center\, 2050 Yulupa Avenue\, Santa Rosa\, CA\, 95405
CATEGORIES:LBA&GC
GEO:38.4369602;-122.6691319
X-APPLE-STRUCTURED-LOCATION;VALUE=URI;X-ADDRESS=Luther Burbank Art & Garden Center 2050 Yulupa Avenue Santa Rosa CA 95405;X-APPLE-RADIUS=500;X-TITLE=2050 Yulupa Avenue:geo:-122.6691319,38.4369602
END:VEVENT
BEGIN:VEVENT
DTSTART;TZID=America/Los_Angeles:20200111T080000
DTEND;TZID=America/Los_Angeles:20200111T180000
DTSTAMP:20260420T120055
CREATED:20191019T201930Z
LAST-MODIFIED:20191101T175724Z
UID:7327-1578729600-1578765600@lutherburbankartandgardencenter.com
SUMMARY:Memorial Gathering
DESCRIPTION:Stephanie Martin and Janet Morris
URL:http://lutherburbankartandgardencenter.com/event/celebration-of-life-20/
LOCATION:Luther Burbank Art & Garden Center\, 2050 Yulupa Avenue\, Santa Rosa\, CA\, 95405
CATEGORIES:Outside Rental
GEO:38.4369602;-122.6691319
X-APPLE-STRUCTURED-LOCATION;VALUE=URI;X-ADDRESS=Luther Burbank Art & Garden Center 2050 Yulupa Avenue Santa Rosa CA 95405;X-APPLE-RADIUS=500;X-TITLE=2050 Yulupa Avenue:geo:-122.6691319,38.4369602
END:VEVENT
BEGIN:VEVENT
DTSTART;TZID=America/Los_Angeles:20200108T100000
DTEND;TZID=America/Los_Angeles:20200108T150000
DTSTAMP:20260420T120055
CREATED:20190829T004537Z
LAST-MODIFIED:20210921T222001Z
UID:7132-1578477600-1578495600@lutherburbankartandgardencenter.com
SUMMARY:Redwood Stitchers
DESCRIPTION:Redwood Stitchers meet on the 2nd and 4th Wednesday in January and most other months
URL:http://lutherburbankartandgardencenter.com/event/redwood-stitchers-27/2020-01-08/
LOCATION:Luther Burbank Art & Garden Center\, 2050 Yulupa Avenue\, Santa Rosa\, CA\, 95405
GEO:38.4369602;-122.6691319
X-APPLE-STRUCTURED-LOCATION;VALUE=URI;X-ADDRESS=Luther Burbank Art & Garden Center 2050 Yulupa Avenue Santa Rosa CA 95405;X-APPLE-RADIUS=500;X-TITLE=2050 Yulupa Avenue:geo:-122.6691319,38.4369602
END:VEVENT
END:VCALENDAR