BEGIN:VCALENDAR
VERSION:2.0
PRODID:-//Luther Burbank Art and Garden Center - ECPv6.8.2.1//NONSGML v1.0//EN
CALSCALE:GREGORIAN
METHOD:PUBLISH
X-ORIGINAL-URL:http://lutherburbankartandgardencenter.com
X-WR-CALDESC:Events for Luther Burbank Art and Garden Center
REFRESH-INTERVAL;VALUE=DURATION:PT1H
X-Robots-Tag:noindex
X-PUBLISHED-TTL:PT1H
BEGIN:VTIMEZONE
TZID:America/Los_Angeles
BEGIN:DAYLIGHT
TZOFFSETFROM:-0800
TZOFFSETTO:-0700
TZNAME:PDT
DTSTART:20200308T100000
END:DAYLIGHT
BEGIN:STANDARD
TZOFFSETFROM:-0700
TZOFFSETTO:-0800
TZNAME:PST
DTSTART:20201101T090000
END:STANDARD
TZID:UTC
BEGIN:STANDARD
TZOFFSETFROM:+0000
TZOFFSETTO:+0000
TZNAME:UTC
DTSTART:20200101T000000
END:STANDARD
END:VTIMEZONE
BEGIN:VEVENT
DTSTART;TZID=America/Los_Angeles:20201101T080000
DTEND;TZID=America/Los_Angeles:20201101T170000
DTSTAMP:20260420T043936
CREATED:20200205T182054Z
LAST-MODIFIED:20200205T182054Z
UID:7523-1604217600-1604250000@lutherburbankartandgardencenter.com
SUMMARY:WASCO Workshop
DESCRIPTION:Diana Liebe
URL:http://lutherburbankartandgardencenter.com/event/wasco-workshop-3/
LOCATION:Luther Burbank Art & Garden Center\, 2050 Yulupa Avenue\, Santa Rosa\, CA\, 95405
CATEGORIES:Member Club Event
GEO:38.4369602;-122.6691319
X-APPLE-STRUCTURED-LOCATION;VALUE=URI;X-ADDRESS=Luther Burbank Art & Garden Center 2050 Yulupa Avenue Santa Rosa CA 95405;X-APPLE-RADIUS=500;X-TITLE=2050 Yulupa Avenue:geo:-122.6691319,38.4369602
END:VEVENT
BEGIN:VEVENT
DTSTART;TZID=America/Los_Angeles:20201031T080000
DTEND;TZID=America/Los_Angeles:20201031T170000
DTSTAMP:20260420T043936
CREATED:20200205T181953Z
LAST-MODIFIED:20200205T181953Z
UID:7521-1604131200-1604163600@lutherburbankartandgardencenter.com
SUMMARY:WASCO Workshop
DESCRIPTION:Diana Liebe
URL:http://lutherburbankartandgardencenter.com/event/wasco-workshop-2/
LOCATION:Luther Burbank Art & Garden Center\, 2050 Yulupa Avenue\, Santa Rosa\, CA\, 95405
CATEGORIES:Member Club Event
GEO:38.4369602;-122.6691319
X-APPLE-STRUCTURED-LOCATION;VALUE=URI;X-ADDRESS=Luther Burbank Art & Garden Center 2050 Yulupa Avenue Santa Rosa CA 95405;X-APPLE-RADIUS=500;X-TITLE=2050 Yulupa Avenue:geo:-122.6691319,38.4369602
END:VEVENT
BEGIN:VEVENT
DTSTART;TZID=America/Los_Angeles:20201030T080000
DTEND;TZID=America/Los_Angeles:20201030T170000
DTSTAMP:20260420T043936
CREATED:20200205T181849Z
LAST-MODIFIED:20200205T181849Z
UID:7519-1604044800-1604077200@lutherburbankartandgardencenter.com
SUMMARY:WASCO Workshop
DESCRIPTION:Diana Liebe workshop coordinator
URL:http://lutherburbankartandgardencenter.com/event/wasco-workshop/
LOCATION:Luther Burbank Art & Garden Center\, 2050 Yulupa Avenue\, Santa Rosa\, CA\, 95405
CATEGORIES:Member Club Event
GEO:38.4369602;-122.6691319
X-APPLE-STRUCTURED-LOCATION;VALUE=URI;X-ADDRESS=Luther Burbank Art & Garden Center 2050 Yulupa Avenue Santa Rosa CA 95405;X-APPLE-RADIUS=500;X-TITLE=2050 Yulupa Avenue:geo:-122.6691319,38.4369602
END:VEVENT
BEGIN:VEVENT
DTSTART;TZID=America/Los_Angeles:20201029T083000
DTEND;TZID=America/Los_Angeles:20201029T153000
DTSTAMP:20260420T043936
CREATED:20191022T170946Z
LAST-MODIFIED:20191022T170946Z
UID:7358-1603960200-1603985400@lutherburbankartandgardencenter.com
SUMMARY:Santa Rosa Quilt Guild Quiltathon
DESCRIPTION:
URL:http://lutherburbankartandgardencenter.com/event/santa-rosa-quilt-guild-quiltathon-2/
LOCATION:Luther Burbank Art & Garden Center\, 2050 Yulupa Avenue\, Santa Rosa\, CA\, 95405
CATEGORIES:Member Club Event
GEO:38.4369602;-122.6691319
X-APPLE-STRUCTURED-LOCATION;VALUE=URI;X-ADDRESS=Luther Burbank Art & Garden Center 2050 Yulupa Avenue Santa Rosa CA 95405;X-APPLE-RADIUS=500;X-TITLE=2050 Yulupa Avenue:geo:-122.6691319,38.4369602
END:VEVENT
BEGIN:VEVENT
DTSTART;TZID=America/Los_Angeles:20201022T173000
DTEND;TZID=America/Los_Angeles:20201022T223000
DTSTAMP:20260420T043936
CREATED:20200307T190404Z
LAST-MODIFIED:20200307T190404Z
UID:7607-1603387800-1603405800@lutherburbankartandgardencenter.com
SUMMARY:SR Photographic Society
DESCRIPTION:Cheryl Akers
URL:http://lutherburbankartandgardencenter.com/event/sr-photographic-society-9/
LOCATION:Luther Burbank Art & Garden Center\, 2050 Yulupa Avenue\, Santa Rosa\, CA\, 95405
CATEGORIES:Member Club Event
GEO:38.4369602;-122.6691319
X-APPLE-STRUCTURED-LOCATION;VALUE=URI;X-ADDRESS=Luther Burbank Art & Garden Center 2050 Yulupa Avenue Santa Rosa CA 95405;X-APPLE-RADIUS=500;X-TITLE=2050 Yulupa Avenue:geo:-122.6691319,38.4369602
END:VEVENT
BEGIN:VEVENT
DTSTART;TZID=UTC:20201007T090000
DTEND;TZID=UTC:20201007T163000
DTSTAMP:20260420T043936
CREATED:20171031T054514Z
LAST-MODIFIED:20190911T230703Z
UID:6232-1602061200-1602088200@lutherburbankartandgardencenter.com
SUMMARY:RGFA
DESCRIPTION:Redwood Guild of Fiber Arts
URL:http://lutherburbankartandgardencenter.com/event/rgfa-2-2020-10-07/
LOCATION:Luther Burbank Art & Garden Center\, 2050 Yulupa Avenue\, Santa Rosa\, CA\, 95405
CATEGORIES:Member Club Event
GEO:38.4369602;-122.6691319
X-APPLE-STRUCTURED-LOCATION;VALUE=URI;X-ADDRESS=Luther Burbank Art & Garden Center 2050 Yulupa Avenue Santa Rosa CA 95405;X-APPLE-RADIUS=500;X-TITLE=2050 Yulupa Avenue:geo:-122.6691319,38.4369602
END:VEVENT
BEGIN:VEVENT
DTSTART;TZID=America/Los_Angeles:20200926T120000
DTEND;TZID=America/Los_Angeles:20200926T230000
DTSTAMP:20260420T043936
CREATED:20200302T230935Z
LAST-MODIFIED:20200311T151033Z
UID:7577-1601121600-1601161200@lutherburbankartandgardencenter.com
SUMMARY:Quinceañera
DESCRIPTION:Nancy Cabrera/Eduardo Cabrera \n  \nPaid for two extra hours out of the deposit 3/9
URL:http://lutherburbankartandgardencenter.com/event/quinceanera-5/
LOCATION:Luther Burbank Art & Garden Center\, 2050 Yulupa Avenue\, Santa Rosa\, CA\, 95405
CATEGORIES:Outside Rental
GEO:38.4369602;-122.6691319
X-APPLE-STRUCTURED-LOCATION;VALUE=URI;X-ADDRESS=Luther Burbank Art & Garden Center 2050 Yulupa Avenue Santa Rosa CA 95405;X-APPLE-RADIUS=500;X-TITLE=2050 Yulupa Avenue:geo:-122.6691319,38.4369602
END:VEVENT
BEGIN:VEVENT
DTSTART;TZID=America/Los_Angeles:20200924T173000
DTEND;TZID=America/Los_Angeles:20200924T223000
DTSTAMP:20260420T043936
CREATED:20200307T190254Z
LAST-MODIFIED:20200307T190254Z
UID:7605-1600968600-1600986600@lutherburbankartandgardencenter.com
SUMMARY:SR Photographic Society
DESCRIPTION:Cheryl Akers
URL:http://lutherburbankartandgardencenter.com/event/sr-photographic-society-8/
LOCATION:Luther Burbank Art & Garden Center\, 2050 Yulupa Avenue\, Santa Rosa\, CA\, 95405
CATEGORIES:Member Club Event
GEO:38.4369602;-122.6691319
X-APPLE-STRUCTURED-LOCATION;VALUE=URI;X-ADDRESS=Luther Burbank Art & Garden Center 2050 Yulupa Avenue Santa Rosa CA 95405;X-APPLE-RADIUS=500;X-TITLE=2050 Yulupa Avenue:geo:-122.6691319,38.4369602
END:VEVENT
BEGIN:VEVENT
DTSTART;TZID=America/Los_Angeles:20200918T083000
DTEND;TZID=America/Los_Angeles:20200918T160000
DTSTAMP:20260420T043936
CREATED:20191106T201652Z
LAST-MODIFIED:20191217T185524Z
UID:7387-1600417800-1600444800@lutherburbankartandgardencenter.com
SUMMARY:SR Quilt Guild
DESCRIPTION:
URL:http://lutherburbankartandgardencenter.com/event/sr-quilt-guild-workshop-2/
LOCATION:Luther Burbank Art & Garden Center\, 2050 Yulupa Avenue\, Santa Rosa\, CA\, 95405
CATEGORIES:Member Club Event
GEO:38.4369602;-122.6691319
X-APPLE-STRUCTURED-LOCATION;VALUE=URI;X-ADDRESS=Luther Burbank Art & Garden Center 2050 Yulupa Avenue Santa Rosa CA 95405;X-APPLE-RADIUS=500;X-TITLE=2050 Yulupa Avenue:geo:-122.6691319,38.4369602
END:VEVENT
BEGIN:VEVENT
DTSTART;TZID=UTC:20200902T090000
DTEND;TZID=UTC:20200902T163000
DTSTAMP:20260420T043936
CREATED:20171031T054514Z
LAST-MODIFIED:20190911T230554Z
UID:6120-1599037200-1599064200@lutherburbankartandgardencenter.com
SUMMARY:RGFA
DESCRIPTION:Redwood Guild of Fiber Arts
URL:http://lutherburbankartandgardencenter.com/event/rgfa-2-2020-09-02/
LOCATION:Luther Burbank Art & Garden Center\, 2050 Yulupa Avenue\, Santa Rosa\, CA\, 95405
CATEGORIES:Member Club Event
GEO:38.4369602;-122.6691319
X-APPLE-STRUCTURED-LOCATION;VALUE=URI;X-ADDRESS=Luther Burbank Art & Garden Center 2050 Yulupa Avenue Santa Rosa CA 95405;X-APPLE-RADIUS=500;X-TITLE=2050 Yulupa Avenue:geo:-122.6691319,38.4369602
END:VEVENT
BEGIN:VEVENT
DTSTART;TZID=America/Los_Angeles:20200828T100000
DTEND;TZID=America/Los_Angeles:20200828T230000
DTSTAMP:20260420T043936
CREATED:20190615T222853Z
LAST-MODIFIED:20190615T222853Z
UID:6959-1598608800-1598655600@lutherburbankartandgardencenter.com
SUMMARY:Wedding Reception
DESCRIPTION:Naomi Walker and Chris Soeters
URL:http://lutherburbankartandgardencenter.com/event/wedding-reception-2/
LOCATION:Luther Burbank Art & Garden Center\, 2050 Yulupa Avenue\, Santa Rosa\, CA\, 95405
CATEGORIES:Outside Rental
GEO:38.4369602;-122.6691319
X-APPLE-STRUCTURED-LOCATION;VALUE=URI;X-ADDRESS=Luther Burbank Art & Garden Center 2050 Yulupa Avenue Santa Rosa CA 95405;X-APPLE-RADIUS=500;X-TITLE=2050 Yulupa Avenue:geo:-122.6691319,38.4369602
END:VEVENT
BEGIN:VEVENT
DTSTART;TZID=America/Los_Angeles:20200827T173000
DTEND;TZID=America/Los_Angeles:20200827T223000
DTSTAMP:20260420T043936
CREATED:20200307T190150Z
LAST-MODIFIED:20200307T190150Z
UID:7603-1598549400-1598567400@lutherburbankartandgardencenter.com
SUMMARY:SR Photographic Society
DESCRIPTION:Cheryl Akers
URL:http://lutherburbankartandgardencenter.com/event/sr-photographic-society-7/
LOCATION:Luther Burbank Art & Garden Center\, 2050 Yulupa Avenue\, Santa Rosa\, CA\, 95405
CATEGORIES:Member Club Event
GEO:38.4369602;-122.6691319
X-APPLE-STRUCTURED-LOCATION;VALUE=URI;X-ADDRESS=Luther Burbank Art & Garden Center 2050 Yulupa Avenue Santa Rosa CA 95405;X-APPLE-RADIUS=500;X-TITLE=2050 Yulupa Avenue:geo:-122.6691319,38.4369602
END:VEVENT
BEGIN:VEVENT
DTSTART;TZID=UTC:20200819T170000
DTEND;TZID=UTC:20200819T210000
DTSTAMP:20260420T043936
CREATED:20171024T094124Z
LAST-MODIFIED:20190925T195230Z
UID:7268-1597856400-1597870800@lutherburbankartandgardencenter.com
SUMMARY:Master Gardeners
DESCRIPTION:Summer hours are in effect \nMaster Gardeners meets the third Wednesday of each month.\nEvening Meetings: May\, June\, August @ 5pm–9pm\nDay Meetings: September – April (not December) @ 11am–3pm\nIn November the meeting moves to Thursday \nNo meetings at LBA&GC in July or December
URL:http://lutherburbankartandgardencenter.com/event/master-gardeners-2020-08-19/
LOCATION:Luther Burbank Art & Garden Center\, 2050 Yulupa Avenue\, Santa Rosa\, CA\, 95405
CATEGORIES:Member Club Event
GEO:38.4369602;-122.6691319
X-APPLE-STRUCTURED-LOCATION;VALUE=URI;X-ADDRESS=Luther Burbank Art & Garden Center 2050 Yulupa Avenue Santa Rosa CA 95405;X-APPLE-RADIUS=500;X-TITLE=2050 Yulupa Avenue:geo:-122.6691319,38.4369602
END:VEVENT
BEGIN:VEVENT
DTSTART;TZID=America/Los_Angeles:20200808T140000
DTEND;TZID=America/Los_Angeles:20200808T230000
DTSTAMP:20260420T043936
CREATED:20200224T003201Z
LAST-MODIFIED:20200224T003201Z
UID:7566-1596895200-1596927600@lutherburbankartandgardencenter.com
SUMMARY:Baptism Celebration
DESCRIPTION:Elizabeth Hernandez
URL:http://lutherburbankartandgardencenter.com/event/baptism-celebration-2/
LOCATION:Luther Burbank Art & Garden Center\, 2050 Yulupa Avenue\, Santa Rosa\, CA\, 95405
CATEGORIES:Outside Rental
GEO:38.4369602;-122.6691319
X-APPLE-STRUCTURED-LOCATION;VALUE=URI;X-ADDRESS=Luther Burbank Art & Garden Center 2050 Yulupa Avenue Santa Rosa CA 95405;X-APPLE-RADIUS=500;X-TITLE=2050 Yulupa Avenue:geo:-122.6691319,38.4369602
END:VEVENT
BEGIN:VEVENT
DTSTART;TZID=America/Los_Angeles:20200730T083000
DTEND;TZID=America/Los_Angeles:20200730T153000
DTSTAMP:20260420T043936
CREATED:20191022T170723Z
LAST-MODIFIED:20191022T170723Z
UID:7356-1596097800-1596123000@lutherburbankartandgardencenter.com
SUMMARY:Santa Rosa Quilt Guild Quiltathon
DESCRIPTION:
URL:http://lutherburbankartandgardencenter.com/event/santa-rosa-quilt-guild-quiltathon/
LOCATION:Luther Burbank Art & Garden Center\, 2050 Yulupa Avenue\, Santa Rosa\, CA\, 95405
CATEGORIES:Member Club Event
GEO:38.4369602;-122.6691319
X-APPLE-STRUCTURED-LOCATION;VALUE=URI;X-ADDRESS=Luther Burbank Art & Garden Center 2050 Yulupa Avenue Santa Rosa CA 95405;X-APPLE-RADIUS=500;X-TITLE=2050 Yulupa Avenue:geo:-122.6691319,38.4369602
END:VEVENT
BEGIN:VEVENT
DTSTART;TZID=America/Los_Angeles:20200724T080000
DTEND;TZID=America/Los_Angeles:20200727T170000
DTSTAMP:20260420T043936
CREATED:20200305T234813Z
LAST-MODIFIED:20200307T185639Z
UID:7593-1595577600-1595869200@lutherburbankartandgardencenter.com
SUMMARY:Center: Maintenance
DESCRIPTION:
URL:http://lutherburbankartandgardencenter.com/event/center-maintenance-2/
LOCATION:Luther Burbank Art & Garden Center\, 2050 Yulupa Avenue\, Santa Rosa\, CA\, 95405
CATEGORIES:LBA&GC
GEO:38.4369602;-122.6691319
X-APPLE-STRUCTURED-LOCATION;VALUE=URI;X-ADDRESS=Luther Burbank Art & Garden Center 2050 Yulupa Avenue Santa Rosa CA 95405;X-APPLE-RADIUS=500;X-TITLE=2050 Yulupa Avenue:geo:-122.6691319,38.4369602
END:VEVENT
BEGIN:VEVENT
DTSTART;TZID=America/Los_Angeles:20200723T173000
DTEND;TZID=America/Los_Angeles:20200723T223000
DTSTAMP:20260420T043936
CREATED:20200307T185746Z
LAST-MODIFIED:20200307T185746Z
UID:7601-1595525400-1595543400@lutherburbankartandgardencenter.com
SUMMARY:SR Photographic Society
DESCRIPTION:Cheryl Akers
URL:http://lutherburbankartandgardencenter.com/event/sr-photographic-society-6/
LOCATION:Luther Burbank Art & Garden Center\, 2050 Yulupa Avenue\, Santa Rosa\, CA\, 95405
CATEGORIES:Member Club Event
GEO:38.4369602;-122.6691319
X-APPLE-STRUCTURED-LOCATION;VALUE=URI;X-ADDRESS=Luther Burbank Art & Garden Center 2050 Yulupa Avenue Santa Rosa CA 95405;X-APPLE-RADIUS=500;X-TITLE=2050 Yulupa Avenue:geo:-122.6691319,38.4369602
END:VEVENT
BEGIN:VEVENT
DTSTART;TZID=America/Los_Angeles:20200630T183000
DTEND;TZID=America/Los_Angeles:20200630T213000
DTSTAMP:20260420T043936
CREATED:20200310T231455Z
LAST-MODIFIED:20200310T231455Z
UID:7620-1593541800-1593552600@lutherburbankartandgardencenter.com
SUMMARY:Men's Garden Club
DESCRIPTION:Dave Berg
URL:http://lutherburbankartandgardencenter.com/event/mens-garden-club-3/
LOCATION:Luther Burbank Art & Garden Center\, 2050 Yulupa Avenue\, Santa Rosa\, CA\, 95405
CATEGORIES:Member Club Event
GEO:38.4369602;-122.6691319
X-APPLE-STRUCTURED-LOCATION;VALUE=URI;X-ADDRESS=Luther Burbank Art & Garden Center 2050 Yulupa Avenue Santa Rosa CA 95405;X-APPLE-RADIUS=500;X-TITLE=2050 Yulupa Avenue:geo:-122.6691319,38.4369602
END:VEVENT
BEGIN:VEVENT
DTSTART;TZID=America/Los_Angeles:20200625T173000
DTEND;TZID=America/Los_Angeles:20200625T223000
DTSTAMP:20260420T043936
CREATED:20200307T185444Z
LAST-MODIFIED:20200307T185444Z
UID:7599-1593106200-1593124200@lutherburbankartandgardencenter.com
SUMMARY:SR Photographic Society
DESCRIPTION:Cheryl Akers
URL:http://lutherburbankartandgardencenter.com/event/sr-photographic-society-5/
LOCATION:Luther Burbank Art & Garden Center\, 2050 Yulupa Avenue\, Santa Rosa\, CA\, 95405
CATEGORIES:Member Club Event
GEO:38.4369602;-122.6691319
X-APPLE-STRUCTURED-LOCATION;VALUE=URI;X-ADDRESS=Luther Burbank Art & Garden Center 2050 Yulupa Avenue Santa Rosa CA 95405;X-APPLE-RADIUS=500;X-TITLE=2050 Yulupa Avenue:geo:-122.6691319,38.4369602
END:VEVENT
BEGIN:VEVENT
DTSTART;TZID=UTC:20200617T170000
DTEND;TZID=UTC:20200617T210000
DTSTAMP:20260420T043936
CREATED:20171024T094124Z
LAST-MODIFIED:20190925T195026Z
UID:7267-1592413200-1592427600@lutherburbankartandgardencenter.com
SUMMARY:Master Gardeners
DESCRIPTION:Summer hours are in effect \nMaster Gardeners meets the third Wednesday of each month.\nEvening Meetings: May\, June\, August @ 5pm–9pm\nDay Meetings: September – April (not December) @ 11am–3pm\nIn November the meeting moves to Thursday \nNo meetings at LBA&GC in July or December
URL:http://lutherburbankartandgardencenter.com/event/master-gardeners-2020-06-17/
LOCATION:Luther Burbank Art & Garden Center\, 2050 Yulupa Avenue\, Santa Rosa\, CA\, 95405
CATEGORIES:Member Club Event
GEO:38.4369602;-122.6691319
X-APPLE-STRUCTURED-LOCATION;VALUE=URI;X-ADDRESS=Luther Burbank Art & Garden Center 2050 Yulupa Avenue Santa Rosa CA 95405;X-APPLE-RADIUS=500;X-TITLE=2050 Yulupa Avenue:geo:-122.6691319,38.4369602
END:VEVENT
BEGIN:VEVENT
DTSTART;TZID=UTC:20200603T090000
DTEND;TZID=UTC:20200603T140000
DTSTAMP:20260420T043936
CREATED:20171031T054514Z
LAST-MODIFIED:20190911T230229Z
UID:5826-1591174800-1591192800@lutherburbankartandgardencenter.com
SUMMARY:RGFA
DESCRIPTION:Redwood Guild of Fiber Arts
URL:http://lutherburbankartandgardencenter.com/event/rgfa-2-2020-06-03/
LOCATION:Luther Burbank Art & Garden Center\, 2050 Yulupa Avenue\, Santa Rosa\, CA\, 95405
CATEGORIES:Member Club Event
GEO:38.4369602;-122.6691319
X-APPLE-STRUCTURED-LOCATION;VALUE=URI;X-ADDRESS=Luther Burbank Art & Garden Center 2050 Yulupa Avenue Santa Rosa CA 95405;X-APPLE-RADIUS=500;X-TITLE=2050 Yulupa Avenue:geo:-122.6691319,38.4369602
END:VEVENT
BEGIN:VEVENT
DTSTART;TZID=America/Los_Angeles:20200531T140000
DTEND;TZID=America/Los_Angeles:20200531T230000
DTSTAMP:20260420T043936
CREATED:20200311T150819Z
LAST-MODIFIED:20200311T150819Z
UID:7624-1590933600-1590966000@lutherburbankartandgardencenter.com
SUMMARY:Birthday Party
DESCRIPTION:Maricarmen Guerrero
URL:http://lutherburbankartandgardencenter.com/event/birthday-party-23/
LOCATION:Luther Burbank Art & Garden Center\, 2050 Yulupa Avenue\, Santa Rosa\, CA\, 95405
CATEGORIES:Outside Rental
GEO:38.4369602;-122.6691319
X-APPLE-STRUCTURED-LOCATION;VALUE=URI;X-ADDRESS=Luther Burbank Art & Garden Center 2050 Yulupa Avenue Santa Rosa CA 95405;X-APPLE-RADIUS=500;X-TITLE=2050 Yulupa Avenue:geo:-122.6691319,38.4369602
END:VEVENT
BEGIN:VEVENT
DTSTART;TZID=America/Los_Angeles:20200528T173000
DTEND;TZID=America/Los_Angeles:20200528T223000
DTSTAMP:20260420T043936
CREATED:20190913T000022Z
LAST-MODIFIED:20200310T232836Z
UID:7224-1590687000-1590705000@lutherburbankartandgardencenter.com
SUMMARY:SR Photographic Society
DESCRIPTION:
URL:http://lutherburbankartandgardencenter.com/event/master-gardner-training-class-graduation/
LOCATION:Luther Burbank Art & Garden Center\, 2050 Yulupa Avenue\, Santa Rosa\, CA\, 95405
CATEGORIES:Member Club Event
GEO:38.4369602;-122.6691319
X-APPLE-STRUCTURED-LOCATION;VALUE=URI;X-ADDRESS=Luther Burbank Art & Garden Center 2050 Yulupa Avenue Santa Rosa CA 95405;X-APPLE-RADIUS=500;X-TITLE=2050 Yulupa Avenue:geo:-122.6691319,38.4369602
END:VEVENT
BEGIN:VEVENT
DTSTART;TZID=America/Los_Angeles:20200522T083000
DTEND;TZID=America/Los_Angeles:20200522T160000
DTSTAMP:20260420T043936
CREATED:20191106T201506Z
LAST-MODIFIED:20191217T185308Z
UID:7385-1590136200-1590163200@lutherburbankartandgardencenter.com
SUMMARY:SR Quilt Guild
DESCRIPTION:
URL:http://lutherburbankartandgardencenter.com/event/sr-quilt-guild-workshop/
LOCATION:Luther Burbank Art & Garden Center\, 2050 Yulupa Avenue\, Santa Rosa\, CA\, 95405
CATEGORIES:Member Club Event
GEO:38.4369602;-122.6691319
X-APPLE-STRUCTURED-LOCATION;VALUE=URI;X-ADDRESS=Luther Burbank Art & Garden Center 2050 Yulupa Avenue Santa Rosa CA 95405;X-APPLE-RADIUS=500;X-TITLE=2050 Yulupa Avenue:geo:-122.6691319,38.4369602
END:VEVENT
BEGIN:VEVENT
DTSTART;TZID=UTC:20200520T170000
DTEND;TZID=UTC:20200520T210000
DTSTAMP:20260420T043936
CREATED:20171024T094124Z
LAST-MODIFIED:20190925T194911Z
UID:7266-1589994000-1590008400@lutherburbankartandgardencenter.com
SUMMARY:Master Gardeners
DESCRIPTION:Summer hours are in effect \nMaster Gardeners meets the third Wednesday of each month.\nEvening Meetings: May\, June\, August @ 5pm–9pm\nDay Meetings: September – April (not December) @ 11am–3pm\nIn November the meeting moves to Thursday \nNo meetings at LBA&GC in July or December
URL:http://lutherburbankartandgardencenter.com/event/master-gardeners-2020-05-20/
LOCATION:Luther Burbank Art & Garden Center\, 2050 Yulupa Avenue\, Santa Rosa\, CA\, 95405
CATEGORIES:Member Club Event
GEO:38.4369602;-122.6691319
X-APPLE-STRUCTURED-LOCATION;VALUE=URI;X-ADDRESS=Luther Burbank Art & Garden Center 2050 Yulupa Avenue Santa Rosa CA 95405;X-APPLE-RADIUS=500;X-TITLE=2050 Yulupa Avenue:geo:-122.6691319,38.4369602
END:VEVENT
BEGIN:VEVENT
DTSTART;TZID=America/Los_Angeles:20200510T080000
DTEND;TZID=America/Los_Angeles:20200510T180000
DTSTAMP:20260420T043936
CREATED:20191025T142921Z
LAST-MODIFIED:20191025T142921Z
UID:7365-1589097600-1589133600@lutherburbankartandgardencenter.com
SUMMARY:Iris Society Show
DESCRIPTION:
URL:http://lutherburbankartandgardencenter.com/event/iris-society-show-2/
LOCATION:Luther Burbank Art & Garden Center\, 2050 Yulupa Avenue\, Santa Rosa\, CA\, 95405
CATEGORIES:Member Club Event
GEO:38.4369602;-122.6691319
X-APPLE-STRUCTURED-LOCATION;VALUE=URI;X-ADDRESS=Luther Burbank Art & Garden Center 2050 Yulupa Avenue Santa Rosa CA 95405;X-APPLE-RADIUS=500;X-TITLE=2050 Yulupa Avenue:geo:-122.6691319,38.4369602
END:VEVENT
BEGIN:VEVENT
DTSTART;TZID=America/Los_Angeles:20200509T080000
DTEND;TZID=America/Los_Angeles:20200509T180000
DTSTAMP:20260420T043936
CREATED:20191025T142821Z
LAST-MODIFIED:20191025T142821Z
UID:7363-1589011200-1589047200@lutherburbankartandgardencenter.com
SUMMARY:Iris Society Show
DESCRIPTION:
URL:http://lutherburbankartandgardencenter.com/event/iris-society-show/
LOCATION:Luther Burbank Art & Garden Center\, 2050 Yulupa Avenue\, Santa Rosa\, CA\, 95405
CATEGORIES:Member Club Event
GEO:38.4369602;-122.6691319
X-APPLE-STRUCTURED-LOCATION;VALUE=URI;X-ADDRESS=Luther Burbank Art & Garden Center 2050 Yulupa Avenue Santa Rosa CA 95405;X-APPLE-RADIUS=500;X-TITLE=2050 Yulupa Avenue:geo:-122.6691319,38.4369602
END:VEVENT
BEGIN:VEVENT
DTSTART;TZID=America/Los_Angeles:20200508T150000
DTEND;TZID=America/Los_Angeles:20200508T180000
DTSTAMP:20260420T043936
CREATED:20191022T000759Z
LAST-MODIFIED:20191025T142741Z
UID:7343-1588950000-1588960800@lutherburbankartandgardencenter.com
SUMMARY:Iris Society Show
DESCRIPTION:Jeff Davis
URL:http://lutherburbankartandgardencenter.com/event/setup-for-gardening-event-2/
LOCATION:Luther Burbank Art & Garden Center\, 2050 Yulupa Avenue\, Santa Rosa\, CA\, 95405
CATEGORIES:Member Club Event
GEO:38.4369602;-122.6691319
X-APPLE-STRUCTURED-LOCATION;VALUE=URI;X-ADDRESS=Luther Burbank Art & Garden Center 2050 Yulupa Avenue Santa Rosa CA 95405;X-APPLE-RADIUS=500;X-TITLE=2050 Yulupa Avenue:geo:-122.6691319,38.4369602
END:VEVENT
BEGIN:VEVENT
DTSTART;TZID=America/Los_Angeles:20200507T130000
DTEND;TZID=America/Los_Angeles:20200507T180000
DTSTAMP:20260420T043936
CREATED:20190912T235903Z
LAST-MODIFIED:20190912T235903Z
UID:7222-1588856400-1588874400@lutherburbankartandgardencenter.com
SUMMARY:Master Gardener Training Class
DESCRIPTION:
URL:http://lutherburbankartandgardencenter.com/event/master-gardener-training-class-11/
LOCATION:Luther Burbank Art & Garden Center\, 2050 Yulupa Avenue\, Santa Rosa\, CA\, 95405
CATEGORIES:Member Club Event
GEO:38.4369602;-122.6691319
X-APPLE-STRUCTURED-LOCATION;VALUE=URI;X-ADDRESS=Luther Burbank Art & Garden Center 2050 Yulupa Avenue Santa Rosa CA 95405;X-APPLE-RADIUS=500;X-TITLE=2050 Yulupa Avenue:geo:-122.6691319,38.4369602
END:VEVENT
BEGIN:VEVENT
DTSTART;TZID=UTC:20200506T090000
DTEND;TZID=UTC:20200506T163000
DTSTAMP:20260420T043936
CREATED:20171031T054514Z
LAST-MODIFIED:20190911T230132Z
UID:5753-1588755600-1588782600@lutherburbankartandgardencenter.com
SUMMARY:RGFA
DESCRIPTION:Redwood Guild of Fiber Arts
URL:http://lutherburbankartandgardencenter.com/event/rgfa-2-2020-05-06/
LOCATION:Luther Burbank Art & Garden Center\, 2050 Yulupa Avenue\, Santa Rosa\, CA\, 95405
CATEGORIES:Member Club Event
GEO:38.4369602;-122.6691319
X-APPLE-STRUCTURED-LOCATION;VALUE=URI;X-ADDRESS=Luther Burbank Art & Garden Center 2050 Yulupa Avenue Santa Rosa CA 95405;X-APPLE-RADIUS=500;X-TITLE=2050 Yulupa Avenue:geo:-122.6691319,38.4369602
END:VEVENT
END:VCALENDAR