BEGIN:VCALENDAR
VERSION:2.0
PRODID:-//Luther Burbank Art and Garden Center - ECPv6.8.2.1//NONSGML v1.0//EN
CALSCALE:GREGORIAN
METHOD:PUBLISH
X-WR-CALNAME:Luther Burbank Art and Garden Center
X-ORIGINAL-URL:http://lutherburbankartandgardencenter.com
X-WR-CALDESC:Events for Luther Burbank Art and Garden Center
REFRESH-INTERVAL;VALUE=DURATION:PT1H
X-Robots-Tag:noindex
X-PUBLISHED-TTL:PT1H
BEGIN:VTIMEZONE
TZID:America/Los_Angeles
BEGIN:DAYLIGHT
TZOFFSETFROM:-0800
TZOFFSETTO:-0700
TZNAME:PDT
DTSTART:20210314T100000
END:DAYLIGHT
BEGIN:STANDARD
TZOFFSETFROM:-0700
TZOFFSETTO:-0800
TZNAME:PST
DTSTART:20211107T090000
END:STANDARD
TZID:UTC
BEGIN:STANDARD
TZOFFSETFROM:+0000
TZOFFSETTO:+0000
TZNAME:UTC
DTSTART:20210101T000000
END:STANDARD
END:VTIMEZONE
BEGIN:VEVENT
DTSTART;TZID=America/Los_Angeles:20211121T110000
DTEND;TZID=America/Los_Angeles:20211121T150000
DTSTAMP:20260419T171349
CREATED:20211106T003610Z
LAST-MODIFIED:20211106T003610Z
UID:9136-1637492400-1637506800@lutherburbankartandgardencenter.com
SUMMARY:RE Rose Society Meeting
DESCRIPTION:Karen Ernsberger
URL:http://lutherburbankartandgardencenter.com/event/re-rose-society-meeting/
LOCATION:Luther Burbank Art & Garden Center\, 2050 Yulupa Avenue\, Santa Rosa\, CA\, 95405
CATEGORIES:Member Club Event
GEO:38.4369602;-122.6691319
X-APPLE-STRUCTURED-LOCATION;VALUE=URI;X-ADDRESS=Luther Burbank Art & Garden Center 2050 Yulupa Avenue Santa Rosa CA 95405;X-APPLE-RADIUS=500;X-TITLE=2050 Yulupa Avenue:geo:-122.6691319,38.4369602
END:VEVENT
BEGIN:VEVENT
DTSTART;TZID=America/Los_Angeles:20211119T083000
DTEND;TZID=America/Los_Angeles:20211119T160000
DTSTAMP:20260419T171349
CREATED:20210929T152203Z
LAST-MODIFIED:20210929T152203Z
UID:9007-1637310600-1637337600@lutherburbankartandgardencenter.com
SUMMARY:Santa Rosa Quilt Guild
DESCRIPTION:
URL:http://lutherburbankartandgardencenter.com/event/santa-rosa-quilt-guild-3/
LOCATION:Luther Burbank Art & Garden Center\, 2050 Yulupa Avenue\, Santa Rosa\, CA\, 95405
CATEGORIES:Member Club Event
GEO:38.4369602;-122.6691319
X-APPLE-STRUCTURED-LOCATION;VALUE=URI;X-ADDRESS=Luther Burbank Art & Garden Center 2050 Yulupa Avenue Santa Rosa CA 95405;X-APPLE-RADIUS=500;X-TITLE=2050 Yulupa Avenue:geo:-122.6691319,38.4369602
END:VEVENT
BEGIN:VEVENT
DTSTART;TZID=America/Los_Angeles:20211117T100000
DTEND;TZID=America/Los_Angeles:20211117T150000
DTSTAMP:20260419T171349
CREATED:20190829T004537Z
LAST-MODIFIED:20210921T222614Z
UID:8299-1637143200-1637161200@lutherburbankartandgardencenter.com
SUMMARY:Redwood Stitchers
DESCRIPTION:Redwood Stitchers meet on the 2nd and 4th Wednesday in January and most other months
URL:http://lutherburbankartandgardencenter.com/event/redwood-stitchers-27-2021-11-24/
LOCATION:Luther Burbank Art & Garden Center\, 2050 Yulupa Avenue\, Santa Rosa\, CA\, 95405
GEO:38.4369602;-122.6691319
X-APPLE-STRUCTURED-LOCATION;VALUE=URI;X-ADDRESS=Luther Burbank Art & Garden Center 2050 Yulupa Avenue Santa Rosa CA 95405;X-APPLE-RADIUS=500;X-TITLE=2050 Yulupa Avenue:geo:-122.6691319,38.4369602
END:VEVENT
BEGIN:VEVENT
DTSTART;TZID=America/Los_Angeles:20211116T120000
DTEND;TZID=America/Los_Angeles:20211116T130000
DTSTAMP:20260419T171349
CREATED:20211001T005809Z
LAST-MODIFIED:20211001T005809Z
UID:9023-1637064000-1637067600@lutherburbankartandgardencenter.com
SUMMARY:Center Executive Committee meeting
DESCRIPTION:Every other month on third Tuesday
URL:http://lutherburbankartandgardencenter.com/event/center-executive-committee-meeting/2021-11-16/
LOCATION:Luther Burbank Art & Garden Center\, 2050 Yulupa Avenue\, Santa Rosa\, CA\, 95405
CATEGORIES:LBA&GC
GEO:38.4369602;-122.6691319
X-APPLE-STRUCTURED-LOCATION;VALUE=URI;X-ADDRESS=Luther Burbank Art & Garden Center 2050 Yulupa Avenue Santa Rosa CA 95405;X-APPLE-RADIUS=500;X-TITLE=2050 Yulupa Avenue:geo:-122.6691319,38.4369602
END:VEVENT
BEGIN:VEVENT
DTSTART;TZID=America/Los_Angeles:20211113T140000
DTEND;TZID=America/Los_Angeles:20211113T230000
DTSTAMP:20260419T171349
CREATED:20211005T172906Z
LAST-MODIFIED:20211010T171006Z
UID:9044-1636812000-1636844400@lutherburbankartandgardencenter.com
SUMMARY:Baby Shower
DESCRIPTION:Luis Miranda
URL:http://lutherburbankartandgardencenter.com/event/baby-shower-8/
LOCATION:Luther Burbank Art & Garden Center\, 2050 Yulupa Avenue\, Santa Rosa\, CA\, 95405
CATEGORIES:Outside Rental
GEO:38.4369602;-122.6691319
X-APPLE-STRUCTURED-LOCATION;VALUE=URI;X-ADDRESS=Luther Burbank Art & Garden Center 2050 Yulupa Avenue Santa Rosa CA 95405;X-APPLE-RADIUS=500;X-TITLE=2050 Yulupa Avenue:geo:-122.6691319,38.4369602
END:VEVENT
BEGIN:VEVENT
DTSTART;TZID=America/Los_Angeles:20211108T130000
DTEND;TZID=America/Los_Angeles:20211108T150000
DTSTAMP:20260419T171349
CREATED:20211022T150227Z
LAST-MODIFIED:20211022T150227Z
UID:9081-1636376400-1636383600@lutherburbankartandgardencenter.com
SUMMARY:Center Maintenance Committee Meeting
DESCRIPTION:
URL:http://lutherburbankartandgardencenter.com/event/center-maintenance-committee-meeting-13/
LOCATION:Luther Burbank Art & Garden Center\, 2050 Yulupa Avenue\, Santa Rosa\, CA\, 95405
CATEGORIES:LBA&GC
GEO:38.4369602;-122.6691319
X-APPLE-STRUCTURED-LOCATION;VALUE=URI;X-ADDRESS=Luther Burbank Art & Garden Center 2050 Yulupa Avenue Santa Rosa CA 95405;X-APPLE-RADIUS=500;X-TITLE=2050 Yulupa Avenue:geo:-122.6691319,38.4369602
END:VEVENT
BEGIN:VEVENT
DTSTART;TZID=America/Los_Angeles:20211108T100000
DTEND;TZID=America/Los_Angeles:20211108T120000
DTSTAMP:20260419T171349
CREATED:20210924T144835Z
LAST-MODIFIED:20210924T144835Z
UID:8919-1636365600-1636372800@lutherburbankartandgardencenter.com
SUMMARY:SRGC Dean Linscott Garden Cleanup
DESCRIPTION:
URL:http://lutherburbankartandgardencenter.com/event/srgc-dean-linscott-garden-cleanup/
LOCATION:Luther Burbank Art & Garden Center\, 2050 Yulupa Avenue\, Santa Rosa\, CA\, 95405
CATEGORIES:Member Club Event
GEO:38.4369602;-122.6691319
X-APPLE-STRUCTURED-LOCATION;VALUE=URI;X-ADDRESS=Luther Burbank Art & Garden Center 2050 Yulupa Avenue Santa Rosa CA 95405;X-APPLE-RADIUS=500;X-TITLE=2050 Yulupa Avenue:geo:-122.6691319,38.4369602
END:VEVENT
BEGIN:VEVENT
DTSTART;TZID=America/Los_Angeles:20211107T130000
DTEND;TZID=America/Los_Angeles:20211107T200000
DTSTAMP:20260419T171349
CREATED:20211027T193302Z
LAST-MODIFIED:20211101T224419Z
UID:9106-1636290000-1636315200@lutherburbankartandgardencenter.com
SUMMARY:Birthday Party
DESCRIPTION:Itzel Gudino
URL:http://lutherburbankartandgardencenter.com/event/birthday-party-24/
LOCATION:Luther Burbank Art & Garden Center\, 2050 Yulupa Avenue\, Santa Rosa\, CA\, 95405
CATEGORIES:Outside Rental
GEO:38.4369602;-122.6691319
X-APPLE-STRUCTURED-LOCATION;VALUE=URI;X-ADDRESS=Luther Burbank Art & Garden Center 2050 Yulupa Avenue Santa Rosa CA 95405;X-APPLE-RADIUS=500;X-TITLE=2050 Yulupa Avenue:geo:-122.6691319,38.4369602
END:VEVENT
BEGIN:VEVENT
DTSTART;TZID=America/Los_Angeles:20211106T130000
DTEND;TZID=America/Los_Angeles:20211106T230000
DTSTAMP:20260419T171349
CREATED:20210905T162134Z
LAST-MODIFIED:20211104T184605Z
UID:8846-1636203600-1636239600@lutherburbankartandgardencenter.com
SUMMARY:Birthday Party
DESCRIPTION:Irma Mendoza
URL:http://lutherburbankartandgardencenter.com/event/birthday-party-15/
LOCATION:Luther Burbank Art & Garden Center\, 2050 Yulupa Avenue\, Santa Rosa\, CA\, 95405
CATEGORIES:Outside Rental
GEO:38.4369602;-122.6691319
X-APPLE-STRUCTURED-LOCATION;VALUE=URI;X-ADDRESS=Luther Burbank Art & Garden Center 2050 Yulupa Avenue Santa Rosa CA 95405;X-APPLE-RADIUS=500;X-TITLE=2050 Yulupa Avenue:geo:-122.6691319,38.4369602
END:VEVENT
BEGIN:VEVENT
DTSTART;TZID=America/Los_Angeles:20211030T110000
DTEND;TZID=America/Los_Angeles:20211030T200000
DTSTAMP:20260419T171349
CREATED:20210830T203357Z
LAST-MODIFIED:20210830T203357Z
UID:8844-1635591600-1635624000@lutherburbankartandgardencenter.com
SUMMARY:Baby Shower
DESCRIPTION:Leticia Sanchez
URL:http://lutherburbankartandgardencenter.com/event/baby-shower-7/
LOCATION:Luther Burbank Art & Garden Center\, 2050 Yulupa Avenue\, Santa Rosa\, CA\, 95405
CATEGORIES:Outside Rental
GEO:38.4369602;-122.6691319
X-APPLE-STRUCTURED-LOCATION;VALUE=URI;X-ADDRESS=Luther Burbank Art & Garden Center 2050 Yulupa Avenue Santa Rosa CA 95405;X-APPLE-RADIUS=500;X-TITLE=2050 Yulupa Avenue:geo:-122.6691319,38.4369602
END:VEVENT
BEGIN:VEVENT
DTSTART;TZID=America/Los_Angeles:20211029T110000
DTEND;TZID=America/Los_Angeles:20211029T130000
DTSTAMP:20260419T171349
CREATED:20211007T022332Z
LAST-MODIFIED:20211007T022332Z
UID:9051-1635505200-1635512400@lutherburbankartandgardencenter.com
SUMMARY:SRPS Hybrid Meeting
DESCRIPTION:Joel
URL:http://lutherburbankartandgardencenter.com/event/srps-hybrid-meeting/
LOCATION:Luther Burbank Art & Garden Center\, 2050 Yulupa Avenue\, Santa Rosa\, CA\, 95405
CATEGORIES:Member Club Event
GEO:38.4369602;-122.6691319
X-APPLE-STRUCTURED-LOCATION;VALUE=URI;X-ADDRESS=Luther Burbank Art & Garden Center 2050 Yulupa Avenue Santa Rosa CA 95405;X-APPLE-RADIUS=500;X-TITLE=2050 Yulupa Avenue:geo:-122.6691319,38.4369602
END:VEVENT
BEGIN:VEVENT
DTSTART;TZID=America/Los_Angeles:20211024T123000
DTEND;TZID=America/Los_Angeles:20211024T183000
DTSTAMP:20260419T171349
CREATED:20210930T231626Z
LAST-MODIFIED:20211005T000554Z
UID:9011-1635078600-1635100200@lutherburbankartandgardencenter.com
SUMMARY:Celebration of Life
DESCRIPTION:Pam Jacobs
URL:http://lutherburbankartandgardencenter.com/event/celebration-of-life-23/
LOCATION:Luther Burbank Art & Garden Center\, 2050 Yulupa Avenue\, Santa Rosa\, CA\, 95405
CATEGORIES:Outside Rental
GEO:38.4369602;-122.6691319
X-APPLE-STRUCTURED-LOCATION;VALUE=URI;X-ADDRESS=Luther Burbank Art & Garden Center 2050 Yulupa Avenue Santa Rosa CA 95405;X-APPLE-RADIUS=500;X-TITLE=2050 Yulupa Avenue:geo:-122.6691319,38.4369602
END:VEVENT
BEGIN:VEVENT
DTSTART;TZID=America/Los_Angeles:20211023T090000
DTEND;TZID=America/Los_Angeles:20211023T180000
DTSTAMP:20260419T171349
CREATED:20211005T000700Z
LAST-MODIFIED:20211005T000700Z
UID:9034-1634979600-1635012000@lutherburbankartandgardencenter.com
SUMMARY:Celebration of Life
DESCRIPTION:Sharon L Fernandez
URL:http://lutherburbankartandgardencenter.com/event/celebration-of-life-24/
LOCATION:Luther Burbank Art & Garden Center\, 2050 Yulupa Avenue\, Santa Rosa\, CA\, 95405
CATEGORIES:Outside Rental
GEO:38.4369602;-122.6691319
X-APPLE-STRUCTURED-LOCATION;VALUE=URI;X-ADDRESS=Luther Burbank Art & Garden Center 2050 Yulupa Avenue Santa Rosa CA 95405;X-APPLE-RADIUS=500;X-TITLE=2050 Yulupa Avenue:geo:-122.6691319,38.4369602
END:VEVENT
BEGIN:VEVENT
DTSTART;TZID=America/Los_Angeles:20211022T083000
DTEND;TZID=America/Los_Angeles:20211022T160000
DTSTAMP:20260419T171349
CREATED:20210925T011740Z
LAST-MODIFIED:20210925T011740Z
UID:9001-1634891400-1634918400@lutherburbankartandgardencenter.com
SUMMARY:Santa Rosa Quilt Guild
DESCRIPTION:regular meeting \nLaura Barrett
URL:http://lutherburbankartandgardencenter.com/event/santa-rosa-quilt-guild-2/
LOCATION:Luther Burbank Art & Garden Center\, 2050 Yulupa Avenue\, Santa Rosa\, CA\, 95405
CATEGORIES:Member Club Event
GEO:38.4369602;-122.6691319
X-APPLE-STRUCTURED-LOCATION;VALUE=URI;X-ADDRESS=Luther Burbank Art & Garden Center 2050 Yulupa Avenue Santa Rosa CA 95405;X-APPLE-RADIUS=500;X-TITLE=2050 Yulupa Avenue:geo:-122.6691319,38.4369602
END:VEVENT
BEGIN:VEVENT
DTSTART;TZID=America/Los_Angeles:20211019T130000
DTEND;TZID=America/Los_Angeles:20211019T150000
DTSTAMP:20260419T171349
CREATED:20211001T010158Z
LAST-MODIFIED:20211001T010158Z
UID:9032-1634648400-1634655600@lutherburbankartandgardencenter.com
SUMMARY:Center Maintenance Committee meeting
DESCRIPTION:Cindy Moore chair
URL:http://lutherburbankartandgardencenter.com/event/center-maintenance-committee-meeting-12/
LOCATION:Luther Burbank Art & Garden Center\, 2050 Yulupa Avenue\, Santa Rosa\, CA\, 95405
CATEGORIES:LBA&GC
GEO:38.4369602;-122.6691319
X-APPLE-STRUCTURED-LOCATION;VALUE=URI;X-ADDRESS=Luther Burbank Art & Garden Center 2050 Yulupa Avenue Santa Rosa CA 95405;X-APPLE-RADIUS=500;X-TITLE=2050 Yulupa Avenue:geo:-122.6691319,38.4369602
END:VEVENT
BEGIN:VEVENT
DTSTART;TZID=America/Los_Angeles:20211017T130000
DTEND;TZID=America/Los_Angeles:20211017T220000
DTSTAMP:20260419T171349
CREATED:20211011T225240Z
LAST-MODIFIED:20211011T225240Z
UID:9056-1634475600-1634508000@lutherburbankartandgardencenter.com
SUMMARY:Birthday Party
DESCRIPTION:Altair Zepeda
URL:http://lutherburbankartandgardencenter.com/event/birthday-party-25/
LOCATION:Luther Burbank Art & Garden Center\, 2050 Yulupa Avenue\, Santa Rosa\, CA\, 95405
CATEGORIES:Outside Rental
GEO:38.4369602;-122.6691319
X-APPLE-STRUCTURED-LOCATION;VALUE=URI;X-ADDRESS=Luther Burbank Art & Garden Center 2050 Yulupa Avenue Santa Rosa CA 95405;X-APPLE-RADIUS=500;X-TITLE=2050 Yulupa Avenue:geo:-122.6691319,38.4369602
END:VEVENT
BEGIN:VEVENT
DTSTART;TZID=America/Los_Angeles:20211017T090000
DTEND;TZID=America/Los_Angeles:20211017T130000
DTSTAMP:20260419T171349
CREATED:20210629T183136Z
LAST-MODIFIED:20211011T224914Z
UID:8741-1634461200-1634475600@lutherburbankartandgardencenter.com
SUMMARY:Santa Rosa Garden Club Geraniums Workshop
DESCRIPTION:Open to the Public.  Located in the back area
URL:http://lutherburbankartandgardencenter.com/event/santa-rosa-garden-club-geraniums-workshop/
LOCATION:Luther Burbank Art & Garden Center\, 2050 Yulupa Avenue\, Santa Rosa\, CA\, 95405
CATEGORIES:Member Club Event
GEO:38.4369602;-122.6691319
X-APPLE-STRUCTURED-LOCATION;VALUE=URI;X-ADDRESS=Luther Burbank Art & Garden Center 2050 Yulupa Avenue Santa Rosa CA 95405;X-APPLE-RADIUS=500;X-TITLE=2050 Yulupa Avenue:geo:-122.6691319,38.4369602
END:VEVENT
BEGIN:VEVENT
DTSTART;TZID=America/Los_Angeles:20211016T113000
DTEND;TZID=America/Los_Angeles:20211016T230000
DTSTAMP:20260419T171349
CREATED:20210916T195007Z
LAST-MODIFIED:20210916T195007Z
UID:8867-1634383800-1634425200@lutherburbankartandgardencenter.com
SUMMARY:Birthday Party
DESCRIPTION:Theresa Mora
URL:http://lutherburbankartandgardencenter.com/event/birthday-party-19/
LOCATION:Luther Burbank Art & Garden Center\, 2050 Yulupa Avenue\, Santa Rosa\, CA\, 95405
CATEGORIES:Outside Rental
GEO:38.4369602;-122.6691319
X-APPLE-STRUCTURED-LOCATION;VALUE=URI;X-ADDRESS=Luther Burbank Art & Garden Center 2050 Yulupa Avenue Santa Rosa CA 95405;X-APPLE-RADIUS=500;X-TITLE=2050 Yulupa Avenue:geo:-122.6691319,38.4369602
END:VEVENT
BEGIN:VEVENT
DTSTART;TZID=America/Los_Angeles:20211015T170000
DTEND;TZID=America/Los_Angeles:20211015T230000
DTSTAMP:20260419T171349
CREATED:20210930T231356Z
LAST-MODIFIED:20210930T231356Z
UID:9009-1634317200-1634338800@lutherburbankartandgardencenter.com
SUMMARY:Birthday Party
DESCRIPTION:Diana Avila
URL:http://lutherburbankartandgardencenter.com/event/birthday-party-22/
LOCATION:Luther Burbank Art & Garden Center\, 2050 Yulupa Avenue\, Santa Rosa\, CA\, 95405
CATEGORIES:Outside Rental
GEO:38.4369602;-122.6691319
X-APPLE-STRUCTURED-LOCATION;VALUE=URI;X-ADDRESS=Luther Burbank Art & Garden Center 2050 Yulupa Avenue Santa Rosa CA 95405;X-APPLE-RADIUS=500;X-TITLE=2050 Yulupa Avenue:geo:-122.6691319,38.4369602
END:VEVENT
BEGIN:VEVENT
DTSTART;TZID=America/Los_Angeles:20211001T110000
DTEND;TZID=America/Los_Angeles:20211001T130000
DTSTAMP:20260419T171349
CREATED:20210924T213914Z
LAST-MODIFIED:20210924T213946Z
UID:8996-1633086000-1633093200@lutherburbankartandgardencenter.com
SUMMARY:SRPS Testing Hybrid Meeting
DESCRIPTION:Joel
URL:http://lutherburbankartandgardencenter.com/event/srps-testing-hybrid-meeting/
LOCATION:Luther Burbank Art & Garden Center\, 2050 Yulupa Avenue\, Santa Rosa\, CA\, 95405
CATEGORIES:Member Club Event
GEO:38.4369602;-122.6691319
X-APPLE-STRUCTURED-LOCATION;VALUE=URI;X-ADDRESS=Luther Burbank Art & Garden Center 2050 Yulupa Avenue Santa Rosa CA 95405;X-APPLE-RADIUS=500;X-TITLE=2050 Yulupa Avenue:geo:-122.6691319,38.4369602
END:VEVENT
BEGIN:VEVENT
DTSTART;TZID=America/Los_Angeles:20210929T130000
DTEND;TZID=America/Los_Angeles:20210929T150000
DTSTAMP:20260419T171349
CREATED:20210920T142137Z
LAST-MODIFIED:20210920T142137Z
UID:8873-1632920400-1632927600@lutherburbankartandgardencenter.com
SUMMARY:Center Board of Managers
DESCRIPTION:
URL:http://lutherburbankartandgardencenter.com/event/center-board-of-managers/
LOCATION:Luther Burbank Art & Garden Center\, 2050 Yulupa Avenue\, Santa Rosa\, CA\, 95405
CATEGORIES:LBA&GC
GEO:38.4369602;-122.6691319
X-APPLE-STRUCTURED-LOCATION;VALUE=URI;X-ADDRESS=Luther Burbank Art & Garden Center 2050 Yulupa Avenue Santa Rosa CA 95405;X-APPLE-RADIUS=500;X-TITLE=2050 Yulupa Avenue:geo:-122.6691319,38.4369602
END:VEVENT
BEGIN:VEVENT
DTSTART;TZID=America/Los_Angeles:20210929T120000
DTEND;TZID=America/Los_Angeles:20210929T130000
DTSTAMP:20260419T171349
CREATED:20210920T142024Z
LAST-MODIFIED:20210920T142024Z
UID:8870-1632916800-1632920400@lutherburbankartandgardencenter.com
SUMMARY:Center Executive Board Meeting
DESCRIPTION:
URL:http://lutherburbankartandgardencenter.com/event/center-executive-board-meeting/
LOCATION:Luther Burbank Art & Garden Center\, 2050 Yulupa Avenue\, Santa Rosa\, CA\, 95405
CATEGORIES:LBA&GC
GEO:38.4369602;-122.6691319
X-APPLE-STRUCTURED-LOCATION;VALUE=URI;X-ADDRESS=Luther Burbank Art & Garden Center 2050 Yulupa Avenue Santa Rosa CA 95405;X-APPLE-RADIUS=500;X-TITLE=2050 Yulupa Avenue:geo:-122.6691319,38.4369602
END:VEVENT
BEGIN:VEVENT
DTSTART;TZID=America/Los_Angeles:20210924T160000
DTEND;TZID=America/Los_Angeles:20210924T220000
DTSTAMP:20260419T171349
CREATED:20210727T231150Z
LAST-MODIFIED:20210727T231150Z
UID:8794-1632499200-1632520800@lutherburbankartandgardencenter.com
SUMMARY:Celebration of Life
DESCRIPTION:Maranda Ericson
URL:http://lutherburbankartandgardencenter.com/event/celebration-of-life-22/
LOCATION:Luther Burbank Art & Garden Center\, 2050 Yulupa Avenue\, Santa Rosa\, CA\, 95405
CATEGORIES:Outside Rental
GEO:38.4369602;-122.6691319
X-APPLE-STRUCTURED-LOCATION;VALUE=URI;X-ADDRESS=Luther Burbank Art & Garden Center 2050 Yulupa Avenue Santa Rosa CA 95405;X-APPLE-RADIUS=500;X-TITLE=2050 Yulupa Avenue:geo:-122.6691319,38.4369602
END:VEVENT
BEGIN:VEVENT
DTSTART;TZID=America/Los_Angeles:20210912T160000
DTEND;TZID=America/Los_Angeles:20210912T220000
DTSTAMP:20260419T171349
CREATED:20210714T162308Z
LAST-MODIFIED:20210714T162308Z
UID:8767-1631462400-1631484000@lutherburbankartandgardencenter.com
SUMMARY:Baby Shower
DESCRIPTION:Perla Rodriguez
URL:http://lutherburbankartandgardencenter.com/event/baby-shower-6/
LOCATION:Luther Burbank Art & Garden Center\, 2050 Yulupa Avenue\, Santa Rosa\, CA\, 95405
CATEGORIES:Outside Rental
GEO:38.4369602;-122.6691319
X-APPLE-STRUCTURED-LOCATION;VALUE=URI;X-ADDRESS=Luther Burbank Art & Garden Center 2050 Yulupa Avenue Santa Rosa CA 95405;X-APPLE-RADIUS=500;X-TITLE=2050 Yulupa Avenue:geo:-122.6691319,38.4369602
END:VEVENT
BEGIN:VEVENT
DTSTART;TZID=America/Los_Angeles:20210911T140000
DTEND;TZID=America/Los_Angeles:20210911T230000
DTSTAMP:20260419T171349
CREATED:20210821T180841Z
LAST-MODIFIED:20210821T180841Z
UID:8839-1631368800-1631401200@lutherburbankartandgardencenter.com
SUMMARY:Wedding
DESCRIPTION:Melida Gomez
URL:http://lutherburbankartandgardencenter.com/event/wedding-9/
LOCATION:Luther Burbank Art & Garden Center\, 2050 Yulupa Avenue\, Santa Rosa\, CA\, 95405
CATEGORIES:Outside Rental
GEO:38.4369602;-122.6691319
X-APPLE-STRUCTURED-LOCATION;VALUE=URI;X-ADDRESS=Luther Burbank Art & Garden Center 2050 Yulupa Avenue Santa Rosa CA 95405;X-APPLE-RADIUS=500;X-TITLE=2050 Yulupa Avenue:geo:-122.6691319,38.4369602
END:VEVENT
BEGIN:VEVENT
DTSTART;TZID=UTC:20210909T173000
DTEND;TZID=UTC:20210909T223000
DTSTAMP:20260419T171349
CREATED:20171024T082900Z
LAST-MODIFIED:20220330T192056Z
UID:7185-1631208600-1631226600@lutherburbankartandgardencenter.com
SUMMARY:SR Photographic Society
DESCRIPTION:2nd Thursday at 6:30pm & 4th Thursday at 5:30pm
URL:http://lutherburbankartandgardencenter.com/event/sr-photographic-society-2021-09-09/2021-09-09/
LOCATION:Luther Burbank Art & Garden Center\, 2050 Yulupa Avenue\, Santa Rosa\, CA\, 95405
CATEGORIES:Member Club Event
GEO:38.4369602;-122.6691319
X-APPLE-STRUCTURED-LOCATION;VALUE=URI;X-ADDRESS=Luther Burbank Art & Garden Center 2050 Yulupa Avenue Santa Rosa CA 95405;X-APPLE-RADIUS=500;X-TITLE=2050 Yulupa Avenue:geo:-122.6691319,38.4369602
END:VEVENT
BEGIN:VEVENT
DTSTART;TZID=America/Los_Angeles:20210904T110000
DTEND;TZID=America/Los_Angeles:20210904T230000
DTSTAMP:20260419T171349
CREATED:20210629T182609Z
LAST-MODIFIED:20210714T161831Z
UID:8737-1630753200-1630796400@lutherburbankartandgardencenter.com
SUMMARY:Birthday Celebration
DESCRIPTION:Cabron/Padilla 29
URL:http://lutherburbankartandgardencenter.com/event/birthday-celebration/
LOCATION:Luther Burbank Art & Garden Center\, 2050 Yulupa Avenue\, Santa Rosa\, CA\, 95405
CATEGORIES:Outside Rental
GEO:38.4369602;-122.6691319
X-APPLE-STRUCTURED-LOCATION;VALUE=URI;X-ADDRESS=Luther Burbank Art & Garden Center 2050 Yulupa Avenue Santa Rosa CA 95405;X-APPLE-RADIUS=500;X-TITLE=2050 Yulupa Avenue:geo:-122.6691319,38.4369602
END:VEVENT
BEGIN:VEVENT
DTSTART;TZID=America/Los_Angeles:20210829T130000
DTEND;TZID=America/Los_Angeles:20210829T230000
DTSTAMP:20260419T171349
CREATED:20210720T161939Z
LAST-MODIFIED:20210720T161939Z
UID:8776-1630242000-1630278000@lutherburbankartandgardencenter.com
SUMMARY:Wedding
DESCRIPTION:Fabiola Mateo
URL:http://lutherburbankartandgardencenter.com/event/wedding-7/
LOCATION:Luther Burbank Art & Garden Center\, 2050 Yulupa Avenue\, Santa Rosa\, CA\, 95405
CATEGORIES:Outside Rental
GEO:38.4369602;-122.6691319
X-APPLE-STRUCTURED-LOCATION;VALUE=URI;X-ADDRESS=Luther Burbank Art & Garden Center 2050 Yulupa Avenue Santa Rosa CA 95405;X-APPLE-RADIUS=500;X-TITLE=2050 Yulupa Avenue:geo:-122.6691319,38.4369602
END:VEVENT
BEGIN:VEVENT
DTSTART;TZID=America/Los_Angeles:20210828T140000
DTEND;TZID=America/Los_Angeles:20210828T230000
DTSTAMP:20260419T171349
CREATED:20210607T180530Z
LAST-MODIFIED:20210616T010732Z
UID:8697-1630159200-1630191600@lutherburbankartandgardencenter.com
SUMMARY:Wedding Celebration
DESCRIPTION:E. Torres
URL:http://lutherburbankartandgardencenter.com/event/wedding/
LOCATION:Luther Burbank Art & Garden Center\, 2050 Yulupa Avenue\, Santa Rosa\, CA\, 95405
CATEGORIES:Outside Rental
GEO:38.4369602;-122.6691319
X-APPLE-STRUCTURED-LOCATION;VALUE=URI;X-ADDRESS=Luther Burbank Art & Garden Center 2050 Yulupa Avenue Santa Rosa CA 95405;X-APPLE-RADIUS=500;X-TITLE=2050 Yulupa Avenue:geo:-122.6691319,38.4369602
END:VEVENT
BEGIN:VEVENT
DTSTART;TZID=America/Los_Angeles:20210827T160000
DTEND;TZID=America/Los_Angeles:20210827T220000
DTSTAMP:20260419T171349
CREATED:20210616T010844Z
LAST-MODIFIED:20210616T010844Z
UID:8715-1630080000-1630101600@lutherburbankartandgardencenter.com
SUMMARY:Setup for event
DESCRIPTION:E. Torres
URL:http://lutherburbankartandgardencenter.com/event/setup-for-event/
LOCATION:Luther Burbank Art & Garden Center\, 2050 Yulupa Avenue\, Santa Rosa\, CA\, 95405
CATEGORIES:Outside Rental
GEO:38.4369602;-122.6691319
X-APPLE-STRUCTURED-LOCATION;VALUE=URI;X-ADDRESS=Luther Burbank Art & Garden Center 2050 Yulupa Avenue Santa Rosa CA 95405;X-APPLE-RADIUS=500;X-TITLE=2050 Yulupa Avenue:geo:-122.6691319,38.4369602
END:VEVENT
END:VCALENDAR