BEGIN:VCALENDAR
VERSION:2.0
PRODID:-//Luther Burbank Art and Garden Center - ECPv6.8.2.1//NONSGML v1.0//EN
CALSCALE:GREGORIAN
METHOD:PUBLISH
X-WR-CALNAME:Luther Burbank Art and Garden Center
X-ORIGINAL-URL:http://lutherburbankartandgardencenter.com
X-WR-CALDESC:Events for Luther Burbank Art and Garden Center
REFRESH-INTERVAL;VALUE=DURATION:PT1H
X-Robots-Tag:noindex
X-PUBLISHED-TTL:PT1H
BEGIN:VTIMEZONE
TZID:America/Los_Angeles
BEGIN:DAYLIGHT
TZOFFSETFROM:-0800
TZOFFSETTO:-0700
TZNAME:PDT
DTSTART:20220313T100000
END:DAYLIGHT
BEGIN:STANDARD
TZOFFSETFROM:-0700
TZOFFSETTO:-0800
TZNAME:PST
DTSTART:20221106T090000
END:STANDARD
TZID:UTC
BEGIN:STANDARD
TZOFFSETFROM:+0000
TZOFFSETTO:+0000
TZNAME:UTC
DTSTART:20220101T000000
END:STANDARD
END:VTIMEZONE
BEGIN:VEVENT
DTSTART;TZID=America/Los_Angeles:20220430T063000
DTEND;TZID=America/Los_Angeles:20220430T173000
DTSTAMP:20260419T100301
CREATED:20220131T211146Z
LAST-MODIFIED:20220322T190931Z
UID:9357-1651300200-1651339800@lutherburbankartandgardencenter.com
SUMMARY:Redwood Empire Rose Society Rose Show
DESCRIPTION:Karen Ernsberger/Barbara Ellis
URL:http://lutherburbankartandgardencenter.com/event/redwood-empire-rose-society-event/
LOCATION:Luther Burbank Art & Garden Center\, 2050 Yulupa Avenue\, Santa Rosa\, CA\, 95405
CATEGORIES:Member Club Event
GEO:38.4369602;-122.6691319
X-APPLE-STRUCTURED-LOCATION;VALUE=URI;X-ADDRESS=Luther Burbank Art & Garden Center 2050 Yulupa Avenue Santa Rosa CA 95405;X-APPLE-RADIUS=500;X-TITLE=2050 Yulupa Avenue:geo:-122.6691319,38.4369602
END:VEVENT
BEGIN:VEVENT
DTSTART;TZID=America/Los_Angeles:20220429T140000
DTEND;TZID=America/Los_Angeles:20220429T170000
DTSTAMP:20260419T100301
CREATED:20220131T211314Z
LAST-MODIFIED:20220322T190828Z
UID:9359-1651240800-1651251600@lutherburbankartandgardencenter.com
SUMMARY:Set up for Rose Show
DESCRIPTION:
URL:http://lutherburbankartandgardencenter.com/event/re-rose-society-event-setup/
LOCATION:Luther Burbank Art & Garden Center\, 2050 Yulupa Avenue\, Santa Rosa\, CA\, 95405
CATEGORIES:Member Club Event
GEO:38.4369602;-122.6691319
X-APPLE-STRUCTURED-LOCATION;VALUE=URI;X-ADDRESS=Luther Burbank Art & Garden Center 2050 Yulupa Avenue Santa Rosa CA 95405;X-APPLE-RADIUS=500;X-TITLE=2050 Yulupa Avenue:geo:-122.6691319,38.4369602
END:VEVENT
BEGIN:VEVENT
DTSTART;TZID=America/Los_Angeles:20220425T080000
DTEND;TZID=America/Los_Angeles:20220429T170000
DTSTAMP:20260419T100301
CREATED:20220221T014342Z
LAST-MODIFIED:20220221T014342Z
UID:9432-1650873600-1651251600@lutherburbankartandgardencenter.com
SUMMARY:Center: prep and painting of exterior
DESCRIPTION:
URL:http://lutherburbankartandgardencenter.com/event/center-prep-and-painting-of-exterior-3/
LOCATION:Luther Burbank Art & Garden Center\, 2050 Yulupa Avenue\, Santa Rosa\, CA\, 95405
CATEGORIES:LBA&GC
GEO:38.4369602;-122.6691319
X-APPLE-STRUCTURED-LOCATION;VALUE=URI;X-ADDRESS=Luther Burbank Art & Garden Center 2050 Yulupa Avenue Santa Rosa CA 95405;X-APPLE-RADIUS=500;X-TITLE=2050 Yulupa Avenue:geo:-122.6691319,38.4369602
END:VEVENT
BEGIN:VEVENT
DTSTART;TZID=America/Los_Angeles:20220423T090000
DTEND;TZID=America/Los_Angeles:20220423T130000
DTSTAMP:20260419T100301
CREATED:20220131T210452Z
LAST-MODIFIED:20220322T190505Z
UID:9353-1650704400-1650718800@lutherburbankartandgardencenter.com
SUMMARY:SR Garden Club and Rose Society Annual Plant Sale
DESCRIPTION:Maeve and Donna and Karen and Barbara
URL:http://lutherburbankartandgardencenter.com/event/sr-garden-club-annual-plant-sale/
LOCATION:Luther Burbank Art & Garden Center\, 2050 Yulupa Avenue\, Santa Rosa\, CA\, 95405
CATEGORIES:Member Club Event
GEO:38.4369602;-122.6691319
X-APPLE-STRUCTURED-LOCATION;VALUE=URI;X-ADDRESS=Luther Burbank Art & Garden Center 2050 Yulupa Avenue Santa Rosa CA 95405;X-APPLE-RADIUS=500;X-TITLE=2050 Yulupa Avenue:geo:-122.6691319,38.4369602
END:VEVENT
BEGIN:VEVENT
DTSTART;TZID=America/Los_Angeles:20220422T130000
DTEND;TZID=America/Los_Angeles:20220422T170000
DTSTAMP:20260419T100301
CREATED:20220131T211005Z
LAST-MODIFIED:20220322T190555Z
UID:9355-1650632400-1650646800@lutherburbankartandgardencenter.com
SUMMARY:Plant Sale Set up
DESCRIPTION:
URL:http://lutherburbankartandgardencenter.com/event/sr-garden-club-set-up/
LOCATION:Luther Burbank Art & Garden Center\, 2050 Yulupa Avenue\, Santa Rosa\, CA\, 95405
CATEGORIES:Member Club Event
GEO:38.4369602;-122.6691319
X-APPLE-STRUCTURED-LOCATION;VALUE=URI;X-ADDRESS=Luther Burbank Art & Garden Center 2050 Yulupa Avenue Santa Rosa CA 95405;X-APPLE-RADIUS=500;X-TITLE=2050 Yulupa Avenue:geo:-122.6691319,38.4369602
END:VEVENT
BEGIN:VEVENT
DTSTART;TZID=America/Los_Angeles:20220418T080000
DTEND;TZID=America/Los_Angeles:20220422T170000
DTSTAMP:20260419T100301
CREATED:20220221T014238Z
LAST-MODIFIED:20220221T014238Z
UID:9430-1650268800-1650646800@lutherburbankartandgardencenter.com
SUMMARY:Center: prep and painting of exterior
DESCRIPTION:
URL:http://lutherburbankartandgardencenter.com/event/center-prep-and-painting-of-exterior-2/
LOCATION:Luther Burbank Art & Garden Center\, 2050 Yulupa Avenue\, Santa Rosa\, CA\, 95405
CATEGORIES:LBA&GC
GEO:38.4369602;-122.6691319
X-APPLE-STRUCTURED-LOCATION;VALUE=URI;X-ADDRESS=Luther Burbank Art & Garden Center 2050 Yulupa Avenue Santa Rosa CA 95405;X-APPLE-RADIUS=500;X-TITLE=2050 Yulupa Avenue:geo:-122.6691319,38.4369602
END:VEVENT
BEGIN:VEVENT
DTSTART;TZID=America/Los_Angeles:20220417T110000
DTEND;TZID=America/Los_Angeles:20220417T170000
DTSTAMP:20260419T100301
CREATED:20220222T033319Z
LAST-MODIFIED:20220222T033319Z
UID:9436-1650193200-1650214800@lutherburbankartandgardencenter.com
SUMMARY:Family Reunion
DESCRIPTION:Kathryn Wright
URL:http://lutherburbankartandgardencenter.com/event/family-reunion/
LOCATION:Luther Burbank Art & Garden Center\, 2050 Yulupa Avenue\, Santa Rosa\, CA\, 95405
CATEGORIES:Outside Rental
GEO:38.4369602;-122.6691319
X-APPLE-STRUCTURED-LOCATION;VALUE=URI;X-ADDRESS=Luther Burbank Art & Garden Center 2050 Yulupa Avenue Santa Rosa CA 95405;X-APPLE-RADIUS=500;X-TITLE=2050 Yulupa Avenue:geo:-122.6691319,38.4369602
END:VEVENT
BEGIN:VEVENT
DTSTART;TZID=America/Los_Angeles:20220415T080000
DTEND;TZID=America/Los_Angeles:20220415T170000
DTSTAMP:20260419T100301
CREATED:20220221T013706Z
LAST-MODIFIED:20220221T014140Z
UID:9428-1650009600-1650042000@lutherburbankartandgardencenter.com
SUMMARY:Center: Prep and painting of exterior
DESCRIPTION:
URL:http://lutherburbankartandgardencenter.com/event/center-prep-and-painting-of-exterior/
LOCATION:Luther Burbank Art & Garden Center\, 2050 Yulupa Avenue\, Santa Rosa\, CA\, 95405
CATEGORIES:LBA&GC
GEO:38.4369602;-122.6691319
X-APPLE-STRUCTURED-LOCATION;VALUE=URI;X-ADDRESS=Luther Burbank Art & Garden Center 2050 Yulupa Avenue Santa Rosa CA 95405;X-APPLE-RADIUS=500;X-TITLE=2050 Yulupa Avenue:geo:-122.6691319,38.4369602
END:VEVENT
BEGIN:VEVENT
DTSTART;TZID=America/Los_Angeles:20220411T130000
DTEND;TZID=America/Los_Angeles:20220411T150000
DTSTAMP:20260419T100301
CREATED:20220330T125511Z
LAST-MODIFIED:20220330T125511Z
UID:9614-1649682000-1649689200@lutherburbankartandgardencenter.com
SUMMARY:Center Maintenance Committee meeting
DESCRIPTION:Karen Ernsberger and Cindy Moore
URL:http://lutherburbankartandgardencenter.com/event/center-maintenance-committee-meeting-15/2022-04-11/
LOCATION:Luther Burbank Art & Garden Center\, 2050 Yulupa Avenue\, Santa Rosa\, CA\, 95405
CATEGORIES:LBA&GC
GEO:38.4369602;-122.6691319
X-APPLE-STRUCTURED-LOCATION;VALUE=URI;X-ADDRESS=Luther Burbank Art & Garden Center 2050 Yulupa Avenue Santa Rosa CA 95405;X-APPLE-RADIUS=500;X-TITLE=2050 Yulupa Avenue:geo:-122.6691319,38.4369602
END:VEVENT
BEGIN:VEVENT
DTSTART;TZID=America/Los_Angeles:20220409T093000
DTEND;TZID=America/Los_Angeles:20220409T163000
DTSTAMP:20260419T100301
CREATED:20220121T233323Z
LAST-MODIFIED:20220121T233323Z
UID:9286-1649496600-1649521800@lutherburbankartandgardencenter.com
SUMMARY:Redwood Guild of Fiber Arts\, "Exploring Victorian Knitted Lace" workshop
DESCRIPTION:Phina Borgeson
URL:http://lutherburbankartandgardencenter.com/event/redwood-guild-of-fiber-arts-exploring-victorian-knitted-lace-workshop-2/
LOCATION:Luther Burbank Art & Garden Center\, 2050 Yulupa Avenue\, Santa Rosa\, CA\, 95405
CATEGORIES:Member Club Event
GEO:38.4369602;-122.6691319
X-APPLE-STRUCTURED-LOCATION;VALUE=URI;X-ADDRESS=Luther Burbank Art & Garden Center 2050 Yulupa Avenue Santa Rosa CA 95405;X-APPLE-RADIUS=500;X-TITLE=2050 Yulupa Avenue:geo:-122.6691319,38.4369602
END:VEVENT
BEGIN:VEVENT
DTSTART;TZID=America/Los_Angeles:20220408T153000
DTEND;TZID=America/Los_Angeles:20220408T193000
DTSTAMP:20260419T100301
CREATED:20220121T233116Z
LAST-MODIFIED:20220121T233116Z
UID:9284-1649431800-1649446200@lutherburbankartandgardencenter.com
SUMMARY:Redwood Guild of Fiber Arts "Exploring Victorian Knitted Lace" workshop
DESCRIPTION:Phina Borgeson
URL:http://lutherburbankartandgardencenter.com/event/redwood-guild-of-fiber-arts-exploring-victorian-knitted-lace-workshop/
LOCATION:Luther Burbank Art & Garden Center\, 2050 Yulupa Avenue\, Santa Rosa\, CA\, 95405
CATEGORIES:Member Club Event
GEO:38.4369602;-122.6691319
X-APPLE-STRUCTURED-LOCATION;VALUE=URI;X-ADDRESS=Luther Burbank Art & Garden Center 2050 Yulupa Avenue Santa Rosa CA 95405;X-APPLE-RADIUS=500;X-TITLE=2050 Yulupa Avenue:geo:-122.6691319,38.4369602
END:VEVENT
BEGIN:VEVENT
DTSTART;TZID=America/Los_Angeles:20220402T120000
DTEND;TZID=America/Los_Angeles:20220402T230000
DTSTAMP:20260419T100301
CREATED:20211022T145910Z
LAST-MODIFIED:20220225T001536Z
UID:9079-1648900800-1648940400@lutherburbankartandgardencenter.com
SUMMARY:Sweet 16 Birthday
DESCRIPTION:Guadalupe Perez
URL:http://lutherburbankartandgardencenter.com/event/sweet-16-birthday/
LOCATION:Luther Burbank Art & Garden Center\, 2050 Yulupa Avenue\, Santa Rosa\, CA\, 95405
CATEGORIES:Outside Rental
GEO:38.4369602;-122.6691319
X-APPLE-STRUCTURED-LOCATION;VALUE=URI;X-ADDRESS=Luther Burbank Art & Garden Center 2050 Yulupa Avenue Santa Rosa CA 95405;X-APPLE-RADIUS=500;X-TITLE=2050 Yulupa Avenue:geo:-122.6691319,38.4369602
END:VEVENT
BEGIN:VEVENT
DTSTART;TZID=America/Los_Angeles:20220331T083000
DTEND;TZID=America/Los_Angeles:20220331T153000
DTSTAMP:20260419T100301
CREATED:20220103T160546Z
LAST-MODIFIED:20220103T160546Z
UID:9221-1648715400-1648740600@lutherburbankartandgardencenter.com
SUMMARY:SR Quilt Guild Quiltathon
DESCRIPTION:Laura Barrett
URL:http://lutherburbankartandgardencenter.com/event/sr-quilt-guild-quiltathon/
LOCATION:Luther Burbank Art & Garden Center\, 2050 Yulupa Avenue\, Santa Rosa\, CA\, 95405
CATEGORIES:Member Club Event
GEO:38.4369602;-122.6691319
X-APPLE-STRUCTURED-LOCATION;VALUE=URI;X-ADDRESS=Luther Burbank Art & Garden Center 2050 Yulupa Avenue Santa Rosa CA 95405;X-APPLE-RADIUS=500;X-TITLE=2050 Yulupa Avenue:geo:-122.6691319,38.4369602
END:VEVENT
BEGIN:VEVENT
DTSTART;TZID=America/Los_Angeles:20220330T070000
DTEND;TZID=America/Los_Angeles:20220330T170000
DTSTAMP:20260419T100301
CREATED:20220218T232244Z
LAST-MODIFIED:20220218T232244Z
UID:9423-1648623600-1648659600@lutherburbankartandgardencenter.com
SUMMARY:Center maintenance: paving parking lot
DESCRIPTION:Patty Gundry
URL:http://lutherburbankartandgardencenter.com/event/center-maintenance-paving-parking-lot/
LOCATION:Luther Burbank Art & Garden Center\, 2050 Yulupa Avenue\, Santa Rosa\, CA\, 95405
CATEGORIES:LBA&GC
GEO:38.4369602;-122.6691319
X-APPLE-STRUCTURED-LOCATION;VALUE=URI;X-ADDRESS=Luther Burbank Art & Garden Center 2050 Yulupa Avenue Santa Rosa CA 95405;X-APPLE-RADIUS=500;X-TITLE=2050 Yulupa Avenue:geo:-122.6691319,38.4369602
END:VEVENT
BEGIN:VEVENT
DTSTART;TZID=America/Los_Angeles:20220326T140000
DTEND;TZID=America/Los_Angeles:20220326T230000
DTSTAMP:20260419T100301
CREATED:20211123T161801Z
LAST-MODIFIED:20211230T151927Z
UID:9177-1648303200-1648335600@lutherburbankartandgardencenter.com
SUMMARY:Quinceanera
DESCRIPTION:Gloria Mendoza \nSandra Hurtado
URL:http://lutherburbankartandgardencenter.com/event/quinceanera-7/
LOCATION:Luther Burbank Art & Garden Center\, 2050 Yulupa Avenue\, Santa Rosa\, CA\, 95405
CATEGORIES:Outside Rental
GEO:38.4369602;-122.6691319
X-APPLE-STRUCTURED-LOCATION;VALUE=URI;X-ADDRESS=Luther Burbank Art & Garden Center 2050 Yulupa Avenue Santa Rosa CA 95405;X-APPLE-RADIUS=500;X-TITLE=2050 Yulupa Avenue:geo:-122.6691319,38.4369602
END:VEVENT
BEGIN:VEVENT
DTSTART;TZID=America/Los_Angeles:20220325T180000
DTEND;TZID=America/Los_Angeles:20220325T200000
DTSTAMP:20260419T100301
CREATED:20220304T160408Z
LAST-MODIFIED:20220304T160408Z
UID:9451-1648231200-1648238400@lutherburbankartandgardencenter.com
SUMMARY:Setup
DESCRIPTION:G Mendoza
URL:http://lutherburbankartandgardencenter.com/event/setup/
LOCATION:Luther Burbank Art & Garden Center\, 2050 Yulupa Avenue\, Santa Rosa\, CA\, 95405
CATEGORIES:Outside Rental
GEO:38.4369602;-122.6691319
X-APPLE-STRUCTURED-LOCATION;VALUE=URI;X-ADDRESS=Luther Burbank Art & Garden Center 2050 Yulupa Avenue Santa Rosa CA 95405;X-APPLE-RADIUS=500;X-TITLE=2050 Yulupa Avenue:geo:-122.6691319,38.4369602
END:VEVENT
BEGIN:VEVENT
DTSTART;TZID=America/Los_Angeles:20220319T140000
DTEND;TZID=America/Los_Angeles:20220319T230000
DTSTAMP:20260419T100301
CREATED:20220209T204857Z
LAST-MODIFIED:20220209T205044Z
UID:9391-1647698400-1647730800@lutherburbankartandgardencenter.com
SUMMARY:Baptismal Celebration
DESCRIPTION:Janet Salazar (originally in January 2\, because of covid restrictions moved to March 12\, now moved because church not available to March 18-19
URL:http://lutherburbankartandgardencenter.com/event/set-up-for-baptismal-celebration/
LOCATION:Luther Burbank Art & Garden Center\, 2050 Yulupa Avenue\, Santa Rosa\, CA\, 95405
CATEGORIES:Outside Rental
GEO:38.4369602;-122.6691319
X-APPLE-STRUCTURED-LOCATION;VALUE=URI;X-ADDRESS=Luther Burbank Art & Garden Center 2050 Yulupa Avenue Santa Rosa CA 95405;X-APPLE-RADIUS=500;X-TITLE=2050 Yulupa Avenue:geo:-122.6691319,38.4369602
END:VEVENT
BEGIN:VEVENT
DTSTART;TZID=America/Los_Angeles:20220318T180000
DTEND;TZID=America/Los_Angeles:20220318T200000
DTSTAMP:20260419T100301
CREATED:20220209T204959Z
LAST-MODIFIED:20220209T204959Z
UID:9393-1647626400-1647633600@lutherburbankartandgardencenter.com
SUMMARY:Setup for Baptismal Celebration
DESCRIPTION:Janet Salazar
URL:http://lutherburbankartandgardencenter.com/event/setup-for-baptismal-celebration/
LOCATION:Luther Burbank Art & Garden Center\, 2050 Yulupa Avenue\, Santa Rosa\, CA\, 95405
CATEGORIES:Outside Rental
GEO:38.4369602;-122.6691319
X-APPLE-STRUCTURED-LOCATION;VALUE=URI;X-ADDRESS=Luther Burbank Art & Garden Center 2050 Yulupa Avenue Santa Rosa CA 95405;X-APPLE-RADIUS=500;X-TITLE=2050 Yulupa Avenue:geo:-122.6691319,38.4369602
END:VEVENT
BEGIN:VEVENT
DTSTART;TZID=America/Los_Angeles:20220314T110000
DTEND;TZID=America/Los_Angeles:20220314T163000
DTSTAMP:20260419T100301
CREATED:20211029T225103Z
LAST-MODIFIED:20211029T232549Z
UID:9124-1647255600-1647275400@lutherburbankartandgardencenter.com
SUMMARY:SR Garden Club -- Speaker/Author Robert Kourik\, "Lazy Ass Gardening"
DESCRIPTION:Jenifer Crabtree speaker contact for SRGC \nPublic Invited
URL:http://lutherburbankartandgardencenter.com/event/sr-garden-club-speaker-author-robert-kourik-lazy-ass-gardening/
LOCATION:Luther Burbank Art & Garden Center\, 2050 Yulupa Avenue\, Santa Rosa\, CA\, 95405
CATEGORIES:Member Club Event
GEO:38.4369602;-122.6691319
X-APPLE-STRUCTURED-LOCATION;VALUE=URI;X-ADDRESS=Luther Burbank Art & Garden Center 2050 Yulupa Avenue Santa Rosa CA 95405;X-APPLE-RADIUS=500;X-TITLE=2050 Yulupa Avenue:geo:-122.6691319,38.4369602
END:VEVENT
BEGIN:VEVENT
DTSTART;TZID=America/Los_Angeles:20220305T140000
DTEND;TZID=America/Los_Angeles:20220305T230000
DTSTAMP:20260419T100301
CREATED:20220104T192322Z
LAST-MODIFIED:20220121T221635Z
UID:9243-1646488800-1646521200@lutherburbankartandgardencenter.com
SUMMARY:Wedding
DESCRIPTION:Carlos and Virginia (Vicky) Bautista
URL:http://lutherburbankartandgardencenter.com/event/wedding-10/
LOCATION:Luther Burbank Art & Garden Center\, 2050 Yulupa Avenue\, Santa Rosa\, CA\, 95405
CATEGORIES:Outside Rental
GEO:38.4369602;-122.6691319
X-APPLE-STRUCTURED-LOCATION;VALUE=URI;X-ADDRESS=Luther Burbank Art & Garden Center 2050 Yulupa Avenue Santa Rosa CA 95405;X-APPLE-RADIUS=500;X-TITLE=2050 Yulupa Avenue:geo:-122.6691319,38.4369602
END:VEVENT
BEGIN:VEVENT
DTSTART;TZID=America/Los_Angeles:20220301T130000
DTEND;TZID=America/Los_Angeles:20220301T150000
DTSTAMP:20260419T100301
CREATED:20220218T232018Z
LAST-MODIFIED:20220218T232018Z
UID:9421-1646139600-1646146800@lutherburbankartandgardencenter.com
SUMMARY:Center Maintenance Committee meeting
DESCRIPTION:Cindy Moore
URL:http://lutherburbankartandgardencenter.com/event/center-maintenance-committee-meeting-14/
LOCATION:Luther Burbank Art & Garden Center\, 2050 Yulupa Avenue\, Santa Rosa\, CA\, 95405
CATEGORIES:LBA&GC
GEO:38.4369602;-122.6691319
X-APPLE-STRUCTURED-LOCATION;VALUE=URI;X-ADDRESS=Luther Burbank Art & Garden Center 2050 Yulupa Avenue Santa Rosa CA 95405;X-APPLE-RADIUS=500;X-TITLE=2050 Yulupa Avenue:geo:-122.6691319,38.4369602
END:VEVENT
BEGIN:VEVENT
DTSTART;TZID=America/Los_Angeles:20220224T090000
DTEND;TZID=America/Los_Angeles:20220224T150000
DTSTAMP:20260419T100301
CREATED:20220223T020652Z
LAST-MODIFIED:20220223T020652Z
UID:9438-1645693200-1645714800@lutherburbankartandgardencenter.com
SUMMARY:Celebration of Life
DESCRIPTION:Donna Gaetano
URL:http://lutherburbankartandgardencenter.com/event/celebration-of-life-25/
LOCATION:Luther Burbank Art & Garden Center\, 2050 Yulupa Avenue\, Santa Rosa\, CA\, 95405
CATEGORIES:Outside Rental
GEO:38.4369602;-122.6691319
X-APPLE-STRUCTURED-LOCATION;VALUE=URI;X-ADDRESS=Luther Burbank Art & Garden Center 2050 Yulupa Avenue Santa Rosa CA 95405;X-APPLE-RADIUS=500;X-TITLE=2050 Yulupa Avenue:geo:-122.6691319,38.4369602
END:VEVENT
BEGIN:VEVENT
DTSTART;TZID=UTC:20220222T090000
DTEND;TZID=UTC:20220222T160000
DTSTAMP:20260419T100301
CREATED:20171024T072424Z
LAST-MODIFIED:20220217T233428Z
UID:7562-1645520400-1645545600@lutherburbankartandgardencenter.com
SUMMARY:Pointless Sisters
DESCRIPTION:Monthly on the fourth Tuesday\, January through November
URL:http://lutherburbankartandgardencenter.com/event/pointless-sisters-2022-02-22/2022-02-22/
LOCATION:Luther Burbank Art & Garden Center\, 2050 Yulupa Avenue\, Santa Rosa\, CA\, 95405
CATEGORIES:Member Club Event
GEO:38.4369602;-122.6691319
X-APPLE-STRUCTURED-LOCATION;VALUE=URI;X-ADDRESS=Luther Burbank Art & Garden Center 2050 Yulupa Avenue Santa Rosa CA 95405;X-APPLE-RADIUS=500;X-TITLE=2050 Yulupa Avenue:geo:-122.6691319,38.4369602
END:VEVENT
BEGIN:VEVENT
DTSTART;TZID=America/Los_Angeles:20220219T130000
DTEND;TZID=America/Los_Angeles:20220219T220000
DTSTAMP:20260419T100301
CREATED:20220201T232322Z
LAST-MODIFIED:20220210T145632Z
UID:9363-1645275600-1645308000@lutherburbankartandgardencenter.com
SUMMARY:Memorial Reception
DESCRIPTION:Lydia #10
URL:http://lutherburbankartandgardencenter.com/event/memorial-reception/
LOCATION:Luther Burbank Art & Garden Center\, 2050 Yulupa Avenue\, Santa Rosa\, CA\, 95405
CATEGORIES:Outside Rental
GEO:38.4369602;-122.6691319
X-APPLE-STRUCTURED-LOCATION;VALUE=URI;X-ADDRESS=Luther Burbank Art & Garden Center 2050 Yulupa Avenue Santa Rosa CA 95405;X-APPLE-RADIUS=500;X-TITLE=2050 Yulupa Avenue:geo:-122.6691319,38.4369602
END:VEVENT
BEGIN:VEVENT
DTSTART;TZID=America/Los_Angeles:20220212T140000
DTEND;TZID=America/Los_Angeles:20220212T230000
DTSTAMP:20260419T100301
CREATED:20220104T192716Z
LAST-MODIFIED:20220104T192716Z
UID:9245-1644674400-1644706800@lutherburbankartandgardencenter.com
SUMMARY:Quinceanera
DESCRIPTION:Eleazar Calderon
URL:http://lutherburbankartandgardencenter.com/event/quinceanera-6/
LOCATION:Luther Burbank Art & Garden Center\, 2050 Yulupa Avenue\, Santa Rosa\, CA\, 95405
CATEGORIES:Outside Rental
GEO:38.4369602;-122.6691319
X-APPLE-STRUCTURED-LOCATION;VALUE=URI;X-ADDRESS=Luther Burbank Art & Garden Center 2050 Yulupa Avenue Santa Rosa CA 95405;X-APPLE-RADIUS=500;X-TITLE=2050 Yulupa Avenue:geo:-122.6691319,38.4369602
END:VEVENT
BEGIN:VEVENT
DTSTART;TZID=America/Los_Angeles:20220211T180000
DTEND;TZID=America/Los_Angeles:20220211T200000
DTSTAMP:20260419T100301
CREATED:20220104T195857Z
LAST-MODIFIED:20220104T195857Z
UID:9247-1644602400-1644609600@lutherburbankartandgardencenter.com
SUMMARY:Set up
DESCRIPTION:Eleazar Calderon
URL:http://lutherburbankartandgardencenter.com/event/set-up/
LOCATION:Luther Burbank Art & Garden Center\, 2050 Yulupa Avenue\, Santa Rosa\, CA\, 95405
CATEGORIES:Outside Rental
GEO:38.4369602;-122.6691319
X-APPLE-STRUCTURED-LOCATION;VALUE=URI;X-ADDRESS=Luther Burbank Art & Garden Center 2050 Yulupa Avenue Santa Rosa CA 95405;X-APPLE-RADIUS=500;X-TITLE=2050 Yulupa Avenue:geo:-122.6691319,38.4369602
END:VEVENT
BEGIN:VEVENT
DTSTART;TZID=UTC:20220202T090000
DTEND;TZID=UTC:20220202T163000
DTSTAMP:20260419T100301
CREATED:20171031T054514Z
LAST-MODIFIED:20260117T183754Z
UID:7515-1643792400-1643819400@lutherburbankartandgardencenter.com
SUMMARY:Redwood Guild of Fiber Arts
DESCRIPTION:Redwood Guild of Fiber Arts
URL:http://lutherburbankartandgardencenter.com/event/rgfa-2-2022-02-02/2022-02-02/
LOCATION:Luther Burbank Art & Garden Center\, 2050 Yulupa Avenue\, Santa Rosa\, CA\, 95405
CATEGORIES:Regular Renter Event
GEO:38.4369602;-122.6691319
X-APPLE-STRUCTURED-LOCATION;VALUE=URI;X-ADDRESS=Luther Burbank Art & Garden Center 2050 Yulupa Avenue Santa Rosa CA 95405;X-APPLE-RADIUS=500;X-TITLE=2050 Yulupa Avenue:geo:-122.6691319,38.4369602
END:VEVENT
BEGIN:VEVENT
DTSTART;TZID=UTC:20220125T090000
DTEND;TZID=UTC:20220125T160000
DTSTAMP:20260419T100301
CREATED:20171024T072424Z
LAST-MODIFIED:20220121T221125Z
UID:7497-1643101200-1643126400@lutherburbankartandgardencenter.com
SUMMARY:Pointless Sisters - zoom mtg
DESCRIPTION:Monthly on the fourth Tuesday\, January through November
URL:http://lutherburbankartandgardencenter.com/event/pointless-sisters-2022-01-25/
LOCATION:Luther Burbank Art & Garden Center\, 2050 Yulupa Avenue\, Santa Rosa\, CA\, 95405
CATEGORIES:Member Club Event
GEO:38.4369602;-122.6691319
X-APPLE-STRUCTURED-LOCATION;VALUE=URI;X-ADDRESS=Luther Burbank Art & Garden Center 2050 Yulupa Avenue Santa Rosa CA 95405;X-APPLE-RADIUS=500;X-TITLE=2050 Yulupa Avenue:geo:-122.6691319,38.4369602
END:VEVENT
BEGIN:VEVENT
DTSTART;TZID=America/Los_Angeles:20220117T100000
DTEND;TZID=America/Los_Angeles:20220117T140000
DTSTAMP:20260419T100301
CREATED:20210629T183509Z
LAST-MODIFIED:20210629T183509Z
UID:8743-1642413600-1642428000@lutherburbankartandgardencenter.com
SUMMARY:Santa Rosa Garden Club Floral Design 101 Workshop
DESCRIPTION:Open to the public.
URL:http://lutherburbankartandgardencenter.com/event/santa-rosa-garden-club-floral-design-101-workshop/
LOCATION:Luther Burbank Art & Garden Center\, 2050 Yulupa Avenue\, Santa Rosa\, CA\, 95405
CATEGORIES:Member Club Event
GEO:38.4369602;-122.6691319
X-APPLE-STRUCTURED-LOCATION;VALUE=URI;X-ADDRESS=Luther Burbank Art & Garden Center 2050 Yulupa Avenue Santa Rosa CA 95405;X-APPLE-RADIUS=500;X-TITLE=2050 Yulupa Avenue:geo:-122.6691319,38.4369602
END:VEVENT
BEGIN:VEVENT
DTSTART;TZID=America/Los_Angeles:20220115T080000
DTEND;TZID=America/Los_Angeles:20220115T140000
DTSTAMP:20260419T100301
CREATED:20210429T142349Z
LAST-MODIFIED:20220322T185934Z
UID:8642-1642233600-1642255200@lutherburbankartandgardencenter.com
SUMMARY:Redwood Empire Rose Society Pruning Demo
DESCRIPTION:Karen Ernsberger
URL:http://lutherburbankartandgardencenter.com/event/redwood-empire-rose-society-pruning-demo-2/
LOCATION:Luther Burbank Art & Garden Center\, 2050 Yulupa Avenue\, Santa Rosa\, CA\, 95405
CATEGORIES:Member Club Event
GEO:38.4369602;-122.6691319
X-APPLE-STRUCTURED-LOCATION;VALUE=URI;X-ADDRESS=Luther Burbank Art & Garden Center 2050 Yulupa Avenue Santa Rosa CA 95405;X-APPLE-RADIUS=500;X-TITLE=2050 Yulupa Avenue:geo:-122.6691319,38.4369602
END:VEVENT
END:VCALENDAR