BEGIN:VCALENDAR
VERSION:2.0
PRODID:-//Luther Burbank Art and Garden Center - ECPv6.8.2.1//NONSGML v1.0//EN
CALSCALE:GREGORIAN
METHOD:PUBLISH
X-ORIGINAL-URL:http://lutherburbankartandgardencenter.com
X-WR-CALDESC:Events for Luther Burbank Art and Garden Center
REFRESH-INTERVAL;VALUE=DURATION:PT1H
X-Robots-Tag:noindex
X-PUBLISHED-TTL:PT1H
BEGIN:VTIMEZONE
TZID:America/Los_Angeles
BEGIN:DAYLIGHT
TZOFFSETFROM:-0800
TZOFFSETTO:-0700
TZNAME:PDT
DTSTART:20180311T100000
END:DAYLIGHT
BEGIN:STANDARD
TZOFFSETFROM:-0700
TZOFFSETTO:-0800
TZNAME:PST
DTSTART:20181104T090000
END:STANDARD
TZID:UTC
BEGIN:STANDARD
TZOFFSETFROM:+0000
TZOFFSETTO:+0000
TZNAME:UTC
DTSTART:20180101T000000
END:STANDARD
END:VTIMEZONE
BEGIN:VEVENT
DTSTART;TZID=America/Los_Angeles:20180609T090000
DTEND;TZID=America/Los_Angeles:20180609T230000
DTSTAMP:20260424T093403
CREATED:20180101T190747Z
LAST-MODIFIED:20180608T121539Z
UID:5411-1528534800-1528585200@lutherburbankartandgardencenter.com
SUMMARY:Bat Mitzvah
DESCRIPTION:Brenda Landau & Roy Camarillo \n2713 Canterbury Dr.\, Santa Rosa. CA 95405 \n707-228-0303 \n12/17/2017 – Rec’d ck #4671 – Amt. of $500.00
URL:http://lutherburbankartandgardencenter.com/event/bat-mitzvah/
LOCATION:Luther Burbank Art & Garden Center\, 2050 Yulupa Avenue\, Santa Rosa\, CA\, 95405
GEO:38.4369602;-122.6691319
X-APPLE-STRUCTURED-LOCATION;VALUE=URI;X-ADDRESS=Luther Burbank Art & Garden Center 2050 Yulupa Avenue Santa Rosa CA 95405;X-APPLE-RADIUS=500;X-TITLE=2050 Yulupa Avenue:geo:-122.6691319,38.4369602
END:VEVENT
BEGIN:VEVENT
DTSTART;TZID=America/Los_Angeles:20180607T130000
DTEND;TZID=America/Los_Angeles:20180607T230000
DTSTAMP:20260424T093403
CREATED:20180416T152359Z
LAST-MODIFIED:20180416T152359Z
UID:5713-1528376400-1528412400@lutherburbankartandgardencenter.com
SUMMARY:Retirement Party
DESCRIPTION:
URL:http://lutherburbankartandgardencenter.com/event/retirement-party-2/
LOCATION:Luther Burbank Art & Garden Center\, 2050 Yulupa Avenue\, Santa Rosa\, CA\, 95405
GEO:38.4369602;-122.6691319
X-APPLE-STRUCTURED-LOCATION;VALUE=URI;X-ADDRESS=Luther Burbank Art & Garden Center 2050 Yulupa Avenue Santa Rosa CA 95405;X-APPLE-RADIUS=500;X-TITLE=2050 Yulupa Avenue:geo:-122.6691319,38.4369602
END:VEVENT
BEGIN:VEVENT
DTSTART;TZID=America/Los_Angeles:20180604T133000
DTEND;TZID=America/Los_Angeles:20180604T150000
DTSTAMP:20260424T093403
CREATED:20180503T193015Z
LAST-MODIFIED:20180511T155553Z
UID:5750-1528119000-1528124400@lutherburbankartandgardencenter.com
SUMMARY:LBA&GC Maintenance Committee
DESCRIPTION:
URL:http://lutherburbankartandgardencenter.com/event/lbagc-maintenance-committee/
LOCATION:Luther Burbank Art & Garden Center\, 2050 Yulupa Avenue\, Santa Rosa\, CA\, 95405
CATEGORIES:LBA&GC
GEO:38.4369602;-122.6691319
X-APPLE-STRUCTURED-LOCATION;VALUE=URI;X-ADDRESS=Luther Burbank Art & Garden Center 2050 Yulupa Avenue Santa Rosa CA 95405;X-APPLE-RADIUS=500;X-TITLE=2050 Yulupa Avenue:geo:-122.6691319,38.4369602
END:VEVENT
BEGIN:VEVENT
DTSTART;TZID=America/Los_Angeles:20180530T163000
DTEND;TZID=America/Los_Angeles:20180530T193000
DTSTAMP:20260424T093403
CREATED:20180523T210854Z
LAST-MODIFIED:20180523T210854Z
UID:5797-1527697800-1527708600@lutherburbankartandgardencenter.com
SUMMARY:Photo Society
DESCRIPTION:
URL:http://lutherburbankartandgardencenter.com/event/photo-society/
LOCATION:Luther Burbank Art & Garden Center\, 2050 Yulupa Avenue\, Santa Rosa\, CA\, 95405
GEO:38.4369602;-122.6691319
X-APPLE-STRUCTURED-LOCATION;VALUE=URI;X-ADDRESS=Luther Burbank Art & Garden Center 2050 Yulupa Avenue Santa Rosa CA 95405;X-APPLE-RADIUS=500;X-TITLE=2050 Yulupa Avenue:geo:-122.6691319,38.4369602
END:VEVENT
BEGIN:VEVENT
DTSTART;TZID=America/Los_Angeles:20180527T090000
DTEND;TZID=America/Los_Angeles:20180527T230000
DTSTAMP:20260424T093403
CREATED:20180420T162905Z
LAST-MODIFIED:20180420T162905Z
UID:5733-1527411600-1527462000@lutherburbankartandgardencenter.com
SUMMARY:Baptism
DESCRIPTION:
URL:http://lutherburbankartandgardencenter.com/event/baptism-5/
LOCATION:Luther Burbank Art & Garden Center\, 2050 Yulupa Avenue\, Santa Rosa\, CA\, 95405
GEO:38.4369602;-122.6691319
X-APPLE-STRUCTURED-LOCATION;VALUE=URI;X-ADDRESS=Luther Burbank Art & Garden Center 2050 Yulupa Avenue Santa Rosa CA 95405;X-APPLE-RADIUS=500;X-TITLE=2050 Yulupa Avenue:geo:-122.6691319,38.4369602
END:VEVENT
BEGIN:VEVENT
DTSTART;TZID=America/Los_Angeles:20180526T090000
DTEND;TZID=America/Los_Angeles:20180526T230000
DTSTAMP:20260424T093403
CREATED:20180324T133729Z
LAST-MODIFIED:20180324T133729Z
UID:5688-1527325200-1527375600@lutherburbankartandgardencenter.com
SUMMARY:Baptism
DESCRIPTION:
URL:http://lutherburbankartandgardencenter.com/event/baptism-3/
LOCATION:Luther Burbank Art & Garden Center\, 2050 Yulupa Avenue\, Santa Rosa\, CA\, 95405
GEO:38.4369602;-122.6691319
X-APPLE-STRUCTURED-LOCATION;VALUE=URI;X-ADDRESS=Luther Burbank Art & Garden Center 2050 Yulupa Avenue Santa Rosa CA 95405;X-APPLE-RADIUS=500;X-TITLE=2050 Yulupa Avenue:geo:-122.6691319,38.4369602
END:VEVENT
BEGIN:VEVENT
DTSTART;TZID=UTC:20180521T160000
DTEND;TZID=UTC:20180521T210000
DTSTAMP:20260424T093403
CREATED:20171031T073608Z
LAST-MODIFIED:20171031T073608Z
UID:5039-1526918400-1526936400@lutherburbankartandgardencenter.com
SUMMARY:Master Gardeners Graduation
DESCRIPTION:
URL:http://lutherburbankartandgardencenter.com/event/master-gardeners-graduation/
LOCATION:Luther Burbank Art & Garden Center\, 2050 Yulupa Avenue\, Santa Rosa\, CA\, 95405
CATEGORIES:Member Club Event
GEO:38.4369602;-122.6691319
X-APPLE-STRUCTURED-LOCATION;VALUE=URI;X-ADDRESS=Luther Burbank Art & Garden Center 2050 Yulupa Avenue Santa Rosa CA 95405;X-APPLE-RADIUS=500;X-TITLE=2050 Yulupa Avenue:geo:-122.6691319,38.4369602
END:VEVENT
BEGIN:VEVENT
DTSTART;TZID=UTC:20180521T100000
DTEND;TZID=UTC:20180521T143000
DTSTAMP:20260424T093403
CREATED:20171029T052602Z
LAST-MODIFIED:20171202T003706Z
UID:4705-1526896800-1526913000@lutherburbankartandgardencenter.com
SUMMARY:Santa Rosa Garden Club
DESCRIPTION:
URL:http://lutherburbankartandgardencenter.com/event/srgc-2/
LOCATION:Luther Burbank Art & Garden Center\, 2050 Yulupa Avenue\, Santa Rosa\, CA\, 95405
CATEGORIES:Member Club Event
GEO:38.4369602;-122.6691319
X-APPLE-STRUCTURED-LOCATION;VALUE=URI;X-ADDRESS=Luther Burbank Art & Garden Center 2050 Yulupa Avenue Santa Rosa CA 95405;X-APPLE-RADIUS=500;X-TITLE=2050 Yulupa Avenue:geo:-122.6691319,38.4369602
END:VEVENT
BEGIN:VEVENT
DTSTART;TZID=America/Los_Angeles:20180520T160000
DTEND;TZID=America/Los_Angeles:20180520T230000
DTSTAMP:20260424T093403
CREATED:20180308T150826Z
LAST-MODIFIED:20180308T150826Z
UID:5607-1526832000-1526857200@lutherburbankartandgardencenter.com
SUMMARY:Graduation Party
DESCRIPTION:
URL:http://lutherburbankartandgardencenter.com/event/graduation-party/
LOCATION:Luther Burbank Art & Garden Center\, 2050 Yulupa Avenue\, Santa Rosa\, CA\, 95405
GEO:38.4369602;-122.6691319
X-APPLE-STRUCTURED-LOCATION;VALUE=URI;X-ADDRESS=Luther Burbank Art & Garden Center 2050 Yulupa Avenue Santa Rosa CA 95405;X-APPLE-RADIUS=500;X-TITLE=2050 Yulupa Avenue:geo:-122.6691319,38.4369602
END:VEVENT
BEGIN:VEVENT
DTSTART;TZID=America/Los_Angeles:20180519T090000
DTEND;TZID=America/Los_Angeles:20180519T230000
DTSTAMP:20260424T093403
CREATED:20180303T184909Z
LAST-MODIFIED:20180303T184909Z
UID:5600-1526720400-1526770800@lutherburbankartandgardencenter.com
SUMMARY:Baptism
DESCRIPTION:
URL:http://lutherburbankartandgardencenter.com/event/baptism-2/
LOCATION:Luther Burbank Art & Garden Center\, 2050 Yulupa Avenue\, Santa Rosa\, CA\, 95405
GEO:38.4369602;-122.6691319
X-APPLE-STRUCTURED-LOCATION;VALUE=URI;X-ADDRESS=Luther Burbank Art & Garden Center 2050 Yulupa Avenue Santa Rosa CA 95405;X-APPLE-RADIUS=500;X-TITLE=2050 Yulupa Avenue:geo:-122.6691319,38.4369602
END:VEVENT
BEGIN:VEVENT
DTSTART;TZID=America/Los_Angeles:20180512T090000
DTEND;TZID=America/Los_Angeles:20180512T230000
DTSTAMP:20260424T093403
CREATED:20180402T155607Z
LAST-MODIFIED:20180402T155607Z
UID:5695-1526115600-1526166000@lutherburbankartandgardencenter.com
SUMMARY:Communion
DESCRIPTION:
URL:http://lutherburbankartandgardencenter.com/event/communion/
LOCATION:Luther Burbank Art & Garden Center\, 2050 Yulupa Avenue\, Santa Rosa\, CA\, 95405
GEO:38.4369602;-122.6691319
X-APPLE-STRUCTURED-LOCATION;VALUE=URI;X-ADDRESS=Luther Burbank Art & Garden Center 2050 Yulupa Avenue Santa Rosa CA 95405;X-APPLE-RADIUS=500;X-TITLE=2050 Yulupa Avenue:geo:-122.6691319,38.4369602
END:VEVENT
BEGIN:VEVENT
DTSTART;TZID=UTC:20180505T080000
DTEND;TZID=UTC:20180505T170000
DTSTAMP:20260424T093403
CREATED:20171029T051843Z
LAST-MODIFIED:20171029T051843Z
UID:4701-1525507200-1525539600@lutherburbankartandgardencenter.com
SUMMARY:Rose Society
DESCRIPTION:
URL:http://lutherburbankartandgardencenter.com/event/rose-society-3/
LOCATION:Luther Burbank Art & Garden Center\, 2050 Yulupa Avenue\, Santa Rosa\, CA\, 95405
CATEGORIES:Member Club Event
GEO:38.4369602;-122.6691319
X-APPLE-STRUCTURED-LOCATION;VALUE=URI;X-ADDRESS=Luther Burbank Art & Garden Center 2050 Yulupa Avenue Santa Rosa CA 95405;X-APPLE-RADIUS=500;X-TITLE=2050 Yulupa Avenue:geo:-122.6691319,38.4369602
END:VEVENT
BEGIN:VEVENT
DTSTART;TZID=UTC:20180504T080000
DTEND;TZID=UTC:20180504T170000
DTSTAMP:20260424T093403
CREATED:20171029T051752Z
LAST-MODIFIED:20171029T051752Z
UID:4699-1525420800-1525453200@lutherburbankartandgardencenter.com
SUMMARY:Rose Society
DESCRIPTION:
URL:http://lutherburbankartandgardencenter.com/event/rose-society-2/
LOCATION:Luther Burbank Art & Garden Center\, 2050 Yulupa Avenue\, Santa Rosa\, CA\, 95405
CATEGORIES:Member Club Event
GEO:38.4369602;-122.6691319
X-APPLE-STRUCTURED-LOCATION;VALUE=URI;X-ADDRESS=Luther Burbank Art & Garden Center 2050 Yulupa Avenue Santa Rosa CA 95405;X-APPLE-RADIUS=500;X-TITLE=2050 Yulupa Avenue:geo:-122.6691319,38.4369602
END:VEVENT
BEGIN:VEVENT
DTSTART;TZID=UTC:20180503T120000
DTEND;TZID=UTC:20180503T160000
DTSTAMP:20260424T093403
CREATED:20171031T074251Z
LAST-MODIFIED:20171031T074251Z
UID:5045-1525348800-1525363200@lutherburbankartandgardencenter.com
SUMMARY:MG TR class
DESCRIPTION:
URL:http://lutherburbankartandgardencenter.com/event/mg-tr-class-7/
LOCATION:Luther Burbank Art & Garden Center\, 2050 Yulupa Avenue\, Santa Rosa\, CA\, 95405
CATEGORIES:Member Club Event
GEO:38.4369602;-122.6691319
X-APPLE-STRUCTURED-LOCATION;VALUE=URI;X-ADDRESS=Luther Burbank Art & Garden Center 2050 Yulupa Avenue Santa Rosa CA 95405;X-APPLE-RADIUS=500;X-TITLE=2050 Yulupa Avenue:geo:-122.6691319,38.4369602
END:VEVENT
BEGIN:VEVENT
DTSTART;TZID=UTC:20180429T123000
DTEND;TZID=UTC:20180429T133000
DTSTAMP:20260424T093403
CREATED:20171029T050651Z
LAST-MODIFIED:20171029T050651Z
UID:4697-1525005000-1525008600@lutherburbankartandgardencenter.com
SUMMARY:Iris Society
DESCRIPTION:
URL:http://lutherburbankartandgardencenter.com/event/iris-society-2/
LOCATION:Luther Burbank Art & Garden Center\, 2050 Yulupa Avenue\, Santa Rosa\, CA\, 95405
CATEGORIES:Member Club Event
GEO:38.4369602;-122.6691319
X-APPLE-STRUCTURED-LOCATION;VALUE=URI;X-ADDRESS=Luther Burbank Art & Garden Center 2050 Yulupa Avenue Santa Rosa CA 95405;X-APPLE-RADIUS=500;X-TITLE=2050 Yulupa Avenue:geo:-122.6691319,38.4369602
END:VEVENT
BEGIN:VEVENT
DTSTART;TZID=UTC:20180428T080000
DTEND;TZID=UTC:20180428T170000
DTSTAMP:20260424T093403
CREATED:20171029T045758Z
LAST-MODIFIED:20171029T045758Z
UID:4695-1524902400-1524934800@lutherburbankartandgardencenter.com
SUMMARY:Iris Society
DESCRIPTION:
URL:http://lutherburbankartandgardencenter.com/event/iris-society/
LOCATION:Luther Burbank Art & Garden Center\, 2050 Yulupa Avenue\, Santa Rosa\, CA\, 95405
CATEGORIES:Member Club Event
GEO:38.4369602;-122.6691319
X-APPLE-STRUCTURED-LOCATION;VALUE=URI;X-ADDRESS=Luther Burbank Art & Garden Center 2050 Yulupa Avenue Santa Rosa CA 95405;X-APPLE-RADIUS=500;X-TITLE=2050 Yulupa Avenue:geo:-122.6691319,38.4369602
END:VEVENT
BEGIN:VEVENT
DTSTART;TZID=UTC:20180427T080000
DTEND;TZID=UTC:20180427T170000
DTSTAMP:20260424T093403
CREATED:20171029T045722Z
LAST-MODIFIED:20171029T045722Z
UID:4693-1524816000-1524848400@lutherburbankartandgardencenter.com
SUMMARY:Rose Society
DESCRIPTION:
URL:http://lutherburbankartandgardencenter.com/event/rose-society/
LOCATION:Luther Burbank Art & Garden Center\, 2050 Yulupa Avenue\, Santa Rosa\, CA\, 95405
CATEGORIES:Member Club Event
GEO:38.4369602;-122.6691319
X-APPLE-STRUCTURED-LOCATION;VALUE=URI;X-ADDRESS=Luther Burbank Art & Garden Center 2050 Yulupa Avenue Santa Rosa CA 95405;X-APPLE-RADIUS=500;X-TITLE=2050 Yulupa Avenue:geo:-122.6691319,38.4369602
END:VEVENT
BEGIN:VEVENT
DTSTART;TZID=UTC:20180426T090000
DTEND;TZID=UTC:20180426T163000
DTSTAMP:20260424T093403
CREATED:20171031T074040Z
LAST-MODIFIED:20171031T074040Z
UID:5043-1524733200-1524760200@lutherburbankartandgardencenter.com
SUMMARY:MG TR class
DESCRIPTION:
URL:http://lutherburbankartandgardencenter.com/event/mg-tr-class-6/
LOCATION:Luther Burbank Art & Garden Center\, 2050 Yulupa Avenue\, Santa Rosa\, CA\, 95405
CATEGORIES:Member Club Event
GEO:38.4369602;-122.6691319
X-APPLE-STRUCTURED-LOCATION;VALUE=URI;X-ADDRESS=Luther Burbank Art & Garden Center 2050 Yulupa Avenue Santa Rosa CA 95405;X-APPLE-RADIUS=500;X-TITLE=2050 Yulupa Avenue:geo:-122.6691319,38.4369602
END:VEVENT
BEGIN:VEVENT
DTSTART;TZID=UTC:20180419T090000
DTEND;TZID=UTC:20180419T130000
DTSTAMP:20260424T093403
CREATED:20171031T073812Z
LAST-MODIFIED:20171031T073812Z
UID:5041-1524128400-1524142800@lutherburbankartandgardencenter.com
SUMMARY:MG TR class
DESCRIPTION:
URL:http://lutherburbankartandgardencenter.com/event/mg-tr-class-5/
LOCATION:Luther Burbank Art & Garden Center\, 2050 Yulupa Avenue\, Santa Rosa\, CA\, 95405
CATEGORIES:Member Club Event
GEO:38.4369602;-122.6691319
X-APPLE-STRUCTURED-LOCATION;VALUE=URI;X-ADDRESS=Luther Burbank Art & Garden Center 2050 Yulupa Avenue Santa Rosa CA 95405;X-APPLE-RADIUS=500;X-TITLE=2050 Yulupa Avenue:geo:-122.6691319,38.4369602
END:VEVENT
BEGIN:VEVENT
DTSTART;TZID=America/Los_Angeles:20180418T080000
DTEND;TZID=America/Los_Angeles:20180418T160000
DTSTAMP:20260424T093403
CREATED:20180117T173202Z
LAST-MODIFIED:20180117T173202Z
UID:5474-1524038400-1524067200@lutherburbankartandgardencenter.com
SUMMARY:WASCO
DESCRIPTION:
URL:http://lutherburbankartandgardencenter.com/event/wasco-6/
LOCATION:Luther Burbank Art & Garden Center\, 2050 Yulupa Avenue\, Santa Rosa\, CA\, 95405
GEO:38.4369602;-122.6691319
X-APPLE-STRUCTURED-LOCATION;VALUE=URI;X-ADDRESS=Luther Burbank Art & Garden Center 2050 Yulupa Avenue Santa Rosa CA 95405;X-APPLE-RADIUS=500;X-TITLE=2050 Yulupa Avenue:geo:-122.6691319,38.4369602
END:VEVENT
BEGIN:VEVENT
DTSTART;TZID=America/Los_Angeles:20180417T080000
DTEND;TZID=America/Los_Angeles:20180417T160000
DTSTAMP:20260424T093403
CREATED:20180117T173109Z
LAST-MODIFIED:20180117T173109Z
UID:5472-1523952000-1523980800@lutherburbankartandgardencenter.com
SUMMARY:WASCO
DESCRIPTION:
URL:http://lutherburbankartandgardencenter.com/event/wasco-5/
LOCATION:Luther Burbank Art & Garden Center\, 2050 Yulupa Avenue\, Santa Rosa\, CA\, 95405
GEO:38.4369602;-122.6691319
X-APPLE-STRUCTURED-LOCATION;VALUE=URI;X-ADDRESS=Luther Burbank Art & Garden Center 2050 Yulupa Avenue Santa Rosa CA 95405;X-APPLE-RADIUS=500;X-TITLE=2050 Yulupa Avenue:geo:-122.6691319,38.4369602
END:VEVENT
BEGIN:VEVENT
DTSTART;TZID=America/Los_Angeles:20180416T080000
DTEND;TZID=America/Los_Angeles:20180416T160000
DTSTAMP:20260424T093403
CREATED:20180117T172915Z
LAST-MODIFIED:20180117T172915Z
UID:5470-1523865600-1523894400@lutherburbankartandgardencenter.com
SUMMARY:WASCO
DESCRIPTION:
URL:http://lutherburbankartandgardencenter.com/event/wasco-4/
LOCATION:Luther Burbank Art & Garden Center\, 2050 Yulupa Avenue\, Santa Rosa\, CA\, 95405
GEO:38.4369602;-122.6691319
X-APPLE-STRUCTURED-LOCATION;VALUE=URI;X-ADDRESS=Luther Burbank Art & Garden Center 2050 Yulupa Avenue Santa Rosa CA 95405;X-APPLE-RADIUS=500;X-TITLE=2050 Yulupa Avenue:geo:-122.6691319,38.4369602
END:VEVENT
BEGIN:VEVENT
DTSTART;TZID=America/Los_Angeles:20180415T100000
DTEND;TZID=America/Los_Angeles:20180415T160000
DTSTAMP:20260424T093403
CREATED:20180321T175115Z
LAST-MODIFIED:20180321T175115Z
UID:5681-1523786400-1523808000@lutherburbankartandgardencenter.com
SUMMARY:Memorial Service
DESCRIPTION:
URL:http://lutherburbankartandgardencenter.com/event/memorial-service/
LOCATION:Luther Burbank Art & Garden Center\, 2050 Yulupa Avenue\, Santa Rosa\, CA\, 95405
GEO:38.4369602;-122.6691319
X-APPLE-STRUCTURED-LOCATION;VALUE=URI;X-ADDRESS=Luther Burbank Art & Garden Center 2050 Yulupa Avenue Santa Rosa CA 95405;X-APPLE-RADIUS=500;X-TITLE=2050 Yulupa Avenue:geo:-122.6691319,38.4369602
END:VEVENT
BEGIN:VEVENT
DTSTART;TZID=UTC:20180414T080000
DTEND;TZID=UTC:20180414T170000
DTSTAMP:20260424T093403
CREATED:20171025T055234Z
LAST-MODIFIED:20171111T233809Z
UID:4636-1523692800-1523725200@lutherburbankartandgardencenter.com
SUMMARY:SRGC Plant Sale
DESCRIPTION:
URL:http://lutherburbankartandgardencenter.com/event/srgc-plant-sale/
LOCATION:Luther Burbank Art & Garden Center\, 2050 Yulupa Avenue\, Santa Rosa\, CA\, 95405
CATEGORIES:Member Club Event
GEO:38.4369602;-122.6691319
X-APPLE-STRUCTURED-LOCATION;VALUE=URI;X-ADDRESS=Luther Burbank Art & Garden Center 2050 Yulupa Avenue Santa Rosa CA 95405;X-APPLE-RADIUS=500;X-TITLE=2050 Yulupa Avenue:geo:-122.6691319,38.4369602
END:VEVENT
BEGIN:VEVENT
DTSTART;TZID=UTC:20180413T090000
DTEND;TZID=UTC:20180413T170000
DTSTAMP:20260424T093403
CREATED:20171025T055111Z
LAST-MODIFIED:20171111T233809Z
UID:4634-1523610000-1523638800@lutherburbankartandgardencenter.com
SUMMARY:SRGC
DESCRIPTION:
URL:http://lutherburbankartandgardencenter.com/event/srgc/
LOCATION:Luther Burbank Art & Garden Center\, 2050 Yulupa Avenue\, Santa Rosa\, CA\, 95405
CATEGORIES:Member Club Event
GEO:38.4369602;-122.6691319
X-APPLE-STRUCTURED-LOCATION;VALUE=URI;X-ADDRESS=Luther Burbank Art & Garden Center 2050 Yulupa Avenue Santa Rosa CA 95405;X-APPLE-RADIUS=500;X-TITLE=2050 Yulupa Avenue:geo:-122.6691319,38.4369602
END:VEVENT
BEGIN:VEVENT
DTSTART;TZID=America/Los_Angeles:20180410T080000
DTEND;TZID=America/Los_Angeles:20180410T170000
DTSTAMP:20260424T093403
CREATED:20171129T160509Z
LAST-MODIFIED:20171129T160509Z
UID:5348-1523347200-1523379600@lutherburbankartandgardencenter.com
SUMMARY:Pointless Sisters
DESCRIPTION:
URL:http://lutherburbankartandgardencenter.com/event/pointless-sisters-5/
LOCATION:Luther Burbank Art & Garden Center\, 2050 Yulupa Avenue\, Santa Rosa\, CA\, 95405
GEO:38.4369602;-122.6691319
X-APPLE-STRUCTURED-LOCATION;VALUE=URI;X-ADDRESS=Luther Burbank Art & Garden Center 2050 Yulupa Avenue Santa Rosa CA 95405;X-APPLE-RADIUS=500;X-TITLE=2050 Yulupa Avenue:geo:-122.6691319,38.4369602
END:VEVENT
BEGIN:VEVENT
DTSTART;TZID=America/Los_Angeles:20180409T080000
DTEND;TZID=America/Los_Angeles:20180409T170000
DTSTAMP:20260424T093403
CREATED:20171129T160102Z
LAST-MODIFIED:20171129T160102Z
UID:5344-1523260800-1523293200@lutherburbankartandgardencenter.com
SUMMARY:Pointless Sisters
DESCRIPTION:
URL:http://lutherburbankartandgardencenter.com/event/pointless-sisters-4/
LOCATION:Luther Burbank Art & Garden Center\, 2050 Yulupa Avenue\, Santa Rosa\, CA\, 95405
GEO:38.4369602;-122.6691319
X-APPLE-STRUCTURED-LOCATION;VALUE=URI;X-ADDRESS=Luther Burbank Art & Garden Center 2050 Yulupa Avenue Santa Rosa CA 95405;X-APPLE-RADIUS=500;X-TITLE=2050 Yulupa Avenue:geo:-122.6691319,38.4369602
END:VEVENT
BEGIN:VEVENT
DTSTART;TZID=America/Los_Angeles:20180407T090000
DTEND;TZID=America/Los_Angeles:20180407T230000
DTSTAMP:20260424T093403
CREATED:20180402T155200Z
LAST-MODIFIED:20180402T155200Z
UID:5693-1523091600-1523142000@lutherburbankartandgardencenter.com
SUMMARY:Baptism
DESCRIPTION:
URL:http://lutherburbankartandgardencenter.com/event/baptism-4/
LOCATION:Luther Burbank Art & Garden Center\, 2050 Yulupa Avenue\, Santa Rosa\, CA\, 95405
GEO:38.4369602;-122.6691319
X-APPLE-STRUCTURED-LOCATION;VALUE=URI;X-ADDRESS=Luther Burbank Art & Garden Center 2050 Yulupa Avenue Santa Rosa CA 95405;X-APPLE-RADIUS=500;X-TITLE=2050 Yulupa Avenue:geo:-122.6691319,38.4369602
END:VEVENT
BEGIN:VEVENT
DTSTART;TZID=America/Los_Angeles:20180406T110000
DTEND;TZID=America/Los_Angeles:20180406T180000
DTSTAMP:20260424T093403
CREATED:20180111T164751Z
LAST-MODIFIED:20180111T164751Z
UID:5457-1523012400-1523037600@lutherburbankartandgardencenter.com
SUMMARY:Wedding Reception
DESCRIPTION:
URL:http://lutherburbankartandgardencenter.com/event/wedding-reception-3/
LOCATION:Luther Burbank Art & Garden Center\, 2050 Yulupa Avenue\, Santa Rosa\, CA\, 95405
GEO:38.4369602;-122.6691319
X-APPLE-STRUCTURED-LOCATION;VALUE=URI;X-ADDRESS=Luther Burbank Art & Garden Center 2050 Yulupa Avenue Santa Rosa CA 95405;X-APPLE-RADIUS=500;X-TITLE=2050 Yulupa Avenue:geo:-122.6691319,38.4369602
END:VEVENT
BEGIN:VEVENT
DTSTART;TZID=UTC:20180329T090000
DTEND;TZID=UTC:20180329T170000
DTSTAMP:20260424T093403
CREATED:20171101T024758Z
LAST-MODIFIED:20171101T024758Z
UID:5052-1522314000-1522342800@lutherburbankartandgardencenter.com
SUMMARY:SR Quilt Guild
DESCRIPTION:
URL:http://lutherburbankartandgardencenter.com/event/sr-quilt-guild-2/
LOCATION:Luther Burbank Art & Garden Center\, 2050 Yulupa Avenue\, Santa Rosa\, CA\, 95405
CATEGORIES:Member Club Event
GEO:38.4369602;-122.6691319
X-APPLE-STRUCTURED-LOCATION;VALUE=URI;X-ADDRESS=Luther Burbank Art & Garden Center 2050 Yulupa Avenue Santa Rosa CA 95405;X-APPLE-RADIUS=500;X-TITLE=2050 Yulupa Avenue:geo:-122.6691319,38.4369602
END:VEVENT
END:VCALENDAR