BEGIN:VCALENDAR
VERSION:2.0
PRODID:-//Luther Burbank Art and Garden Center - ECPv6.8.2.1//NONSGML v1.0//EN
CALSCALE:GREGORIAN
METHOD:PUBLISH
X-WR-CALNAME:Luther Burbank Art and Garden Center
X-ORIGINAL-URL:http://lutherburbankartandgardencenter.com
X-WR-CALDESC:Events for Luther Burbank Art and Garden Center
REFRESH-INTERVAL;VALUE=DURATION:PT1H
X-Robots-Tag:noindex
X-PUBLISHED-TTL:PT1H
BEGIN:VTIMEZONE
TZID:America/Los_Angeles
BEGIN:DAYLIGHT
TZOFFSETFROM:-0800
TZOFFSETTO:-0700
TZNAME:PDT
DTSTART:20180311T100000
END:DAYLIGHT
BEGIN:STANDARD
TZOFFSETFROM:-0700
TZOFFSETTO:-0800
TZNAME:PST
DTSTART:20181104T090000
END:STANDARD
TZID:America/Los_Angeles
BEGIN:DAYLIGHT
TZOFFSETFROM:-0800
TZOFFSETTO:-0700
TZNAME:PDT
DTSTART:20180311T100000
END:DAYLIGHT
BEGIN:STANDARD
TZOFFSETFROM:-0700
TZOFFSETTO:-0800
TZNAME:PST
DTSTART:20181104T090000
END:STANDARD
TZID:UTC
BEGIN:STANDARD
TZOFFSETFROM:+0000
TZOFFSETTO:+0000
TZNAME:UTC
DTSTART:20180101T000000
END:STANDARD
END:VTIMEZONE
BEGIN:VEVENT
DTSTART;TZID=America/Los_Angeles:20180920T130000
DTEND;TZID=America/Los_Angeles:20180920T133000
DTSTAMP:20260422T065533
CREATED:20180919T231522Z
LAST-MODIFIED:20180919T231522Z
UID:6162-1537448400-1537450200@lutherburbankartandgardencenter.com
SUMMARY:Meeting
DESCRIPTION:meet Yolanda Cisneros for balance and insurance
URL:http://lutherburbankartandgardencenter.com/event/meeting-6/
LOCATION:Luther Burbank Art & Garden Center\, 2050 Yulupa Avenue\, Santa Rosa\, CA\, 95405
GEO:38.4369602;-122.6691319
X-APPLE-STRUCTURED-LOCATION;VALUE=URI;X-ADDRESS=Luther Burbank Art & Garden Center 2050 Yulupa Avenue Santa Rosa CA 95405;X-APPLE-RADIUS=500;X-TITLE=2050 Yulupa Avenue:geo:-122.6691319,38.4369602
END:VEVENT
BEGIN:VEVENT
DTSTART;TZID=America/Los_Angeles:20180917T130000
DTEND;TZID=America/Los_Angeles:20180917T150000
DTSTAMP:20260422T065533
CREATED:20180909T040110Z
LAST-MODIFIED:20180909T040110Z
UID:6133-1537189200-1537196400@lutherburbankartandgardencenter.com
SUMMARY:Maintenance Committee
DESCRIPTION:
URL:http://lutherburbankartandgardencenter.com/event/maintenance-committee/
LOCATION:Luther Burbank Art & Garden Center\, 2050 Yulupa Avenue\, Santa Rosa\, CA\, 95405
GEO:38.4369602;-122.6691319
X-APPLE-STRUCTURED-LOCATION;VALUE=URI;X-ADDRESS=Luther Burbank Art & Garden Center 2050 Yulupa Avenue Santa Rosa CA 95405;X-APPLE-RADIUS=500;X-TITLE=2050 Yulupa Avenue:geo:-122.6691319,38.4369602
END:VEVENT
BEGIN:VEVENT
DTSTART;TZID=America/Los_Angeles:20180916T100000
DTEND;TZID=America/Los_Angeles:20180916T160000
DTSTAMP:20260422T065533
CREATED:20180722T231541Z
LAST-MODIFIED:20180722T231541Z
UID:6053-1537092000-1537113600@lutherburbankartandgardencenter.com
SUMMARY:Memorial
DESCRIPTION:7/22/18 Received Ck #1800 in the amount of $1050.00 from: \nDaniel G. Holland \nP.O. Box 17\, Graton\, CA 95444 \n707-888-6661 \nwrdsvines@aol.com
URL:http://lutherburbankartandgardencenter.com/event/memorial-4/
LOCATION:Luther Burbank Art & Garden Center\, 2050 Yulupa Avenue\, Santa Rosa\, CA\, 95405
GEO:38.4369602;-122.6691319
X-APPLE-STRUCTURED-LOCATION;VALUE=URI;X-ADDRESS=Luther Burbank Art & Garden Center 2050 Yulupa Avenue Santa Rosa CA 95405;X-APPLE-RADIUS=500;X-TITLE=2050 Yulupa Avenue:geo:-122.6691319,38.4369602
END:VEVENT
BEGIN:VEVENT
DTSTART;TZID=America/Los_Angeles:20180915T090000
DTEND;TZID=America/Los_Angeles:20180915T230000
DTSTAMP:20260422T065533
CREATED:20171125T223623Z
LAST-MODIFIED:20180722T011646Z
UID:5338-1537002000-1537052400@lutherburbankartandgardencenter.com
SUMMARY:Birthday Party
DESCRIPTION:Nancy Gonzalez – 707-536-7394 \n2707 Woodlake Drive\, Santa Rosa\, CA 95405 \nnlgoon77@yahoo.com \n5/26/18 – Rec’d Ck #1520 for the amt of $500.00 \nBal Due – $950.00 \n7/8/18 – Rec’d Ck #1551 – Amt. of $950.00
URL:http://lutherburbankartandgardencenter.com/event/birthday-party-2/
LOCATION:Luther Burbank Art & Garden Center\, 2050 Yulupa Avenue\, Santa Rosa\, CA\, 95405
GEO:38.4369602;-122.6691319
X-APPLE-STRUCTURED-LOCATION;VALUE=URI;X-ADDRESS=Luther Burbank Art & Garden Center 2050 Yulupa Avenue Santa Rosa CA 95405;X-APPLE-RADIUS=500;X-TITLE=2050 Yulupa Avenue:geo:-122.6691319,38.4369602
END:VEVENT
BEGIN:VEVENT
DTSTART;TZID=America/Los_Angeles:20180914T130000
DTEND;TZID=America/Los_Angeles:20180914T190000
DTSTAMP:20260422T065533
CREATED:20180914T144136Z
LAST-MODIFIED:20180914T144218Z
UID:6147-1536930000-1536951600@lutherburbankartandgardencenter.com
SUMMARY:Reception
DESCRIPTION:Michelle Harris (Oakmont Financial Group) 6580 Oakmont Drive\, St. B\, Santa Rosa\, CA 95409 \n707-696-5352 \nRec’d Ck # 1779 – Amt. $1050.00
URL:http://lutherburbankartandgardencenter.com/event/reception-5/
LOCATION:Luther Burbank Art & Garden Center\, 2050 Yulupa Avenue\, Santa Rosa\, CA\, 95405
GEO:38.4369602;-122.6691319
X-APPLE-STRUCTURED-LOCATION;VALUE=URI;X-ADDRESS=Luther Burbank Art & Garden Center 2050 Yulupa Avenue Santa Rosa CA 95405;X-APPLE-RADIUS=500;X-TITLE=2050 Yulupa Avenue:geo:-122.6691319,38.4369602
END:VEVENT
BEGIN:VEVENT
DTSTART;TZID=America/Los_Angeles:20180914T090000
DTEND;TZID=America/Los_Angeles:20180914T120000
DTSTAMP:20260422T065533
CREATED:20180911T202904Z
LAST-MODIFIED:20180911T202904Z
UID:6141-1536915600-1536926400@lutherburbankartandgardencenter.com
SUMMARY:Tee Vax
DESCRIPTION:Oven repair
URL:http://lutherburbankartandgardencenter.com/event/tee-vax/
LOCATION:Luther Burbank Art & Garden Center\, 2050 Yulupa Avenue\, Santa Rosa\, CA\, 95405
GEO:38.4369602;-122.6691319
X-APPLE-STRUCTURED-LOCATION;VALUE=URI;X-ADDRESS=Luther Burbank Art & Garden Center 2050 Yulupa Avenue Santa Rosa CA 95405;X-APPLE-RADIUS=500;X-TITLE=2050 Yulupa Avenue:geo:-122.6691319,38.4369602
END:VEVENT
BEGIN:VEVENT
DTSTART;TZID=America/Los_Angeles:20180908T080000
DTEND;TZID=America/Los_Angeles:20180908T170000
DTSTAMP:20260422T065533
CREATED:20180410T184623Z
LAST-MODIFIED:20180410T184623Z
UID:5703-1536393600-1536426000@lutherburbankartandgardencenter.com
SUMMARY:Iris Society
DESCRIPTION:
URL:http://lutherburbankartandgardencenter.com/event/iris-society-3/
LOCATION:Luther Burbank Art & Garden Center\, 2050 Yulupa Avenue\, Santa Rosa\, CA\, 95405
GEO:38.4369602;-122.6691319
X-APPLE-STRUCTURED-LOCATION;VALUE=URI;X-ADDRESS=Luther Burbank Art & Garden Center 2050 Yulupa Avenue Santa Rosa CA 95405;X-APPLE-RADIUS=500;X-TITLE=2050 Yulupa Avenue:geo:-122.6691319,38.4369602
END:VEVENT
BEGIN:VEVENT
DTSTART;TZID=America/Los_Angeles:20180907T080000
DTEND;TZID=America/Los_Angeles:20180907T170000
DTSTAMP:20260422T065533
CREATED:20180827T160243Z
LAST-MODIFIED:20180827T160243Z
UID:6106-1536307200-1536339600@lutherburbankartandgardencenter.com
SUMMARY:Oven repair
DESCRIPTION:Tee Vax to repair oven – they will call the day before with the time.
URL:http://lutherburbankartandgardencenter.com/event/oven-repair/
LOCATION:Luther Burbank Art & Garden Center\, 2050 Yulupa Avenue\, Santa Rosa\, CA\, 95405
GEO:38.4369602;-122.6691319
X-APPLE-STRUCTURED-LOCATION;VALUE=URI;X-ADDRESS=Luther Burbank Art & Garden Center 2050 Yulupa Avenue Santa Rosa CA 95405;X-APPLE-RADIUS=500;X-TITLE=2050 Yulupa Avenue:geo:-122.6691319,38.4369602
END:VEVENT
BEGIN:VEVENT
DTSTART;TZID=America/Los_Angeles:20180830T080000
DTEND;TZID=America/Los_Angeles:20180830T160000
DTSTAMP:20260422T065533
CREATED:20180729T150048Z
LAST-MODIFIED:20180729T150048Z
UID:6061-1535616000-1535644800@lutherburbankartandgardencenter.com
SUMMARY:Quilt Guild
DESCRIPTION:
URL:http://lutherburbankartandgardencenter.com/event/quilt-guild-3/
LOCATION:Luther Burbank Art & Garden Center\, 2050 Yulupa Avenue\, Santa Rosa\, CA\, 95405
GEO:38.4369602;-122.6691319
X-APPLE-STRUCTURED-LOCATION;VALUE=URI;X-ADDRESS=Luther Burbank Art & Garden Center 2050 Yulupa Avenue Santa Rosa CA 95405;X-APPLE-RADIUS=500;X-TITLE=2050 Yulupa Avenue:geo:-122.6691319,38.4369602
END:VEVENT
BEGIN:VEVENT
DTSTART;TZID=UTC:20180829T083000
DTEND;TZID=UTC:20180829T173000
DTSTAMP:20260422T065533
CREATED:20171029T054202Z
LAST-MODIFIED:20171029T054735Z
UID:4707-1535531400-1535563800@lutherburbankartandgardencenter.com
SUMMARY:Pointless Sisters
DESCRIPTION:
URL:http://lutherburbankartandgardencenter.com/event/pointless-sisters-3/
LOCATION:Luther Burbank Art & Garden Center\, 2050 Yulupa Avenue\, Santa Rosa\, CA\, 95405
CATEGORIES:Member Club Event
GEO:38.4369602;-122.6691319
X-APPLE-STRUCTURED-LOCATION;VALUE=URI;X-ADDRESS=Luther Burbank Art & Garden Center 2050 Yulupa Avenue Santa Rosa CA 95405;X-APPLE-RADIUS=500;X-TITLE=2050 Yulupa Avenue:geo:-122.6691319,38.4369602
END:VEVENT
BEGIN:VEVENT
DTSTART;TZID=America/Los_Angeles:20180827T080000
DTEND;TZID=America/Los_Angeles:20180827T133000
DTSTAMP:20260422T065533
CREATED:20180731T022305Z
LAST-MODIFIED:20180731T022305Z
UID:6071-1535356800-1535376600@lutherburbankartandgardencenter.com
SUMMARY:S R Garden Club
DESCRIPTION:
URL:http://lutherburbankartandgardencenter.com/event/s-r-garden-club/
LOCATION:Luther Burbank Art & Garden Center\, 2050 Yulupa Avenue\, Santa Rosa\, CA\, 95405
GEO:38.4369602;-122.6691319
X-APPLE-STRUCTURED-LOCATION;VALUE=URI;X-ADDRESS=Luther Burbank Art & Garden Center 2050 Yulupa Avenue Santa Rosa CA 95405;X-APPLE-RADIUS=500;X-TITLE=2050 Yulupa Avenue:geo:-122.6691319,38.4369602
END:VEVENT
BEGIN:VEVENT
DTSTART;TZID=America/Los_Angeles:20180824T120000
DTEND;TZID=America/Los_Angeles:20180824T180000
DTSTAMP:20260422T065533
CREATED:20180801T201054Z
LAST-MODIFIED:20180801T201054Z
UID:6074-1535112000-1535133600@lutherburbankartandgardencenter.com
SUMMARY:Celebration of Life
DESCRIPTION:Kurt Harrison- set up for 8/25
URL:http://lutherburbankartandgardencenter.com/event/celebration-of-life-13/
LOCATION:Luther Burbank Art & Garden Center\, 2050 Yulupa Avenue\, Santa Rosa\, CA\, 95405
GEO:38.4369602;-122.6691319
X-APPLE-STRUCTURED-LOCATION;VALUE=URI;X-ADDRESS=Luther Burbank Art & Garden Center 2050 Yulupa Avenue Santa Rosa CA 95405;X-APPLE-RADIUS=500;X-TITLE=2050 Yulupa Avenue:geo:-122.6691319,38.4369602
END:VEVENT
BEGIN:VEVENT
DTSTART;TZID=America/Los_Angeles:20180822T170000
DTEND;TZID=America/Los_Angeles:20180822T173000
DTSTAMP:20260422T065533
CREATED:20180815T214824Z
LAST-MODIFIED:20180815T215126Z
UID:6089-1534957200-1534959000@lutherburbankartandgardencenter.com
SUMMARY:Meeting
DESCRIPTION:Show Cindy Center for Feb. 16 event 707-570-9303
URL:http://lutherburbankartandgardencenter.com/event/meeting-5/
LOCATION:Luther Burbank Art & Garden Center\, 2050 Yulupa Avenue\, Santa Rosa\, CA\, 95405
GEO:38.4369602;-122.6691319
X-APPLE-STRUCTURED-LOCATION;VALUE=URI;X-ADDRESS=Luther Burbank Art & Garden Center 2050 Yulupa Avenue Santa Rosa CA 95405;X-APPLE-RADIUS=500;X-TITLE=2050 Yulupa Avenue:geo:-122.6691319,38.4369602
END:VEVENT
BEGIN:VEVENT
DTSTART;TZID=America/Los_Angeles:20180819T090000
DTEND;TZID=America/Los_Angeles:20180819T230000
DTSTAMP:20260422T065533
CREATED:20180420T163025Z
LAST-MODIFIED:20180611T002105Z
UID:5735-1534669200-1534719600@lutherburbankartandgardencenter.com
SUMMARY:Birthday Party
DESCRIPTION:Arturo Perez – 707-393-0317 \n2412 Pomo Court\, Santa Rosa\, CA 95403 \n4/19/18 – Rec’d cash deposit of $500.00 \nBal Due – $850.00
URL:http://lutherburbankartandgardencenter.com/event/birthday-party-5/
LOCATION:Luther Burbank Art & Garden Center\, 2050 Yulupa Avenue\, Santa Rosa\, CA\, 95405
GEO:38.4369602;-122.6691319
X-APPLE-STRUCTURED-LOCATION;VALUE=URI;X-ADDRESS=Luther Burbank Art & Garden Center 2050 Yulupa Avenue Santa Rosa CA 95405;X-APPLE-RADIUS=500;X-TITLE=2050 Yulupa Avenue:geo:-122.6691319,38.4369602
END:VEVENT
BEGIN:VEVENT
DTSTART;TZID=America/Los_Angeles:20180818T090000
DTEND;TZID=America/Los_Angeles:20180818T230000
DTSTAMP:20260422T065533
CREATED:20180308T150642Z
LAST-MODIFIED:20180722T010902Z
UID:5605-1534582800-1534633200@lutherburbankartandgardencenter.com
SUMMARY:Quinceanera
DESCRIPTION:Rick & Claudia Oseguera – 707-484-4923 \n2363 Vallejo St.\, Santa Rosa\, CA 95405 \nsrpredirector@sonic.net \n3/5/18 – Rec’d Ck #2795 for the amount of $600.00 \nBal Due – $1050.00 \n7/8/18 – Rec’d Ck #2804 – Amt. of $1050.00
URL:http://lutherburbankartandgardencenter.com/event/quinceanera/
LOCATION:Luther Burbank Art & Garden Center\, 2050 Yulupa Avenue\, Santa Rosa\, CA\, 95405
GEO:38.4369602;-122.6691319
X-APPLE-STRUCTURED-LOCATION;VALUE=URI;X-ADDRESS=Luther Burbank Art & Garden Center 2050 Yulupa Avenue Santa Rosa CA 95405;X-APPLE-RADIUS=500;X-TITLE=2050 Yulupa Avenue:geo:-122.6691319,38.4369602
END:VEVENT
BEGIN:VEVENT
DTSTART;TZID=America/Los_Angeles:20180817T080000
DTEND;TZID=America/Los_Angeles:20180817T170000
DTSTAMP:20260422T065533
CREATED:20180622T164147Z
LAST-MODIFIED:20180622T164147Z
UID:5926-1534492800-1534525200@lutherburbankartandgardencenter.com
SUMMARY:S R Quilt Guild
DESCRIPTION:
URL:http://lutherburbankartandgardencenter.com/event/s-r-quilt-guild-2/
LOCATION:Luther Burbank Art & Garden Center\, 2050 Yulupa Avenue\, Santa Rosa\, CA\, 95405
GEO:38.4369602;-122.6691319
X-APPLE-STRUCTURED-LOCATION;VALUE=URI;X-ADDRESS=Luther Burbank Art & Garden Center 2050 Yulupa Avenue Santa Rosa CA 95405;X-APPLE-RADIUS=500;X-TITLE=2050 Yulupa Avenue:geo:-122.6691319,38.4369602
END:VEVENT
BEGIN:VEVENT
DTSTART;TZID=America/Los_Angeles:20180811T090000
DTEND;TZID=America/Los_Angeles:20180811T230000
DTSTAMP:20260422T065533
CREATED:20180511T122041Z
LAST-MODIFIED:20180722T010518Z
UID:5761-1533978000-1534028400@lutherburbankartandgardencenter.com
SUMMARY:Birthday Party
DESCRIPTION:Patricia Schneider – 707-528-6752 – cell – 707-236-0316 \n2631 Cactus Ave.\, Santa Rosa\, CA 95405 \ncactus2631@sbcglobal.net \n5/10/18 – Rec’d Ck #2385 for the amount of $500.00 \nBal Due $950.00 \n6/11/18 – Rec’d Ck #2388 – Amt. of $500.00 and Ck #2389 – Amt. of $450.00
URL:http://lutherburbankartandgardencenter.com/event/birthday-party-7/
LOCATION:Luther Burbank Art & Garden Center\, 2050 Yulupa Avenue\, Santa Rosa\, CA\, 95405
GEO:38.4369602;-122.6691319
X-APPLE-STRUCTURED-LOCATION;VALUE=URI;X-ADDRESS=Luther Burbank Art & Garden Center 2050 Yulupa Avenue Santa Rosa CA 95405;X-APPLE-RADIUS=500;X-TITLE=2050 Yulupa Avenue:geo:-122.6691319,38.4369602
END:VEVENT
BEGIN:VEVENT
DTSTART;TZID=America/Los_Angeles:20180810T090000
DTEND;TZID=America/Los_Angeles:20180810T200000
DTSTAMP:20260422T065533
CREATED:20180729T151104Z
LAST-MODIFIED:20180801T230151Z
UID:6067-1533891600-1533931200@lutherburbankartandgardencenter.com
SUMMARY:Celebration of Life
DESCRIPTION:Emily Toress\, 2311 Floral Way\, Santa Rosa\, CA 95403 \n707-304-2081 \n7/27/2018 – Rec’d Ck #1528 – Amt. of $1350.00 and R/A
URL:http://lutherburbankartandgardencenter.com/event/celebration-of-life-12/
LOCATION:Luther Burbank Art & Garden Center\, 2050 Yulupa Avenue\, Santa Rosa\, CA\, 95405
GEO:38.4369602;-122.6691319
X-APPLE-STRUCTURED-LOCATION;VALUE=URI;X-ADDRESS=Luther Burbank Art & Garden Center 2050 Yulupa Avenue Santa Rosa CA 95405;X-APPLE-RADIUS=500;X-TITLE=2050 Yulupa Avenue:geo:-122.6691319,38.4369602
END:VEVENT
BEGIN:VEVENT
DTSTART;TZID=America/Los_Angeles:20180805T080000
DTEND;TZID=America/Los_Angeles:20180805T140000
DTSTAMP:20260422T065533
CREATED:20180420T163254Z
LAST-MODIFIED:20180611T000604Z
UID:5739-1533456000-1533477600@lutherburbankartandgardencenter.com
SUMMARY:Party clean up
DESCRIPTION:Patricia Medina – 707-540-3539 \n543 Courtyard Circle\, Santa Rosa\, CA 95407 \n4/1918 – Rec’d Ck #1006 for the amount of $700.00 \nThis is a half day rental for the clean up of the party on 8/4/18
URL:http://lutherburbankartandgardencenter.com/event/party-clean-up/
LOCATION:Luther Burbank Art & Garden Center\, 2050 Yulupa Avenue\, Santa Rosa\, CA\, 95405
GEO:38.4369602;-122.6691319
X-APPLE-STRUCTURED-LOCATION;VALUE=URI;X-ADDRESS=Luther Burbank Art & Garden Center 2050 Yulupa Avenue Santa Rosa CA 95405;X-APPLE-RADIUS=500;X-TITLE=2050 Yulupa Avenue:geo:-122.6691319,38.4369602
END:VEVENT
BEGIN:VEVENT
DTSTART;TZID=America/Los_Angeles:20180804T090000
DTEND;TZID=America/Los_Angeles:20180804T230000
DTSTAMP:20260422T065533
CREATED:20180420T163140Z
LAST-MODIFIED:20180611T000037Z
UID:5737-1533373200-1533423600@lutherburbankartandgardencenter.com
SUMMARY:Birthday Party
DESCRIPTION:Patricia Medina – 707-540-3539 \n543 Courtyard Circle\, Santa Rosa\, CA 95407 \nPatriciaQuiroga@ymail.com \n5/18/18 – Rec’d Ck #1008 for the amount of $1300.00
URL:http://lutherburbankartandgardencenter.com/event/birthday-party-6/
LOCATION:Luther Burbank Art & Garden Center\, 2050 Yulupa Avenue\, Santa Rosa\, CA\, 95405
GEO:38.4369602;-122.6691319
X-APPLE-STRUCTURED-LOCATION;VALUE=URI;X-ADDRESS=Luther Burbank Art & Garden Center 2050 Yulupa Avenue Santa Rosa CA 95405;X-APPLE-RADIUS=500;X-TITLE=2050 Yulupa Avenue:geo:-122.6691319,38.4369602
END:VEVENT
BEGIN:VEVENT
DTSTART;TZID=UTC:20180802T160000
DTEND;TZID=UTC:20180802T210000
DTSTAMP:20260422T065533
CREATED:20171024T101052Z
LAST-MODIFIED:20180722T010031Z
UID:4518-1533225600-1533243600@lutherburbankartandgardencenter.com
SUMMARY:Rehearsal Dinner
DESCRIPTION:Carole Freund – 707-721-1508 \n409 S. Main St.\, Hailey\, Idaho 83333 \ncarole.idaho@gmail.com \n9/16/17 – Rec’d Ck #6257 for the amount of $275.00 \nAmount due $725.00 \n7/9/18 – Rec’d Ck #6335 – Amt. of $725.00
URL:http://lutherburbankartandgardencenter.com/event/rehearsal-dinner/
LOCATION:Luther Burbank Art & Garden Center\, 2050 Yulupa Avenue\, Santa Rosa\, CA\, 95405
GEO:38.4369602;-122.6691319
X-APPLE-STRUCTURED-LOCATION;VALUE=URI;X-ADDRESS=Luther Burbank Art & Garden Center 2050 Yulupa Avenue Santa Rosa CA 95405;X-APPLE-RADIUS=500;X-TITLE=2050 Yulupa Avenue:geo:-122.6691319,38.4369602
END:VEVENT
BEGIN:VEVENT
DTSTART;TZID=America/Los_Angeles:20180731T090000
DTEND;TZID=America/Los_Angeles:20180731T230000
DTSTAMP:20260422T065533
CREATED:20180729T150655Z
LAST-MODIFIED:20180729T150655Z
UID:6065-1533027600-1533078000@lutherburbankartandgardencenter.com
SUMMARY:Reception
DESCRIPTION:
URL:http://lutherburbankartandgardencenter.com/event/reception-2/
LOCATION:Luther Burbank Art & Garden Center\, 2050 Yulupa Avenue\, Santa Rosa\, CA\, 95405
GEO:38.4369602;-122.6691319
X-APPLE-STRUCTURED-LOCATION;VALUE=URI;X-ADDRESS=Luther Burbank Art & Garden Center 2050 Yulupa Avenue Santa Rosa CA 95405;X-APPLE-RADIUS=500;X-TITLE=2050 Yulupa Avenue:geo:-122.6691319,38.4369602
END:VEVENT
BEGIN:VEVENT
DTSTART;TZID=America/Los_Angeles:20180728T090000
DTEND;TZID=America/Los_Angeles:20180728T230000
DTSTAMP:20260422T065533
CREATED:20180526T153352Z
LAST-MODIFIED:20180610T234711Z
UID:5809-1532768400-1532818800@lutherburbankartandgardencenter.com
SUMMARY:Graduation Party
DESCRIPTION:Luis & Lucia Avina – 707-527-7792 or 707-623-4338 \n2503 Kenton Ave.\, Santa Rosa\, CA  Unit D \n5/28/18 – Rec’d Ck 9733 (lbagc) – $1400.00 \nWill need 12 round tablecloths
URL:http://lutherburbankartandgardencenter.com/event/graduation-party-2/
LOCATION:Luther Burbank Art & Garden Center\, 2050 Yulupa Avenue\, Santa Rosa\, CA\, 95405
GEO:38.4369602;-122.6691319
X-APPLE-STRUCTURED-LOCATION;VALUE=URI;X-ADDRESS=Luther Burbank Art & Garden Center 2050 Yulupa Avenue Santa Rosa CA 95405;X-APPLE-RADIUS=500;X-TITLE=2050 Yulupa Avenue:geo:-122.6691319,38.4369602
END:VEVENT
BEGIN:VEVENT
DTSTART;TZID=America/Los_Angeles:20180727T080000
DTEND;TZID=America/Los_Angeles:20180727T160000
DTSTAMP:20260422T065533
CREATED:20180726T005325Z
LAST-MODIFIED:20180726T005325Z
UID:6058-1532678400-1532707200@lutherburbankartandgardencenter.com
SUMMARY:Quilt Guild
DESCRIPTION:
URL:http://lutherburbankartandgardencenter.com/event/quilt-guild-2/
LOCATION:Luther Burbank Art & Garden Center\, 2050 Yulupa Avenue\, Santa Rosa\, CA\, 95405
GEO:38.4369602;-122.6691319
X-APPLE-STRUCTURED-LOCATION;VALUE=URI;X-ADDRESS=Luther Burbank Art & Garden Center 2050 Yulupa Avenue Santa Rosa CA 95405;X-APPLE-RADIUS=500;X-TITLE=2050 Yulupa Avenue:geo:-122.6691319,38.4369602
END:VEVENT
BEGIN:VEVENT
DTSTART;TZID=America/Los_Angeles:20180726T080000
DTEND;TZID=America/Los_Angeles:20180726T160000
DTSTAMP:20260422T065533
CREATED:20171213T182329Z
LAST-MODIFIED:20171213T182329Z
UID:5378-1532592000-1532620800@lutherburbankartandgardencenter.com
SUMMARY:Santa Rosa Quilt Guild
DESCRIPTION:
URL:http://lutherburbankartandgardencenter.com/event/santa-rosa-quilt-guild/
LOCATION:Luther Burbank Art & Garden Center\, 2050 Yulupa Avenue\, Santa Rosa\, CA\, 95405
GEO:38.4369602;-122.6691319
X-APPLE-STRUCTURED-LOCATION;VALUE=URI;X-ADDRESS=Luther Burbank Art & Garden Center 2050 Yulupa Avenue Santa Rosa CA 95405;X-APPLE-RADIUS=500;X-TITLE=2050 Yulupa Avenue:geo:-122.6691319,38.4369602
END:VEVENT
BEGIN:VEVENT
DTSTART;TZID=America/Los_Angeles:20180723T133000
DTEND;TZID=America/Los_Angeles:20180723T150000
DTSTAMP:20260422T065533
CREATED:20180614T211033Z
LAST-MODIFIED:20180614T211033Z
UID:5904-1532352600-1532358000@lutherburbankartandgardencenter.com
SUMMARY:LBAGC Maintenance
DESCRIPTION:
URL:http://lutherburbankartandgardencenter.com/event/lbagc-maintenance/
LOCATION:Luther Burbank Art & Garden Center\, 2050 Yulupa Avenue\, Santa Rosa\, CA\, 95405
GEO:38.4369602;-122.6691319
X-APPLE-STRUCTURED-LOCATION;VALUE=URI;X-ADDRESS=Luther Burbank Art & Garden Center 2050 Yulupa Avenue Santa Rosa CA 95405;X-APPLE-RADIUS=500;X-TITLE=2050 Yulupa Avenue:geo:-122.6691319,38.4369602
END:VEVENT
BEGIN:VEVENT
DTSTART;TZID=America/Los_Angeles:20180721T090000
DTEND;TZID=America/Los_Angeles:20180721T230000
DTSTAMP:20260422T065533
CREATED:20180416T151723Z
LAST-MODIFIED:20180610T234058Z
UID:5711-1532163600-1532214000@lutherburbankartandgardencenter.com
SUMMARY:Birthday Party
DESCRIPTION:Gloria Dominguez – 707-540-4580 \n971 Aston Circle\, Santa Rosa. CA 95401 \nVeronicaDiaz01@gmail.com \n4/13/18 – Rec’d $600.00 Cash \n5/21/18 – Rec’d $600.00 Cash \n5/25/18 – Rec’d Ck#1667 for the amt. of $450.00 \n 
URL:http://lutherburbankartandgardencenter.com/event/birthday-party-3/
LOCATION:Luther Burbank Art & Garden Center\, 2050 Yulupa Avenue\, Santa Rosa\, CA\, 95405
GEO:38.4369602;-122.6691319
X-APPLE-STRUCTURED-LOCATION;VALUE=URI;X-ADDRESS=Luther Burbank Art & Garden Center 2050 Yulupa Avenue Santa Rosa CA 95405;X-APPLE-RADIUS=500;X-TITLE=2050 Yulupa Avenue:geo:-122.6691319,38.4369602
END:VEVENT
BEGIN:VEVENT
DTSTART;TZID=America/Los_Angeles:20180720T080000
DTEND;TZID=America/Los_Angeles:20180720T170000
DTSTAMP:20260422T065533
CREATED:20180108T165249Z
LAST-MODIFIED:20180622T163549Z
UID:5428-1532073600-1532106000@lutherburbankartandgardencenter.com
SUMMARY:Quilt Guild
DESCRIPTION:
URL:http://lutherburbankartandgardencenter.com/event/quilt-guild/
LOCATION:Luther Burbank Art & Garden Center\, 2050 Yulupa Avenue\, Santa Rosa\, CA\, 95405
GEO:38.4369602;-122.6691319
X-APPLE-STRUCTURED-LOCATION;VALUE=URI;X-ADDRESS=Luther Burbank Art & Garden Center 2050 Yulupa Avenue Santa Rosa CA 95405;X-APPLE-RADIUS=500;X-TITLE=2050 Yulupa Avenue:geo:-122.6691319,38.4369602
END:VEVENT
BEGIN:VEVENT
DTSTART;TZID=America/Los_Angeles:20180714T090000
DTEND;TZID=America/Los_Angeles:20180714T230000
DTSTAMP:20260422T065533
CREATED:20180416T152953Z
LAST-MODIFIED:20180610T233319Z
UID:5715-1531558800-1531609200@lutherburbankartandgardencenter.com
SUMMARY:Sweet 16 Party
DESCRIPTION:Araceli Juarez – 707-303-0043 \n2240 Saint Chapelle St.\, Santa Rosa\, CA 95403 \nAracelicJuarez@gmail.com \n3/30/18 – Rec’d Ck#231 for the amt. of $700.00 \nAmount due – $750.00
URL:http://lutherburbankartandgardencenter.com/event/sweet-16-party/
LOCATION:Luther Burbank Art & Garden Center\, 2050 Yulupa Avenue\, Santa Rosa\, CA\, 95405
GEO:38.4369602;-122.6691319
X-APPLE-STRUCTURED-LOCATION;VALUE=URI;X-ADDRESS=Luther Burbank Art & Garden Center 2050 Yulupa Avenue Santa Rosa CA 95405;X-APPLE-RADIUS=500;X-TITLE=2050 Yulupa Avenue:geo:-122.6691319,38.4369602
END:VEVENT
BEGIN:VEVENT
DTSTART;TZID=America/Los_Angeles:20180707T100000
DTEND;TZID=America/Los_Angeles:20180707T230000
DTSTAMP:20260422T065533
CREATED:20180111T164122Z
LAST-MODIFIED:20180610T232658Z
UID:5455-1530957600-1531004400@lutherburbankartandgardencenter.com
SUMMARY:Baptism
DESCRIPTION:Veronica Botello – 707-529-8133 \n1314 Poplar St.\, Santa Rosa\, CA 95407 \n1/10/18 – Rec’d Ck#2231 for the amt. of $600.00 \nAmount due – $1050.00
URL:http://lutherburbankartandgardencenter.com/event/baptism/
LOCATION:Luther Burbank Art & Garden Center\, 2050 Yulupa Avenue\, Santa Rosa\, CA\, 95405
GEO:38.4369602;-122.6691319
X-APPLE-STRUCTURED-LOCATION;VALUE=URI;X-ADDRESS=Luther Burbank Art & Garden Center 2050 Yulupa Avenue Santa Rosa CA 95405;X-APPLE-RADIUS=500;X-TITLE=2050 Yulupa Avenue:geo:-122.6691319,38.4369602
END:VEVENT
END:VCALENDAR