BEGIN:VCALENDAR
VERSION:2.0
PRODID:-//Luther Burbank Art and Garden Center - ECPv6.8.2.1//NONSGML v1.0//EN
CALSCALE:GREGORIAN
METHOD:PUBLISH
X-WR-CALNAME:Luther Burbank Art and Garden Center
X-ORIGINAL-URL:http://lutherburbankartandgardencenter.com
X-WR-CALDESC:Events for Luther Burbank Art and Garden Center
REFRESH-INTERVAL;VALUE=DURATION:PT1H
X-Robots-Tag:noindex
X-PUBLISHED-TTL:PT1H
BEGIN:VTIMEZONE
TZID:America/Los_Angeles
BEGIN:DAYLIGHT
TZOFFSETFROM:-0800
TZOFFSETTO:-0700
TZNAME:PDT
DTSTART:20180311T100000
END:DAYLIGHT
BEGIN:STANDARD
TZOFFSETFROM:-0700
TZOFFSETTO:-0800
TZNAME:PST
DTSTART:20181104T090000
END:STANDARD
TZID:America/Los_Angeles
BEGIN:DAYLIGHT
TZOFFSETFROM:-0800
TZOFFSETTO:-0700
TZNAME:PDT
DTSTART:20180311T100000
END:DAYLIGHT
BEGIN:STANDARD
TZOFFSETFROM:-0700
TZOFFSETTO:-0800
TZNAME:PST
DTSTART:20181104T090000
END:STANDARD
END:VTIMEZONE
BEGIN:VEVENT
DTSTART;TZID=America/Los_Angeles:20181021T080000
DTEND;TZID=America/Los_Angeles:20181021T170000
DTSTAMP:20260422T012318
CREATED:20180529T223309Z
LAST-MODIFIED:20180529T223310Z
UID:5822-1540108800-1540141200@lutherburbankartandgardencenter.com
SUMMARY:Redwood Stitchers
DESCRIPTION:
URL:http://lutherburbankartandgardencenter.com/event/redwood-stitchers-4/
LOCATION:Luther Burbank Art & Garden Center\, 2050 Yulupa Avenue\, Santa Rosa\, CA\, 95405
GEO:38.4369602;-122.6691319
X-APPLE-STRUCTURED-LOCATION;VALUE=URI;X-ADDRESS=Luther Burbank Art & Garden Center 2050 Yulupa Avenue Santa Rosa CA 95405;X-APPLE-RADIUS=500;X-TITLE=2050 Yulupa Avenue:geo:-122.6691319,38.4369602
END:VEVENT
BEGIN:VEVENT
DTSTART;TZID=America/Los_Angeles:20181020T080000
DTEND;TZID=America/Los_Angeles:20181020T170000
DTSTAMP:20260422T012318
CREATED:20180529T223208Z
LAST-MODIFIED:20180529T223208Z
UID:5820-1540022400-1540054800@lutherburbankartandgardencenter.com
SUMMARY:Redwood Stitchers
DESCRIPTION:
URL:http://lutherburbankartandgardencenter.com/event/redwood-stitchers-3/
LOCATION:Luther Burbank Art & Garden Center\, 2050 Yulupa Avenue\, Santa Rosa\, CA\, 95405
GEO:38.4369602;-122.6691319
X-APPLE-STRUCTURED-LOCATION;VALUE=URI;X-ADDRESS=Luther Burbank Art & Garden Center 2050 Yulupa Avenue Santa Rosa CA 95405;X-APPLE-RADIUS=500;X-TITLE=2050 Yulupa Avenue:geo:-122.6691319,38.4369602
END:VEVENT
BEGIN:VEVENT
DTSTART;TZID=America/Los_Angeles:20181019T080000
DTEND;TZID=America/Los_Angeles:20181019T170000
DTSTAMP:20260422T012318
CREATED:20180622T164918Z
LAST-MODIFIED:20180622T164918Z
UID:5930-1539936000-1539968400@lutherburbankartandgardencenter.com
SUMMARY:S R Quilt Guild
DESCRIPTION:
URL:http://lutherburbankartandgardencenter.com/event/s-r-quilt-guild/
LOCATION:Luther Burbank Art & Garden Center\, 2050 Yulupa Avenue\, Santa Rosa\, CA\, 95405
GEO:38.4369602;-122.6691319
X-APPLE-STRUCTURED-LOCATION;VALUE=URI;X-ADDRESS=Luther Burbank Art & Garden Center 2050 Yulupa Avenue Santa Rosa CA 95405;X-APPLE-RADIUS=500;X-TITLE=2050 Yulupa Avenue:geo:-122.6691319,38.4369602
END:VEVENT
BEGIN:VEVENT
DTSTART;TZID=America/Los_Angeles:20181016T130000
DTEND;TZID=America/Los_Angeles:20181016T150000
DTSTAMP:20260422T012318
CREATED:20180928T212345Z
LAST-MODIFIED:20180928T212345Z
UID:6201-1539694800-1539702000@lutherburbankartandgardencenter.com
SUMMARY:Maintenance Meeting
DESCRIPTION:
URL:http://lutherburbankartandgardencenter.com/event/maintenance-meeting/
LOCATION:Luther Burbank Art & Garden Center\, 2050 Yulupa Avenue\, Santa Rosa\, CA\, 95405
GEO:38.4369602;-122.6691319
X-APPLE-STRUCTURED-LOCATION;VALUE=URI;X-ADDRESS=Luther Burbank Art & Garden Center 2050 Yulupa Avenue Santa Rosa CA 95405;X-APPLE-RADIUS=500;X-TITLE=2050 Yulupa Avenue:geo:-122.6691319,38.4369602
END:VEVENT
BEGIN:VEVENT
DTSTART;TZID=America/Los_Angeles:20181015T163000
DTEND;TZID=America/Los_Angeles:20181015T170000
DTSTAMP:20260422T012318
CREATED:20181006T190726Z
LAST-MODIFIED:20181006T190726Z
UID:6225-1539621000-1539622800@lutherburbankartandgardencenter.com
SUMMARY:Meeting
DESCRIPTION:Meet potential renter for January 2019 event. 707-843-9931
URL:http://lutherburbankartandgardencenter.com/event/meeting-12/
LOCATION:Luther Burbank Art & Garden Center\, 2050 Yulupa Avenue\, Santa Rosa\, CA\, 95405
GEO:38.4369602;-122.6691319
X-APPLE-STRUCTURED-LOCATION;VALUE=URI;X-ADDRESS=Luther Burbank Art & Garden Center 2050 Yulupa Avenue Santa Rosa CA 95405;X-APPLE-RADIUS=500;X-TITLE=2050 Yulupa Avenue:geo:-122.6691319,38.4369602
END:VEVENT
BEGIN:VEVENT
DTSTART;TZID=America/Los_Angeles:20181014T100000
DTEND;TZID=America/Los_Angeles:20181014T160000
DTSTAMP:20260422T012318
CREATED:20180831T012029Z
LAST-MODIFIED:20180915T192055Z
UID:6115-1539511200-1539532800@lutherburbankartandgardencenter.com
SUMMARY:Memorial
DESCRIPTION:Margaret E. Anderson\, 5916 Chandler Court\, Santa Rosa\, CA 95409 \n8/30/2018 – Rec’d Ck #3726 – Amt. of $600.00 \n8/30/2018 – Rec’d Ck #3727 – Amt. of $450.00 \n707-696-8947 \n9/14/18 – Rec’d Ck #3734 – Amount of $100.00 for sound system for Linda Simonds memorial.
URL:http://lutherburbankartandgardencenter.com/event/memorial-8/
LOCATION:Luther Burbank Art & Garden Center\, 2050 Yulupa Avenue\, Santa Rosa\, CA\, 95405
GEO:38.4369602;-122.6691319
X-APPLE-STRUCTURED-LOCATION;VALUE=URI;X-ADDRESS=Luther Burbank Art & Garden Center 2050 Yulupa Avenue Santa Rosa CA 95405;X-APPLE-RADIUS=500;X-TITLE=2050 Yulupa Avenue:geo:-122.6691319,38.4369602
END:VEVENT
BEGIN:VEVENT
DTSTART;TZID=America/Los_Angeles:20181012T170000
DTEND;TZID=America/Los_Angeles:20181012T173000
DTSTAMP:20260422T012318
CREATED:20181009T211955Z
LAST-MODIFIED:20181009T211955Z
UID:6237-1539363600-1539365400@lutherburbankartandgardencenter.com
SUMMARY:Meeting
DESCRIPTION:
URL:http://lutherburbankartandgardencenter.com/event/meeting-13/
LOCATION:Luther Burbank Art & Garden Center\, 2050 Yulupa Avenue\, Santa Rosa\, CA\, 95405
GEO:38.4369602;-122.6691319
X-APPLE-STRUCTURED-LOCATION;VALUE=URI;X-ADDRESS=Luther Burbank Art & Garden Center 2050 Yulupa Avenue Santa Rosa CA 95405;X-APPLE-RADIUS=500;X-TITLE=2050 Yulupa Avenue:geo:-122.6691319,38.4369602
END:VEVENT
BEGIN:VEVENT
DTSTART;TZID=America/Los_Angeles:20181011T080000
DTEND;TZID=America/Los_Angeles:20181011T160000
DTSTAMP:20260422T012318
CREATED:20180322T021011Z
LAST-MODIFIED:20180322T021011Z
UID:5685-1539244800-1539273600@lutherburbankartandgardencenter.com
SUMMARY:WASCO
DESCRIPTION:
URL:http://lutherburbankartandgardencenter.com/event/wasco-9/
LOCATION:Luther Burbank Art & Garden Center\, 2050 Yulupa Avenue\, Santa Rosa\, CA\, 95405
GEO:38.4369602;-122.6691319
X-APPLE-STRUCTURED-LOCATION;VALUE=URI;X-ADDRESS=Luther Burbank Art & Garden Center 2050 Yulupa Avenue Santa Rosa CA 95405;X-APPLE-RADIUS=500;X-TITLE=2050 Yulupa Avenue:geo:-122.6691319,38.4369602
END:VEVENT
BEGIN:VEVENT
DTSTART;TZID=America/Los_Angeles:20181009T080000
DTEND;TZID=America/Los_Angeles:20181009T123000
DTSTAMP:20260422T012318
CREATED:20181008T195851Z
LAST-MODIFIED:20181008T195851Z
UID:6233-1539072000-1539088200@lutherburbankartandgardencenter.com
SUMMARY:Center -- Contractor
DESCRIPTION:
URL:http://lutherburbankartandgardencenter.com/event/center-contractor/
LOCATION:Luther Burbank Art & Garden Center\, 2050 Yulupa Avenue\, Santa Rosa\, CA\, 95405
CATEGORIES:appointment
GEO:38.4369602;-122.6691319
X-APPLE-STRUCTURED-LOCATION;VALUE=URI;X-ADDRESS=Luther Burbank Art & Garden Center 2050 Yulupa Avenue Santa Rosa CA 95405;X-APPLE-RADIUS=500;X-TITLE=2050 Yulupa Avenue:geo:-122.6691319,38.4369602
END:VEVENT
BEGIN:VEVENT
DTSTART;TZID=America/Los_Angeles:20181006T150000
DTEND;TZID=America/Los_Angeles:20181006T153000
DTSTAMP:20260422T012318
CREATED:20181004T233136Z
LAST-MODIFIED:20181004T233136Z
UID:6221-1538838000-1538839800@lutherburbankartandgardencenter.com
SUMMARY:Meeting
DESCRIPTION:Meet Robin for Nov. 10 Celebration of Life
URL:http://lutherburbankartandgardencenter.com/event/meeting-11/
LOCATION:Luther Burbank Art & Garden Center\, 2050 Yulupa Avenue\, Santa Rosa\, CA\, 95405
GEO:38.4369602;-122.6691319
X-APPLE-STRUCTURED-LOCATION;VALUE=URI;X-ADDRESS=Luther Burbank Art & Garden Center 2050 Yulupa Avenue Santa Rosa CA 95405;X-APPLE-RADIUS=500;X-TITLE=2050 Yulupa Avenue:geo:-122.6691319,38.4369602
END:VEVENT
BEGIN:VEVENT
DTSTART;TZID=America/Los_Angeles:20181005T130000
DTEND;TZID=America/Los_Angeles:20181005T133000
DTSTAMP:20260422T012318
CREATED:20181003T002251Z
LAST-MODIFIED:20181003T002251Z
UID:6215-1538744400-1538746200@lutherburbankartandgardencenter.com
SUMMARY:Meeting
DESCRIPTION:Meet Art for Nov. 4 Celebration of Life
URL:http://lutherburbankartandgardencenter.com/event/meeting-10/
LOCATION:Luther Burbank Art & Garden Center\, 2050 Yulupa Avenue\, Santa Rosa\, CA\, 95405
GEO:38.4369602;-122.6691319
X-APPLE-STRUCTURED-LOCATION;VALUE=URI;X-ADDRESS=Luther Burbank Art & Garden Center 2050 Yulupa Avenue Santa Rosa CA 95405;X-APPLE-RADIUS=500;X-TITLE=2050 Yulupa Avenue:geo:-122.6691319,38.4369602
END:VEVENT
BEGIN:VEVENT
DTSTART;TZID=America/Los_Angeles:20181005T123000
DTEND;TZID=America/Los_Angeles:20181005T130000
DTSTAMP:20260422T012318
CREATED:20181002T173255Z
LAST-MODIFIED:20181002T173255Z
UID:6210-1538742600-1538744400@lutherburbankartandgardencenter.com
SUMMARY:Meeting
DESCRIPTION:Meet Elizabeth for Dec. 1\, 2018 celebration of life
URL:http://lutherburbankartandgardencenter.com/event/meeting-9/
LOCATION:Luther Burbank Art & Garden Center\, 2050 Yulupa Avenue\, Santa Rosa\, CA\, 95405
GEO:38.4369602;-122.6691319
X-APPLE-STRUCTURED-LOCATION;VALUE=URI;X-ADDRESS=Luther Burbank Art & Garden Center 2050 Yulupa Avenue Santa Rosa CA 95405;X-APPLE-RADIUS=500;X-TITLE=2050 Yulupa Avenue:geo:-122.6691319,38.4369602
END:VEVENT
BEGIN:VEVENT
DTSTART;TZID=America/Los_Angeles:20181005T100000
DTEND;TZID=America/Los_Angeles:20181005T120000
DTSTAMP:20260422T012318
CREATED:20180109T211741Z
LAST-MODIFIED:20180109T211741Z
UID:5441-1538733600-1538740800@lutherburbankartandgardencenter.com
SUMMARY:Master Gardeners
DESCRIPTION:
URL:http://lutherburbankartandgardencenter.com/event/master-gardeners-6/
LOCATION:Luther Burbank Art & Garden Center\, 2050 Yulupa Avenue\, Santa Rosa\, CA\, 95405
GEO:38.4369602;-122.6691319
X-APPLE-STRUCTURED-LOCATION;VALUE=URI;X-ADDRESS=Luther Burbank Art & Garden Center 2050 Yulupa Avenue Santa Rosa CA 95405;X-APPLE-RADIUS=500;X-TITLE=2050 Yulupa Avenue:geo:-122.6691319,38.4369602
END:VEVENT
BEGIN:VEVENT
DTSTART;TZID=America/Los_Angeles:20181004T170000
DTEND;TZID=America/Los_Angeles:20181004T190000
DTSTAMP:20260422T012318
CREATED:20180109T211433Z
LAST-MODIFIED:20180109T211433Z
UID:5439-1538672400-1538679600@lutherburbankartandgardencenter.com
SUMMARY:Master Gardeners
DESCRIPTION:
URL:http://lutherburbankartandgardencenter.com/event/master-gardeners-5/
LOCATION:Luther Burbank Art & Garden Center\, 2050 Yulupa Avenue\, Santa Rosa\, CA\, 95405
GEO:38.4369602;-122.6691319
X-APPLE-STRUCTURED-LOCATION;VALUE=URI;X-ADDRESS=Luther Burbank Art & Garden Center 2050 Yulupa Avenue Santa Rosa CA 95405;X-APPLE-RADIUS=500;X-TITLE=2050 Yulupa Avenue:geo:-122.6691319,38.4369602
END:VEVENT
BEGIN:VEVENT
DTSTART;TZID=America/Los_Angeles:20181003T130000
DTEND;TZID=America/Los_Angeles:20181003T160000
DTSTAMP:20260422T012318
CREATED:20180921T225018Z
LAST-MODIFIED:20181001T043139Z
UID:6178-1538571600-1538582400@lutherburbankartandgardencenter.com
SUMMARY:Electrical work--Center project
DESCRIPTION:
URL:http://lutherburbankartandgardencenter.com/event/electrical-work/
LOCATION:Luther Burbank Art & Garden Center\, 2050 Yulupa Avenue\, Santa Rosa\, CA\, 95405
CATEGORIES:appointment
GEO:38.4369602;-122.6691319
X-APPLE-STRUCTURED-LOCATION;VALUE=URI;X-ADDRESS=Luther Burbank Art & Garden Center 2050 Yulupa Avenue Santa Rosa CA 95405;X-APPLE-RADIUS=500;X-TITLE=2050 Yulupa Avenue:geo:-122.6691319,38.4369602
END:VEVENT
BEGIN:VEVENT
DTSTART;TZID=America/Los_Angeles:20181001T080000
DTEND;TZID=America/Los_Angeles:20181001T120000
DTSTAMP:20260422T012318
CREATED:20180929T000438Z
LAST-MODIFIED:20181001T042650Z
UID:6203-1538380800-1538395200@lutherburbankartandgardencenter.com
SUMMARY:Electrical work-- Center project
DESCRIPTION:
URL:http://lutherburbankartandgardencenter.com/event/honey-bee-extraction-center-project/
LOCATION:Luther Burbank Art & Garden Center\, 2050 Yulupa Avenue\, Santa Rosa\, CA\, 95405
CATEGORIES:appointment
GEO:38.4369602;-122.6691319
X-APPLE-STRUCTURED-LOCATION;VALUE=URI;X-ADDRESS=Luther Burbank Art & Garden Center 2050 Yulupa Avenue Santa Rosa CA 95405;X-APPLE-RADIUS=500;X-TITLE=2050 Yulupa Avenue:geo:-122.6691319,38.4369602
END:VEVENT
BEGIN:VEVENT
DTSTART;TZID=America/Los_Angeles:20180930T100000
DTEND;TZID=America/Los_Angeles:20180930T210000
DTSTAMP:20260422T012318
CREATED:20180921T224224Z
LAST-MODIFIED:20181001T042759Z
UID:6166-1538301600-1538341200@lutherburbankartandgardencenter.com
SUMMARY:Honey Bee extraction project
DESCRIPTION:Clayton Cook and Patty Gundry
URL:http://lutherburbankartandgardencenter.com/event/honey-bee-extraction-project/
LOCATION:Luther Burbank Art & Garden Center\, 2050 Yulupa Avenue\, Santa Rosa\, CA\, 95405
CATEGORIES:appointment
GEO:38.4369602;-122.6691319
X-APPLE-STRUCTURED-LOCATION;VALUE=URI;X-ADDRESS=Luther Burbank Art & Garden Center 2050 Yulupa Avenue Santa Rosa CA 95405;X-APPLE-RADIUS=500;X-TITLE=2050 Yulupa Avenue:geo:-122.6691319,38.4369602
END:VEVENT
BEGIN:VEVENT
DTSTART;TZID=America/Los_Angeles:20180929T100000
DTEND;TZID=America/Los_Angeles:20180929T230000
DTSTAMP:20260422T012318
CREATED:20180115T024104Z
LAST-MODIFIED:20180611T003542Z
UID:5466-1538215200-1538262000@lutherburbankartandgardencenter.com
SUMMARY:Quinceranera
DESCRIPTION:Yolanda Cisneros – 707-230-8294 \n220 Theresa St.\, Santa Rosa\, CA 95407 \nyolibradleyre@gmail.com \n1/12/18 – Rec’d Ck#1348 for the amount of $500.00 \nBal Due – $950.00
URL:http://lutherburbankartandgardencenter.com/event/quinceranera/
LOCATION:Luther Burbank Art & Garden Center\, 2050 Yulupa Avenue\, Santa Rosa\, CA\, 95405
GEO:38.4369602;-122.6691319
X-APPLE-STRUCTURED-LOCATION;VALUE=URI;X-ADDRESS=Luther Burbank Art & Garden Center 2050 Yulupa Avenue Santa Rosa CA 95405;X-APPLE-RADIUS=500;X-TITLE=2050 Yulupa Avenue:geo:-122.6691319,38.4369602
END:VEVENT
BEGIN:VEVENT
DTSTART;TZID=America/Los_Angeles:20180928T163000
DTEND;TZID=America/Los_Angeles:20180928T170000
DTSTAMP:20260422T012318
CREATED:20180924T232344Z
LAST-MODIFIED:20180924T232344Z
UID:6193-1538152200-1538154000@lutherburbankartandgardencenter.com
SUMMARY:Meeting
DESCRIPTION:Meet Karina Morales for Dec. 15 event.
URL:http://lutherburbankartandgardencenter.com/event/meeting-8/
LOCATION:Luther Burbank Art & Garden Center\, 2050 Yulupa Avenue\, Santa Rosa\, CA\, 95405
GEO:38.4369602;-122.6691319
X-APPLE-STRUCTURED-LOCATION;VALUE=URI;X-ADDRESS=Luther Burbank Art & Garden Center 2050 Yulupa Avenue Santa Rosa CA 95405;X-APPLE-RADIUS=500;X-TITLE=2050 Yulupa Avenue:geo:-122.6691319,38.4369602
END:VEVENT
BEGIN:VEVENT
DTSTART;TZID=America/Los_Angeles:20180928T110000
DTEND;TZID=America/Los_Angeles:20180928T170000
DTSTAMP:20260422T012318
CREATED:20180907T155021Z
LAST-MODIFIED:20180907T155021Z
UID:6130-1538132400-1538154000@lutherburbankartandgardencenter.com
SUMMARY:Reception
DESCRIPTION:Margaret Alves\, 10 Acorn Circle\, Petaluma\, CA 94952 \n707-292-3456 \n9/5/2018 – Rec’d ck #841 – Amt. of $950.00\, from Annie L.Langston
URL:http://lutherburbankartandgardencenter.com/event/reception-4/
LOCATION:Luther Burbank Art & Garden Center\, 2050 Yulupa Avenue\, Santa Rosa\, CA\, 95405
GEO:38.4369602;-122.6691319
X-APPLE-STRUCTURED-LOCATION;VALUE=URI;X-ADDRESS=Luther Burbank Art & Garden Center 2050 Yulupa Avenue Santa Rosa CA 95405;X-APPLE-RADIUS=500;X-TITLE=2050 Yulupa Avenue:geo:-122.6691319,38.4369602
END:VEVENT
BEGIN:VEVENT
DTSTART;TZID=America/Los_Angeles:20180927T110000
DTEND;TZID=America/Los_Angeles:20180927T170000
DTSTAMP:20260422T012318
CREATED:20180921T224858Z
LAST-MODIFIED:20180921T224858Z
UID:6176-1538046000-1538067600@lutherburbankartandgardencenter.com
SUMMARY:Electrician work on kitchen
DESCRIPTION:
URL:http://lutherburbankartandgardencenter.com/event/electrician-work-on-kitchen/
LOCATION:Luther Burbank Art & Garden Center\, 2050 Yulupa Avenue\, Santa Rosa\, CA\, 95405
CATEGORIES:appointment
GEO:38.4369602;-122.6691319
X-APPLE-STRUCTURED-LOCATION;VALUE=URI;X-ADDRESS=Luther Burbank Art & Garden Center 2050 Yulupa Avenue Santa Rosa CA 95405;X-APPLE-RADIUS=500;X-TITLE=2050 Yulupa Avenue:geo:-122.6691319,38.4369602
END:VEVENT
BEGIN:VEVENT
DTSTART;TZID=America/Los_Angeles:20180927T083000
DTEND;TZID=America/Los_Angeles:20180927T103000
DTSTAMP:20260422T012318
CREATED:20180921T224520Z
LAST-MODIFIED:20180921T224520Z
UID:6169-1538037000-1538044200@lutherburbankartandgardencenter.com
SUMMARY:Delivery
DESCRIPTION:Tee Vax deliver stoves and refrigerators.
URL:http://lutherburbankartandgardencenter.com/event/delivery/
LOCATION:Luther Burbank Art & Garden Center\, 2050 Yulupa Avenue\, Santa Rosa\, CA\, 95405
GEO:38.4369602;-122.6691319
X-APPLE-STRUCTURED-LOCATION;VALUE=URI;X-ADDRESS=Luther Burbank Art & Garden Center 2050 Yulupa Avenue Santa Rosa CA 95405;X-APPLE-RADIUS=500;X-TITLE=2050 Yulupa Avenue:geo:-122.6691319,38.4369602
END:VEVENT
BEGIN:VEVENT
DTSTART;TZID=America/Los_Angeles:20180926T160000
DTEND;TZID=America/Los_Angeles:20180926T170000
DTSTAMP:20260422T012318
CREATED:20180920T172510Z
LAST-MODIFIED:20180920T172510Z
UID:6164-1537977600-1537981200@lutherburbankartandgardencenter.com
SUMMARY:Meeting
DESCRIPTION:Meet with Pat for tour re Linda Simonds mem on Oct 14
URL:http://lutherburbankartandgardencenter.com/event/meeting-7/
LOCATION:Luther Burbank Art & Garden Center\, 2050 Yulupa Avenue\, Santa Rosa\, CA\, 95405
GEO:38.4369602;-122.6691319
X-APPLE-STRUCTURED-LOCATION;VALUE=URI;X-ADDRESS=Luther Burbank Art & Garden Center 2050 Yulupa Avenue Santa Rosa CA 95405;X-APPLE-RADIUS=500;X-TITLE=2050 Yulupa Avenue:geo:-122.6691319,38.4369602
END:VEVENT
BEGIN:VEVENT
DTSTART;TZID=America/Los_Angeles:20180925T110000
DTEND;TZID=America/Los_Angeles:20180925T170000
DTSTAMP:20260422T012318
CREATED:20180921T224746Z
LAST-MODIFIED:20180921T224746Z
UID:6174-1537873200-1537894800@lutherburbankartandgardencenter.com
SUMMARY:Electrician work on Patio
DESCRIPTION:
URL:http://lutherburbankartandgardencenter.com/event/electrician-work-on-patio/
LOCATION:Luther Burbank Art & Garden Center\, 2050 Yulupa Avenue\, Santa Rosa\, CA\, 95405
CATEGORIES:appointment
GEO:38.4369602;-122.6691319
X-APPLE-STRUCTURED-LOCATION;VALUE=URI;X-ADDRESS=Luther Burbank Art & Garden Center 2050 Yulupa Avenue Santa Rosa CA 95405;X-APPLE-RADIUS=500;X-TITLE=2050 Yulupa Avenue:geo:-122.6691319,38.4369602
END:VEVENT
BEGIN:VEVENT
DTSTART;TZID=America/Los_Angeles:20180924T163000
DTEND;TZID=America/Los_Angeles:20180924T193000
DTSTAMP:20260422T012318
CREATED:20180903T225550Z
LAST-MODIFIED:20180903T225550Z
UID:6124-1537806600-1537817400@lutherburbankartandgardencenter.com
SUMMARY:Photographic Society meeting
DESCRIPTION:
URL:http://lutherburbankartandgardencenter.com/event/photographic-society-meeting/
LOCATION:Luther Burbank Art & Garden Center\, 2050 Yulupa Avenue\, Santa Rosa\, CA\, 95405
CATEGORIES:Member Club Event
GEO:38.4369602;-122.6691319
X-APPLE-STRUCTURED-LOCATION;VALUE=URI;X-ADDRESS=Luther Burbank Art & Garden Center 2050 Yulupa Avenue Santa Rosa CA 95405;X-APPLE-RADIUS=500;X-TITLE=2050 Yulupa Avenue:geo:-122.6691319,38.4369602
END:VEVENT
BEGIN:VEVENT
DTSTART;TZID=America/Los_Angeles:20180922T090000
DTEND;TZID=America/Los_Angeles:20180922T230000
DTSTAMP:20260422T012318
CREATED:20180722T012224Z
LAST-MODIFIED:20180829T214151Z
UID:6042-1537606800-1537657200@lutherburbankartandgardencenter.com
SUMMARY:Birthday Party
DESCRIPTION:Min Tang \n8541 Shadetree Dr.\, Windsor\, CA 95492 \n707-799-9313 \n7/10/18 – Rec’d Cash Deposit of $500.00 \nBal Due $950.00 \n8/4/18 – Rec’d ck from Omar Martinez in the amt. of $950.00 \n 
URL:http://lutherburbankartandgardencenter.com/event/birthday-party-8/
LOCATION:Luther Burbank Art & Garden Center\, 2050 Yulupa Avenue\, Santa Rosa\, CA\, 95405
GEO:38.4369602;-122.6691319
X-APPLE-STRUCTURED-LOCATION;VALUE=URI;X-ADDRESS=Luther Burbank Art & Garden Center 2050 Yulupa Avenue Santa Rosa CA 95405;X-APPLE-RADIUS=500;X-TITLE=2050 Yulupa Avenue:geo:-122.6691319,38.4369602
END:VEVENT
BEGIN:VEVENT
DTSTART;TZID=America/Los_Angeles:20180921T080000
DTEND;TZID=America/Los_Angeles:20180921T170000
DTSTAMP:20260422T012318
CREATED:20180622T164308Z
LAST-MODIFIED:20180622T164308Z
UID:5928-1537516800-1537549200@lutherburbankartandgardencenter.com
SUMMARY:S R Quilt Guild
DESCRIPTION:
URL:http://lutherburbankartandgardencenter.com/event/s-r-quilt-guild-3/
LOCATION:Luther Burbank Art & Garden Center\, 2050 Yulupa Avenue\, Santa Rosa\, CA\, 95405
GEO:38.4369602;-122.6691319
X-APPLE-STRUCTURED-LOCATION;VALUE=URI;X-ADDRESS=Luther Burbank Art & Garden Center 2050 Yulupa Avenue Santa Rosa CA 95405;X-APPLE-RADIUS=500;X-TITLE=2050 Yulupa Avenue:geo:-122.6691319,38.4369602
END:VEVENT
BEGIN:VEVENT
DTSTART;TZID=America/Los_Angeles:20180920T130000
DTEND;TZID=America/Los_Angeles:20180920T133000
DTSTAMP:20260422T012318
CREATED:20180919T231522Z
LAST-MODIFIED:20180919T231522Z
UID:6162-1537448400-1537450200@lutherburbankartandgardencenter.com
SUMMARY:Meeting
DESCRIPTION:meet Yolanda Cisneros for balance and insurance
URL:http://lutherburbankartandgardencenter.com/event/meeting-6/
LOCATION:Luther Burbank Art & Garden Center\, 2050 Yulupa Avenue\, Santa Rosa\, CA\, 95405
GEO:38.4369602;-122.6691319
X-APPLE-STRUCTURED-LOCATION;VALUE=URI;X-ADDRESS=Luther Burbank Art & Garden Center 2050 Yulupa Avenue Santa Rosa CA 95405;X-APPLE-RADIUS=500;X-TITLE=2050 Yulupa Avenue:geo:-122.6691319,38.4369602
END:VEVENT
BEGIN:VEVENT
DTSTART;TZID=America/Los_Angeles:20180917T130000
DTEND;TZID=America/Los_Angeles:20180917T150000
DTSTAMP:20260422T012318
CREATED:20180909T040110Z
LAST-MODIFIED:20180909T040110Z
UID:6133-1537189200-1537196400@lutherburbankartandgardencenter.com
SUMMARY:Maintenance Committee
DESCRIPTION:
URL:http://lutherburbankartandgardencenter.com/event/maintenance-committee/
LOCATION:Luther Burbank Art & Garden Center\, 2050 Yulupa Avenue\, Santa Rosa\, CA\, 95405
GEO:38.4369602;-122.6691319
X-APPLE-STRUCTURED-LOCATION;VALUE=URI;X-ADDRESS=Luther Burbank Art & Garden Center 2050 Yulupa Avenue Santa Rosa CA 95405;X-APPLE-RADIUS=500;X-TITLE=2050 Yulupa Avenue:geo:-122.6691319,38.4369602
END:VEVENT
BEGIN:VEVENT
DTSTART;TZID=America/Los_Angeles:20180916T100000
DTEND;TZID=America/Los_Angeles:20180916T160000
DTSTAMP:20260422T012318
CREATED:20180722T231541Z
LAST-MODIFIED:20180722T231541Z
UID:6053-1537092000-1537113600@lutherburbankartandgardencenter.com
SUMMARY:Memorial
DESCRIPTION:7/22/18 Received Ck #1800 in the amount of $1050.00 from: \nDaniel G. Holland \nP.O. Box 17\, Graton\, CA 95444 \n707-888-6661 \nwrdsvines@aol.com
URL:http://lutherburbankartandgardencenter.com/event/memorial-4/
LOCATION:Luther Burbank Art & Garden Center\, 2050 Yulupa Avenue\, Santa Rosa\, CA\, 95405
GEO:38.4369602;-122.6691319
X-APPLE-STRUCTURED-LOCATION;VALUE=URI;X-ADDRESS=Luther Burbank Art & Garden Center 2050 Yulupa Avenue Santa Rosa CA 95405;X-APPLE-RADIUS=500;X-TITLE=2050 Yulupa Avenue:geo:-122.6691319,38.4369602
END:VEVENT
END:VCALENDAR