BEGIN:VCALENDAR
VERSION:2.0
PRODID:-//Luther Burbank Art and Garden Center - ECPv6.8.2.1//NONSGML v1.0//EN
CALSCALE:GREGORIAN
METHOD:PUBLISH
X-WR-CALNAME:Luther Burbank Art and Garden Center
X-ORIGINAL-URL:http://lutherburbankartandgardencenter.com
X-WR-CALDESC:Events for Luther Burbank Art and Garden Center
REFRESH-INTERVAL;VALUE=DURATION:PT1H
X-Robots-Tag:noindex
X-PUBLISHED-TTL:PT1H
BEGIN:VTIMEZONE
TZID:America/Los_Angeles
BEGIN:DAYLIGHT
TZOFFSETFROM:-0800
TZOFFSETTO:-0700
TZNAME:PDT
DTSTART:20180311T100000
END:DAYLIGHT
BEGIN:STANDARD
TZOFFSETFROM:-0700
TZOFFSETTO:-0800
TZNAME:PST
DTSTART:20181104T090000
END:STANDARD
TZID:America/Los_Angeles
BEGIN:DAYLIGHT
TZOFFSETFROM:-0800
TZOFFSETTO:-0700
TZNAME:PDT
DTSTART:20180311T100000
END:DAYLIGHT
BEGIN:STANDARD
TZOFFSETFROM:-0700
TZOFFSETTO:-0800
TZNAME:PST
DTSTART:20181104T090000
END:STANDARD
TZID:UTC
BEGIN:STANDARD
TZOFFSETFROM:+0000
TZOFFSETTO:+0000
TZNAME:UTC
DTSTART:20180101T000000
END:STANDARD
END:VTIMEZONE
BEGIN:VEVENT
DTSTART;TZID=America/Los_Angeles:20181208T090000
DTEND;TZID=America/Los_Angeles:20181208T230000
DTSTAMP:20260421T194716
CREATED:20180927T201347Z
LAST-MODIFIED:20181202T224758Z
UID:6197-1544259600-1544310000@lutherburbankartandgardencenter.com
SUMMARY:Gender Reveal Party
DESCRIPTION:11/19/2018 Rec’d Cashiers check in the amount of $1450.00 from: Patricia Rebuelta\, 610 Humboldt St.\, Santa Rosa\, CA 95404 – 707-480-5109
URL:http://lutherburbankartandgardencenter.com/event/temp-hold-5/
LOCATION:Luther Burbank Art & Garden Center\, 2050 Yulupa Avenue\, Santa Rosa\, CA\, 95405
GEO:38.4369602;-122.6691319
X-APPLE-STRUCTURED-LOCATION;VALUE=URI;X-ADDRESS=Luther Burbank Art & Garden Center 2050 Yulupa Avenue Santa Rosa CA 95405;X-APPLE-RADIUS=500;X-TITLE=2050 Yulupa Avenue:geo:-122.6691319,38.4369602
END:VEVENT
BEGIN:VEVENT
DTSTART;TZID=America/Los_Angeles:20181207T170000
DTEND;TZID=America/Los_Angeles:20181207T170000
DTSTAMP:20260421T194716
CREATED:20181205T003328Z
LAST-MODIFIED:20181205T004923Z
UID:6504-1544202000-1544202000@lutherburbankartandgardencenter.com
SUMMARY:Meeting
DESCRIPTION:Meet group for Sat. set up at approx 5:10. Bring 8 round tablecloths.
URL:http://lutherburbankartandgardencenter.com/event/meeting-19/
LOCATION:Luther Burbank Art & Garden Center\, 2050 Yulupa Avenue\, Santa Rosa\, CA\, 95405
GEO:38.4369602;-122.6691319
X-APPLE-STRUCTURED-LOCATION;VALUE=URI;X-ADDRESS=Luther Burbank Art & Garden Center 2050 Yulupa Avenue Santa Rosa CA 95405;X-APPLE-RADIUS=500;X-TITLE=2050 Yulupa Avenue:geo:-122.6691319,38.4369602
END:VEVENT
BEGIN:VEVENT
DTSTART;TZID=America/Los_Angeles:20181207T163000
DTEND;TZID=America/Los_Angeles:20181207T170000
DTSTAMP:20260421T194716
CREATED:20181205T215616Z
LAST-MODIFIED:20181205T215616Z
UID:6507-1544200200-1544202000@lutherburbankartandgardencenter.com
SUMMARY:Meeting
DESCRIPTION:Meet Inga for tour with her sisters.
URL:http://lutherburbankartandgardencenter.com/event/meeting-20/
LOCATION:Luther Burbank Art & Garden Center\, 2050 Yulupa Avenue\, Santa Rosa\, CA\, 95405
GEO:38.4369602;-122.6691319
X-APPLE-STRUCTURED-LOCATION;VALUE=URI;X-ADDRESS=Luther Burbank Art & Garden Center 2050 Yulupa Avenue Santa Rosa CA 95405;X-APPLE-RADIUS=500;X-TITLE=2050 Yulupa Avenue:geo:-122.6691319,38.4369602
END:VEVENT
BEGIN:VEVENT
DTSTART;TZID=America/Los_Angeles:20181207T080000
DTEND;TZID=America/Los_Angeles:20181207T120000
DTSTAMP:20260421T194716
CREATED:20181206T223529Z
LAST-MODIFIED:20181206T223529Z
UID:6511-1544169600-1544184000@lutherburbankartandgardencenter.com
SUMMARY:Center: Plumber fix sink
DESCRIPTION:
URL:http://lutherburbankartandgardencenter.com/event/center-plumber-fix-sink/
LOCATION:Luther Burbank Art & Garden Center\, 2050 Yulupa Avenue\, Santa Rosa\, CA\, 95405
CATEGORIES:LBA&GC
GEO:38.4369602;-122.6691319
X-APPLE-STRUCTURED-LOCATION;VALUE=URI;X-ADDRESS=Luther Burbank Art & Garden Center 2050 Yulupa Avenue Santa Rosa CA 95405;X-APPLE-RADIUS=500;X-TITLE=2050 Yulupa Avenue:geo:-122.6691319,38.4369602
END:VEVENT
BEGIN:VEVENT
DTSTART;TZID=America/Los_Angeles:20181204T093000
DTEND;TZID=America/Los_Angeles:20181204T100000
DTSTAMP:20260421T194716
CREATED:20181204T003538Z
LAST-MODIFIED:20181204T003538Z
UID:6497-1543915800-1543917600@lutherburbankartandgardencenter.com
SUMMARY:Meeting
DESCRIPTION:Meet Renters for Dec. 16 Memorial Service 707-322-4718
URL:http://lutherburbankartandgardencenter.com/event/meeting-18/
LOCATION:Luther Burbank Art & Garden Center\, 2050 Yulupa Avenue\, Santa Rosa\, CA\, 95405
GEO:38.4369602;-122.6691319
X-APPLE-STRUCTURED-LOCATION;VALUE=URI;X-ADDRESS=Luther Burbank Art & Garden Center 2050 Yulupa Avenue Santa Rosa CA 95405;X-APPLE-RADIUS=500;X-TITLE=2050 Yulupa Avenue:geo:-122.6691319,38.4369602
END:VEVENT
BEGIN:VEVENT
DTSTART;TZID=America/Los_Angeles:20181203T120000
DTEND;TZID=America/Los_Angeles:20181203T130000
DTSTAMP:20260421T194716
CREATED:20181202T230453Z
LAST-MODIFIED:20181202T230541Z
UID:6493-1543838400-1543842000@lutherburbankartandgardencenter.com
SUMMARY:Meeting
DESCRIPTION:Meet Renter for Dec. 29\, 2018 at 12:20 707-835-4870
URL:http://lutherburbankartandgardencenter.com/event/meeting-17/
LOCATION:Luther Burbank Art & Garden Center\, 2050 Yulupa Avenue\, Santa Rosa\, CA\, 95405
GEO:38.4369602;-122.6691319
X-APPLE-STRUCTURED-LOCATION;VALUE=URI;X-ADDRESS=Luther Burbank Art & Garden Center 2050 Yulupa Avenue Santa Rosa CA 95405;X-APPLE-RADIUS=500;X-TITLE=2050 Yulupa Avenue:geo:-122.6691319,38.4369602
END:VEVENT
BEGIN:VEVENT
DTSTART;TZID=America/Los_Angeles:20181201T090000
DTEND;TZID=America/Los_Angeles:20181201T230000
DTSTAMP:20260421T194716
CREATED:20181006T213343Z
LAST-MODIFIED:20181027T175945Z
UID:6229-1543654800-1543705200@lutherburbankartandgardencenter.com
SUMMARY:Memorial
DESCRIPTION:10/5/18 – Rec’d Ck #4260 – Amt of $500.00 \nElizabeth Hendrickson\, 4353 Princeton Way\, Santa Rosa\, CA 95405 \n707-799-9053
URL:http://lutherburbankartandgardencenter.com/event/memorial-9/
LOCATION:Luther Burbank Art & Garden Center\, 2050 Yulupa Avenue\, Santa Rosa\, CA\, 95405
GEO:38.4369602;-122.6691319
X-APPLE-STRUCTURED-LOCATION;VALUE=URI;X-ADDRESS=Luther Burbank Art & Garden Center 2050 Yulupa Avenue Santa Rosa CA 95405;X-APPLE-RADIUS=500;X-TITLE=2050 Yulupa Avenue:geo:-122.6691319,38.4369602
END:VEVENT
BEGIN:VEVENT
DTSTART;TZID=America/Los_Angeles:20181129T170000
DTEND;TZID=America/Los_Angeles:20181129T210000
DTSTAMP:20260421T194716
CREATED:20181113T000007Z
LAST-MODIFIED:20181113T000007Z
UID:6382-1543510800-1543525200@lutherburbankartandgardencenter.com
SUMMARY:Bridal Info
DESCRIPTION:Morgan and group from Keller Williams
URL:http://lutherburbankartandgardencenter.com/event/bridal-info/
LOCATION:Luther Burbank Art & Garden Center\, 2050 Yulupa Avenue\, Santa Rosa\, CA\, 95405
GEO:38.4369602;-122.6691319
X-APPLE-STRUCTURED-LOCATION;VALUE=URI;X-ADDRESS=Luther Burbank Art & Garden Center 2050 Yulupa Avenue Santa Rosa CA 95405;X-APPLE-RADIUS=500;X-TITLE=2050 Yulupa Avenue:geo:-122.6691319,38.4369602
END:VEVENT
BEGIN:VEVENT
DTSTART;TZID=America/Los_Angeles:20181128T100000
DTEND;TZID=America/Los_Angeles:20181128T150000
DTSTAMP:20260421T194716
CREATED:20181111T194321Z
LAST-MODIFIED:20181111T194321Z
UID:6373-1543399200-1543417200@lutherburbankartandgardencenter.com
SUMMARY:Redwood Stitchers
DESCRIPTION:
URL:http://lutherburbankartandgardencenter.com/event/redwood-stitchers-25/
LOCATION:Luther Burbank Art & Garden Center\, 2050 Yulupa Avenue\, Santa Rosa\, CA\, 95405
GEO:38.4369602;-122.6691319
X-APPLE-STRUCTURED-LOCATION;VALUE=URI;X-ADDRESS=Luther Burbank Art & Garden Center 2050 Yulupa Avenue Santa Rosa CA 95405;X-APPLE-RADIUS=500;X-TITLE=2050 Yulupa Avenue:geo:-122.6691319,38.4369602
END:VEVENT
BEGIN:VEVENT
DTSTART;TZID=America/Los_Angeles:20181123T153000
DTEND;TZID=America/Los_Angeles:20181123T160000
DTSTAMP:20260421T194716
CREATED:20181115T194402Z
LAST-MODIFIED:20181115T194402Z
UID:6391-1542987000-1542988800@lutherburbankartandgardencenter.com
SUMMARY:Meeting
DESCRIPTION:Meeting to sign r/a and collect deposit for Feb. 9 or 10 707-569-6253
URL:http://lutherburbankartandgardencenter.com/event/meeting-16/
LOCATION:Luther Burbank Art & Garden Center\, 2050 Yulupa Avenue\, Santa Rosa\, CA\, 95405
GEO:38.4369602;-122.6691319
X-APPLE-STRUCTURED-LOCATION;VALUE=URI;X-ADDRESS=Luther Burbank Art & Garden Center 2050 Yulupa Avenue Santa Rosa CA 95405;X-APPLE-RADIUS=500;X-TITLE=2050 Yulupa Avenue:geo:-122.6691319,38.4369602
END:VEVENT
BEGIN:VEVENT
DTSTART;TZID=America/Los_Angeles:20181123T090000
DTEND;TZID=America/Los_Angeles:20181123T150000
DTSTAMP:20260421T194716
CREATED:20181019T221545Z
LAST-MODIFIED:20181019T221545Z
UID:6256-1542963600-1542985200@lutherburbankartandgardencenter.com
SUMMARY:Memorial
DESCRIPTION:10/17/18 – Rec’d Cash deposit of $950.00 and r/a from: Ty Borchardt\, 2406 Zurlo Ct.\, Santa Rosa\, CA 95403 – 707-542-3890
URL:http://lutherburbankartandgardencenter.com/event/memorial-10/
LOCATION:Luther Burbank Art & Garden Center\, 2050 Yulupa Avenue\, Santa Rosa\, CA\, 95405
GEO:38.4369602;-122.6691319
X-APPLE-STRUCTURED-LOCATION;VALUE=URI;X-ADDRESS=Luther Burbank Art & Garden Center 2050 Yulupa Avenue Santa Rosa CA 95405;X-APPLE-RADIUS=500;X-TITLE=2050 Yulupa Avenue:geo:-122.6691319,38.4369602
END:VEVENT
BEGIN:VEVENT
DTSTART;TZID=America/Los_Angeles:20181119T130000
DTEND;TZID=America/Los_Angeles:20181119T133000
DTSTAMP:20260421T194716
CREATED:20181114T003432Z
LAST-MODIFIED:20181114T003432Z
UID:6386-1542632400-1542634200@lutherburbankartandgardencenter.com
SUMMARY:Meeting
DESCRIPTION:Meet for r/a and funds for Dec. 8\, 2018 707-480-5109 \n 
URL:http://lutherburbankartandgardencenter.com/event/meeting-15/
LOCATION:Luther Burbank Art & Garden Center\, 2050 Yulupa Avenue\, Santa Rosa\, CA\, 95405
GEO:38.4369602;-122.6691319
X-APPLE-STRUCTURED-LOCATION;VALUE=URI;X-ADDRESS=Luther Burbank Art & Garden Center 2050 Yulupa Avenue Santa Rosa CA 95405;X-APPLE-RADIUS=500;X-TITLE=2050 Yulupa Avenue:geo:-122.6691319,38.4369602
END:VEVENT
BEGIN:VEVENT
DTSTART;TZID=America/Los_Angeles:20181116T080000
DTEND;TZID=America/Los_Angeles:20181116T170000
DTSTAMP:20260421T194716
CREATED:20180622T165025Z
LAST-MODIFIED:20180622T165025Z
UID:5932-1542355200-1542387600@lutherburbankartandgardencenter.com
SUMMARY:S R Quilt Guild
DESCRIPTION:
URL:http://lutherburbankartandgardencenter.com/event/s-r-quilt-guild-4/
LOCATION:Luther Burbank Art & Garden Center\, 2050 Yulupa Avenue\, Santa Rosa\, CA\, 95405
GEO:38.4369602;-122.6691319
X-APPLE-STRUCTURED-LOCATION;VALUE=URI;X-ADDRESS=Luther Burbank Art & Garden Center 2050 Yulupa Avenue Santa Rosa CA 95405;X-APPLE-RADIUS=500;X-TITLE=2050 Yulupa Avenue:geo:-122.6691319,38.4369602
END:VEVENT
BEGIN:VEVENT
DTSTART;TZID=UTC:20181115T120000
DTEND;TZID=UTC:20181115T150000
DTSTAMP:20260421T194716
CREATED:20171031T060444Z
LAST-MODIFIED:20180101T054248Z
UID:4913-1542283200-1542294000@lutherburbankartandgardencenter.com
SUMMARY:Master Gardeners
DESCRIPTION:
URL:http://lutherburbankartandgardencenter.com/event/master-gardeners-11/
LOCATION:Luther Burbank Art & Garden Center\, 2050 Yulupa Avenue\, Santa Rosa\, CA\, 95405
CATEGORIES:Member Club Event
GEO:38.4369602;-122.6691319
X-APPLE-STRUCTURED-LOCATION;VALUE=URI;X-ADDRESS=Luther Burbank Art & Garden Center 2050 Yulupa Avenue Santa Rosa CA 95405;X-APPLE-RADIUS=500;X-TITLE=2050 Yulupa Avenue:geo:-122.6691319,38.4369602
END:VEVENT
BEGIN:VEVENT
DTSTART;TZID=America/Los_Angeles:20181114T100000
DTEND;TZID=America/Los_Angeles:20181114T150000
DTSTAMP:20260421T194716
CREATED:20181111T194221Z
LAST-MODIFIED:20181111T194221Z
UID:6371-1542189600-1542207600@lutherburbankartandgardencenter.com
SUMMARY:Redwood Stitchers
DESCRIPTION:
URL:http://lutherburbankartandgardencenter.com/event/redwood-stitchers-24/
LOCATION:Luther Burbank Art & Garden Center\, 2050 Yulupa Avenue\, Santa Rosa\, CA\, 95405
GEO:38.4369602;-122.6691319
X-APPLE-STRUCTURED-LOCATION;VALUE=URI;X-ADDRESS=Luther Burbank Art & Garden Center 2050 Yulupa Avenue Santa Rosa CA 95405;X-APPLE-RADIUS=500;X-TITLE=2050 Yulupa Avenue:geo:-122.6691319,38.4369602
END:VEVENT
BEGIN:VEVENT
DTSTART;TZID=America/Los_Angeles:20181113T130000
DTEND;TZID=America/Los_Angeles:20181113T150000
DTSTAMP:20260421T194716
CREATED:20181019T224809Z
LAST-MODIFIED:20181019T224809Z
UID:6259-1542114000-1542121200@lutherburbankartandgardencenter.com
SUMMARY:Center Maintenance Committee meeting
DESCRIPTION:
URL:http://lutherburbankartandgardencenter.com/event/center-maintenance-committee-meeting/
LOCATION:Luther Burbank Art & Garden Center\, 2050 Yulupa Avenue\, Santa Rosa\, CA\, 95405
CATEGORIES:LBA&GC
GEO:38.4369602;-122.6691319
X-APPLE-STRUCTURED-LOCATION;VALUE=URI;X-ADDRESS=Luther Burbank Art & Garden Center 2050 Yulupa Avenue Santa Rosa CA 95405;X-APPLE-RADIUS=500;X-TITLE=2050 Yulupa Avenue:geo:-122.6691319,38.4369602
END:VEVENT
BEGIN:VEVENT
DTSTART;TZID=America/Los_Angeles:20181111T090000
DTEND;TZID=America/Los_Angeles:20181111T230000
DTSTAMP:20260421T194716
CREATED:20180915T154425Z
LAST-MODIFIED:20180915T154425Z
UID:6149-1541926800-1541977200@lutherburbankartandgardencenter.com
SUMMARY:Wedding Reception
DESCRIPTION:9/13/2018 – Rec’d cash deposit in the amount or $450.00 \nLaDonna Klein\, 955 Kingwood St.\, Santa Rosa\, CA 95401 \n707-569-4709
URL:http://lutherburbankartandgardencenter.com/event/wedding-reception-4/
LOCATION:Luther Burbank Art & Garden Center\, 2050 Yulupa Avenue\, Santa Rosa\, CA\, 95405
GEO:38.4369602;-122.6691319
X-APPLE-STRUCTURED-LOCATION;VALUE=URI;X-ADDRESS=Luther Burbank Art & Garden Center 2050 Yulupa Avenue Santa Rosa CA 95405;X-APPLE-RADIUS=500;X-TITLE=2050 Yulupa Avenue:geo:-122.6691319,38.4369602
END:VEVENT
BEGIN:VEVENT
DTSTART;TZID=America/Los_Angeles:20181110T080000
DTEND;TZID=America/Los_Angeles:20181110T170000
DTSTAMP:20260421T194716
CREATED:20181106T222057Z
LAST-MODIFIED:20181106T222212Z
UID:6301-1541836800-1541869200@lutherburbankartandgardencenter.com
SUMMARY:Carpet Cleaning
DESCRIPTION:
URL:http://lutherburbankartandgardencenter.com/event/carpet-cleaning/
LOCATION:Luther Burbank Art & Garden Center\, 2050 Yulupa Avenue\, Santa Rosa\, CA\, 95405
GEO:38.4369602;-122.6691319
X-APPLE-STRUCTURED-LOCATION;VALUE=URI;X-ADDRESS=Luther Burbank Art & Garden Center 2050 Yulupa Avenue Santa Rosa CA 95405;X-APPLE-RADIUS=500;X-TITLE=2050 Yulupa Avenue:geo:-122.6691319,38.4369602
END:VEVENT
BEGIN:VEVENT
DTSTART;TZID=America/Los_Angeles:20181109T170000
DTEND;TZID=America/Los_Angeles:20181109T173000
DTSTAMP:20260421T194716
CREATED:20181104T011701Z
LAST-MODIFIED:20181104T011701Z
UID:6296-1541782800-1541784600@lutherburbankartandgardencenter.com
SUMMARY:Meeting
DESCRIPTION:Meet with Jenifer at 5:00 PM for Sat.\, Feb. 29\, 2020 birthday party . – 478-7485
URL:http://lutherburbankartandgardencenter.com/event/meeting-14/
LOCATION:Luther Burbank Art & Garden Center\, 2050 Yulupa Avenue\, Santa Rosa\, CA\, 95405
GEO:38.4369602;-122.6691319
X-APPLE-STRUCTURED-LOCATION;VALUE=URI;X-ADDRESS=Luther Burbank Art & Garden Center 2050 Yulupa Avenue Santa Rosa CA 95405;X-APPLE-RADIUS=500;X-TITLE=2050 Yulupa Avenue:geo:-122.6691319,38.4369602
END:VEVENT
BEGIN:VEVENT
DTSTART;TZID=America/Los_Angeles:20181104T103000
DTEND;TZID=America/Los_Angeles:20181104T163000
DTSTAMP:20260421T194716
CREATED:20181006T212859Z
LAST-MODIFIED:20181006T212859Z
UID:6227-1541327400-1541349000@lutherburbankartandgardencenter.com
SUMMARY:Memorial
DESCRIPTION:10/5/18 – Rec’d Ck #118 for the amt. of $950.00 \nArthur Cardoza\, P.O. Box 2702\, Santa Rosa\, CA 95405 \n707-845-6868
URL:http://lutherburbankartandgardencenter.com/event/memorial-7/
LOCATION:Luther Burbank Art & Garden Center\, 2050 Yulupa Avenue\, Santa Rosa\, CA\, 95405
GEO:38.4369602;-122.6691319
X-APPLE-STRUCTURED-LOCATION;VALUE=URI;X-ADDRESS=Luther Burbank Art & Garden Center 2050 Yulupa Avenue Santa Rosa CA 95405;X-APPLE-RADIUS=500;X-TITLE=2050 Yulupa Avenue:geo:-122.6691319,38.4369602
END:VEVENT
BEGIN:VEVENT
DTSTART;TZID=America/Los_Angeles:20181103T080000
DTEND;TZID=America/Los_Angeles:20181103T170000
DTSTAMP:20260421T194716
CREATED:20180410T184800Z
LAST-MODIFIED:20180410T184800Z
UID:5705-1541232000-1541264400@lutherburbankartandgardencenter.com
SUMMARY:Iris Society
DESCRIPTION:
URL:http://lutherburbankartandgardencenter.com/event/iris-society-4/
LOCATION:Luther Burbank Art & Garden Center\, 2050 Yulupa Avenue\, Santa Rosa\, CA\, 95405
GEO:38.4369602;-122.6691319
X-APPLE-STRUCTURED-LOCATION;VALUE=URI;X-ADDRESS=Luther Burbank Art & Garden Center 2050 Yulupa Avenue Santa Rosa CA 95405;X-APPLE-RADIUS=500;X-TITLE=2050 Yulupa Avenue:geo:-122.6691319,38.4369602
END:VEVENT
BEGIN:VEVENT
DTSTART;TZID=America/Los_Angeles:20181102T080000
DTEND;TZID=America/Los_Angeles:20181102T170000
DTSTAMP:20260421T194716
CREATED:20181027T212334Z
LAST-MODIFIED:20181027T212334Z
UID:6271-1541145600-1541178000@lutherburbankartandgardencenter.com
SUMMARY:SRGC: Cement walkway pour
DESCRIPTION:
URL:http://lutherburbankartandgardencenter.com/event/srgc-cement-walkway-pour/
LOCATION:Luther Burbank Art & Garden Center\, 2050 Yulupa Avenue\, Santa Rosa\, CA\, 95405
CATEGORIES:appointment
GEO:38.4369602;-122.6691319
X-APPLE-STRUCTURED-LOCATION;VALUE=URI;X-ADDRESS=Luther Burbank Art & Garden Center 2050 Yulupa Avenue Santa Rosa CA 95405;X-APPLE-RADIUS=500;X-TITLE=2050 Yulupa Avenue:geo:-122.6691319,38.4369602
END:VEVENT
BEGIN:VEVENT
DTSTART;TZID=America/Los_Angeles:20181031T080000
DTEND;TZID=America/Los_Angeles:20181031T110000
DTSTAMP:20260421T194716
CREATED:20181024T190605Z
LAST-MODIFIED:20181026T155754Z
UID:6264-1540972800-1540983600@lutherburbankartandgardencenter.com
SUMMARY:Center: Plumber
DESCRIPTION:
URL:http://lutherburbankartandgardencenter.com/event/center-plumber/
LOCATION:Luther Burbank Art & Garden Center\, 2050 Yulupa Avenue\, Santa Rosa\, CA\, 95405
CATEGORIES:appointment
GEO:38.4369602;-122.6691319
X-APPLE-STRUCTURED-LOCATION;VALUE=URI;X-ADDRESS=Luther Burbank Art & Garden Center 2050 Yulupa Avenue Santa Rosa CA 95405;X-APPLE-RADIUS=500;X-TITLE=2050 Yulupa Avenue:geo:-122.6691319,38.4369602
END:VEVENT
BEGIN:VEVENT
DTSTART;TZID=America/Los_Angeles:20181031T080000
DTEND;TZID=America/Los_Angeles:20181031T103000
DTSTAMP:20260421T194716
CREATED:20181024T190706Z
LAST-MODIFIED:20181024T190706Z
UID:6266-1540972800-1540981800@lutherburbankartandgardencenter.com
SUMMARY:Center: Electrician
DESCRIPTION:
URL:http://lutherburbankartandgardencenter.com/event/center-electrician/
LOCATION:Luther Burbank Art & Garden Center\, 2050 Yulupa Avenue\, Santa Rosa\, CA\, 95405
CATEGORIES:appointment
GEO:38.4369602;-122.6691319
X-APPLE-STRUCTURED-LOCATION;VALUE=URI;X-ADDRESS=Luther Burbank Art & Garden Center 2050 Yulupa Avenue Santa Rosa CA 95405;X-APPLE-RADIUS=500;X-TITLE=2050 Yulupa Avenue:geo:-122.6691319,38.4369602
END:VEVENT
BEGIN:VEVENT
DTSTART;TZID=America/Los_Angeles:20181026T173000
DTEND;TZID=America/Los_Angeles:20181026T230000
DTSTAMP:20260421T194716
CREATED:20180723T231900Z
LAST-MODIFIED:20180723T231900Z
UID:6055-1540575000-1540594800@lutherburbankartandgardencenter.com
SUMMARY:Pagan Network
DESCRIPTION:
URL:http://lutherburbankartandgardencenter.com/event/pagan-network/
LOCATION:Luther Burbank Art & Garden Center\, 2050 Yulupa Avenue\, Santa Rosa\, CA\, 95405
GEO:38.4369602;-122.6691319
X-APPLE-STRUCTURED-LOCATION;VALUE=URI;X-ADDRESS=Luther Burbank Art & Garden Center 2050 Yulupa Avenue Santa Rosa CA 95405;X-APPLE-RADIUS=500;X-TITLE=2050 Yulupa Avenue:geo:-122.6691319,38.4369602
END:VEVENT
BEGIN:VEVENT
DTSTART;TZID=America/Los_Angeles:20181026T150000
DTEND;TZID=America/Los_Angeles:20181026T170000
DTSTAMP:20260421T194716
CREATED:20181018T162617Z
LAST-MODIFIED:20181018T162617Z
UID:6253-1540566000-1540573200@lutherburbankartandgardencenter.com
SUMMARY:Photographic Society Board Meeting
DESCRIPTION:
URL:http://lutherburbankartandgardencenter.com/event/photographic-society-board-meeting/
LOCATION:Luther Burbank Art & Garden Center\, 2050 Yulupa Avenue\, Santa Rosa\, CA\, 95405
CATEGORIES:Member Club Event
GEO:38.4369602;-122.6691319
X-APPLE-STRUCTURED-LOCATION;VALUE=URI;X-ADDRESS=Luther Burbank Art & Garden Center 2050 Yulupa Avenue Santa Rosa CA 95405;X-APPLE-RADIUS=500;X-TITLE=2050 Yulupa Avenue:geo:-122.6691319,38.4369602
END:VEVENT
BEGIN:VEVENT
DTSTART;TZID=America/Los_Angeles:20181026T140000
DTEND;TZID=America/Los_Angeles:20181026T150000
DTSTAMP:20260421T194716
CREATED:20181018T162049Z
LAST-MODIFIED:20181018T162049Z
UID:6251-1540562400-1540566000@lutherburbankartandgardencenter.com
SUMMARY:Landscape committee meeting
DESCRIPTION:Karen Ernsberger\, Cindy Moore and Patty Gundry
URL:http://lutherburbankartandgardencenter.com/event/landscape-committee-meeting/
LOCATION:Luther Burbank Art & Garden Center\, 2050 Yulupa Avenue\, Santa Rosa\, CA\, 95405
CATEGORIES:LBA&GC
GEO:38.4369602;-122.6691319
X-APPLE-STRUCTURED-LOCATION;VALUE=URI;X-ADDRESS=Luther Burbank Art & Garden Center 2050 Yulupa Avenue Santa Rosa CA 95405;X-APPLE-RADIUS=500;X-TITLE=2050 Yulupa Avenue:geo:-122.6691319,38.4369602
END:VEVENT
BEGIN:VEVENT
DTSTART;TZID=America/Los_Angeles:20181021T080000
DTEND;TZID=America/Los_Angeles:20181021T170000
DTSTAMP:20260421T194716
CREATED:20180529T223309Z
LAST-MODIFIED:20180529T223310Z
UID:5822-1540108800-1540141200@lutherburbankartandgardencenter.com
SUMMARY:Redwood Stitchers
DESCRIPTION:
URL:http://lutherburbankartandgardencenter.com/event/redwood-stitchers-4/
LOCATION:Luther Burbank Art & Garden Center\, 2050 Yulupa Avenue\, Santa Rosa\, CA\, 95405
GEO:38.4369602;-122.6691319
X-APPLE-STRUCTURED-LOCATION;VALUE=URI;X-ADDRESS=Luther Burbank Art & Garden Center 2050 Yulupa Avenue Santa Rosa CA 95405;X-APPLE-RADIUS=500;X-TITLE=2050 Yulupa Avenue:geo:-122.6691319,38.4369602
END:VEVENT
BEGIN:VEVENT
DTSTART;TZID=America/Los_Angeles:20181020T080000
DTEND;TZID=America/Los_Angeles:20181020T170000
DTSTAMP:20260421T194716
CREATED:20180529T223208Z
LAST-MODIFIED:20180529T223208Z
UID:5820-1540022400-1540054800@lutherburbankartandgardencenter.com
SUMMARY:Redwood Stitchers
DESCRIPTION:
URL:http://lutherburbankartandgardencenter.com/event/redwood-stitchers-3/
LOCATION:Luther Burbank Art & Garden Center\, 2050 Yulupa Avenue\, Santa Rosa\, CA\, 95405
GEO:38.4369602;-122.6691319
X-APPLE-STRUCTURED-LOCATION;VALUE=URI;X-ADDRESS=Luther Burbank Art & Garden Center 2050 Yulupa Avenue Santa Rosa CA 95405;X-APPLE-RADIUS=500;X-TITLE=2050 Yulupa Avenue:geo:-122.6691319,38.4369602
END:VEVENT
BEGIN:VEVENT
DTSTART;TZID=America/Los_Angeles:20181019T080000
DTEND;TZID=America/Los_Angeles:20181019T170000
DTSTAMP:20260421T194716
CREATED:20180622T164918Z
LAST-MODIFIED:20180622T164918Z
UID:5930-1539936000-1539968400@lutherburbankartandgardencenter.com
SUMMARY:S R Quilt Guild
DESCRIPTION:
URL:http://lutherburbankartandgardencenter.com/event/s-r-quilt-guild/
LOCATION:Luther Burbank Art & Garden Center\, 2050 Yulupa Avenue\, Santa Rosa\, CA\, 95405
GEO:38.4369602;-122.6691319
X-APPLE-STRUCTURED-LOCATION;VALUE=URI;X-ADDRESS=Luther Burbank Art & Garden Center 2050 Yulupa Avenue Santa Rosa CA 95405;X-APPLE-RADIUS=500;X-TITLE=2050 Yulupa Avenue:geo:-122.6691319,38.4369602
END:VEVENT
END:VCALENDAR