BEGIN:VCALENDAR
VERSION:2.0
PRODID:-//Luther Burbank Art and Garden Center - ECPv6.8.2.1//NONSGML v1.0//EN
CALSCALE:GREGORIAN
METHOD:PUBLISH
X-ORIGINAL-URL:http://lutherburbankartandgardencenter.com
X-WR-CALDESC:Events for Luther Burbank Art and Garden Center
REFRESH-INTERVAL;VALUE=DURATION:PT1H
X-Robots-Tag:noindex
X-PUBLISHED-TTL:PT1H
BEGIN:VTIMEZONE
TZID:America/Los_Angeles
BEGIN:DAYLIGHT
TZOFFSETFROM:-0800
TZOFFSETTO:-0700
TZNAME:PDT
DTSTART:20220313T100000
END:DAYLIGHT
BEGIN:STANDARD
TZOFFSETFROM:-0700
TZOFFSETTO:-0800
TZNAME:PST
DTSTART:20221106T090000
END:STANDARD
TZID:America/Los_Angeles
BEGIN:DAYLIGHT
TZOFFSETFROM:-0800
TZOFFSETTO:-0700
TZNAME:PDT
DTSTART:20220313T100000
END:DAYLIGHT
BEGIN:STANDARD
TZOFFSETFROM:-0700
TZOFFSETTO:-0800
TZNAME:PST
DTSTART:20221106T090000
END:STANDARD
TZID:UTC
BEGIN:STANDARD
TZOFFSETFROM:+0000
TZOFFSETTO:+0000
TZNAME:UTC
DTSTART:20220101T000000
END:STANDARD
END:VTIMEZONE
BEGIN:VEVENT
DTSTART;TZID=America/Los_Angeles:20221104T160000
DTEND;TZID=America/Los_Angeles:20221104T220000
DTSTAMP:20260422T121933
CREATED:20220827T003423Z
LAST-MODIFIED:20220827T003423Z
UID:9971-1667577600-1667599200@lutherburbankartandgardencenter.com
SUMMARY:80th Birthday Party
DESCRIPTION:Rupeti Tuxson
URL:http://lutherburbankartandgardencenter.com/event/80th-birthday-party/
LOCATION:Luther Burbank Art & Garden Center\, 2050 Yulupa Avenue\, Santa Rosa\, CA\, 95405
CATEGORIES:Outside Rental
GEO:38.4369602;-122.6691319
X-APPLE-STRUCTURED-LOCATION;VALUE=URI;X-ADDRESS=Luther Burbank Art & Garden Center 2050 Yulupa Avenue Santa Rosa CA 95405;X-APPLE-RADIUS=500;X-TITLE=2050 Yulupa Avenue:geo:-122.6691319,38.4369602
END:VEVENT
BEGIN:VEVENT
DTSTART;TZID=America/Los_Angeles:20221105T140000
DTEND;TZID=America/Los_Angeles:20221105T230000
DTSTAMP:20260422T121933
CREATED:20220725T231435Z
LAST-MODIFIED:20220725T231435Z
UID:9911-1667656800-1667689200@lutherburbankartandgardencenter.com
SUMMARY:Baptism/1st Birthday
DESCRIPTION:Emma Rodriguez Lopez
URL:http://lutherburbankartandgardencenter.com/event/baptism-1st-birthday/
LOCATION:Luther Burbank Art & Garden Center\, 2050 Yulupa Avenue\, Santa Rosa\, CA\, 95405
CATEGORIES:Outside Rental
GEO:38.4369602;-122.6691319
X-APPLE-STRUCTURED-LOCATION;VALUE=URI;X-ADDRESS=Luther Burbank Art & Garden Center 2050 Yulupa Avenue Santa Rosa CA 95405;X-APPLE-RADIUS=500;X-TITLE=2050 Yulupa Avenue:geo:-122.6691319,38.4369602
END:VEVENT
BEGIN:VEVENT
DTSTART;TZID=America/Los_Angeles:20221112T140000
DTEND;TZID=America/Los_Angeles:20221112T230000
DTSTAMP:20260422T121933
CREATED:20220709T163406Z
LAST-MODIFIED:20220709T163406Z
UID:9869-1668261600-1668294000@lutherburbankartandgardencenter.com
SUMMARY:Wedding
DESCRIPTION:Isabella Lucido
URL:http://lutherburbankartandgardencenter.com/event/wedding-13/
LOCATION:Luther Burbank Art & Garden Center\, 2050 Yulupa Avenue\, Santa Rosa\, CA\, 95405
CATEGORIES:Outside Rental
GEO:38.4369602;-122.6691319
X-APPLE-STRUCTURED-LOCATION;VALUE=URI;X-ADDRESS=Luther Burbank Art & Garden Center 2050 Yulupa Avenue Santa Rosa CA 95405;X-APPLE-RADIUS=500;X-TITLE=2050 Yulupa Avenue:geo:-122.6691319,38.4369602
END:VEVENT
BEGIN:VEVENT
DTSTART;TZID=America/Los_Angeles:20221113T160000
DTEND;TZID=America/Los_Angeles:20221113T220000
DTSTAMP:20260422T121933
CREATED:20221018T141659Z
LAST-MODIFIED:20221018T141659Z
UID:10255-1668355200-1668376800@lutherburbankartandgardencenter.com
SUMMARY:Baby Shower
DESCRIPTION:Daisy Lopez
URL:http://lutherburbankartandgardencenter.com/event/baby-shower-15/
LOCATION:Luther Burbank Art & Garden Center\, 2050 Yulupa Avenue\, Santa Rosa\, CA\, 95405
CATEGORIES:Outside Rental
GEO:38.4369602;-122.6691319
X-APPLE-STRUCTURED-LOCATION;VALUE=URI;X-ADDRESS=Luther Burbank Art & Garden Center 2050 Yulupa Avenue Santa Rosa CA 95405;X-APPLE-RADIUS=500;X-TITLE=2050 Yulupa Avenue:geo:-122.6691319,38.4369602
END:VEVENT
BEGIN:VEVENT
DTSTART;TZID=America/Los_Angeles:20221116T100000
DTEND;TZID=America/Los_Angeles:20221116T150000
DTSTAMP:20260422T121933
CREATED:20190829T004537Z
LAST-MODIFIED:20221103T150204Z
UID:8311-1668592800-1668610800@lutherburbankartandgardencenter.com
SUMMARY:Redwood Stitchers
DESCRIPTION:Redwood Stitchers meet on the 2nd and 4th Wednesday in January and most other months
URL:http://lutherburbankartandgardencenter.com/event/redwood-stitchers-27-2022-11-23/
LOCATION:Luther Burbank Art & Garden Center\, 2050 Yulupa Avenue\, Santa Rosa\, CA\, 95405
GEO:38.4369602;-122.6691319
X-APPLE-STRUCTURED-LOCATION;VALUE=URI;X-ADDRESS=Luther Burbank Art & Garden Center 2050 Yulupa Avenue Santa Rosa CA 95405;X-APPLE-RADIUS=500;X-TITLE=2050 Yulupa Avenue:geo:-122.6691319,38.4369602
END:VEVENT
BEGIN:VEVENT
DTSTART;TZID=America/Los_Angeles:20221117T120000
DTEND;TZID=America/Los_Angeles:20221117T150000
DTSTAMP:20260422T121933
CREATED:20180614T204755Z
LAST-MODIFIED:20221103T150324Z
UID:7821-1668686400-1668697200@lutherburbankartandgardencenter.com
SUMMARY:Master Gardeners
DESCRIPTION:
URL:http://lutherburbankartandgardencenter.com/event/master-gardeners-7-2022-11-17/
LOCATION:Luther Burbank Art & Garden Center\, 2050 Yulupa Avenue\, Santa Rosa\, CA\, 95405
CATEGORIES:Regular Renter Event
GEO:38.4369602;-122.6691319
X-APPLE-STRUCTURED-LOCATION;VALUE=URI;X-ADDRESS=Luther Burbank Art & Garden Center 2050 Yulupa Avenue Santa Rosa CA 95405;X-APPLE-RADIUS=500;X-TITLE=2050 Yulupa Avenue:geo:-122.6691319,38.4369602
END:VEVENT
BEGIN:VEVENT
DTSTART;TZID=UTC:20221117T170000
DTEND;TZID=UTC:20221117T210000
DTSTAMP:20260422T121933
CREATED:20170505T055041Z
LAST-MODIFIED:20220322T192014Z
UID:9515-1668704400-1668718800@lutherburbankartandgardencenter.com
SUMMARY:Redwood Empire Rose Society Awards Potluck
DESCRIPTION:Monthly on the third Thursday
URL:http://lutherburbankartandgardencenter.com/event/redwood-empire-rose-society-43-2021-10-21-2021-10-21-2022-02-17-2022-11-17/
LOCATION:CA
CATEGORIES:Member Club Event
END:VEVENT
BEGIN:VEVENT
DTSTART;TZID=America/Los_Angeles:20221119T140000
DTEND;TZID=America/Los_Angeles:20221119T230000
DTSTAMP:20260422T121933
CREATED:20220725T231314Z
LAST-MODIFIED:20220725T231314Z
UID:9909-1668866400-1668898800@lutherburbankartandgardencenter.com
SUMMARY:Sweet 16 Celebration
DESCRIPTION:Jose Chavez Sanchez
URL:http://lutherburbankartandgardencenter.com/event/sweet-16-celebration/
LOCATION:Luther Burbank Art & Garden Center\, 2050 Yulupa Avenue\, Santa Rosa\, CA\, 95405
CATEGORIES:Outside Rental
GEO:38.4369602;-122.6691319
X-APPLE-STRUCTURED-LOCATION;VALUE=URI;X-ADDRESS=Luther Burbank Art & Garden Center 2050 Yulupa Avenue Santa Rosa CA 95405;X-APPLE-RADIUS=500;X-TITLE=2050 Yulupa Avenue:geo:-122.6691319,38.4369602
END:VEVENT
BEGIN:VEVENT
DTSTART;TZID=America/Los_Angeles:20221120T110000
DTEND;TZID=America/Los_Angeles:20221120T170000
DTSTAMP:20260422T121933
CREATED:20220915T221047Z
LAST-MODIFIED:20220915T221047Z
UID:10011-1668942000-1668963600@lutherburbankartandgardencenter.com
SUMMARY:Outreach Service
DESCRIPTION:Pam Wollmer and Metisoni Ma’u
URL:http://lutherburbankartandgardencenter.com/event/outreach-service/
LOCATION:Luther Burbank Art & Garden Center\, 2050 Yulupa Avenue\, Santa Rosa\, CA\, 95405
CATEGORIES:Outside Rental
GEO:38.4369602;-122.6691319
X-APPLE-STRUCTURED-LOCATION;VALUE=URI;X-ADDRESS=Luther Burbank Art & Garden Center 2050 Yulupa Avenue Santa Rosa CA 95405;X-APPLE-RADIUS=500;X-TITLE=2050 Yulupa Avenue:geo:-122.6691319,38.4369602
END:VEVENT
BEGIN:VEVENT
DTSTART;TZID=America/Los_Angeles:20221121T080000
DTEND;TZID=America/Los_Angeles:20221121T170000
DTSTAMP:20260422T121933
CREATED:20221112T195438Z
LAST-MODIFIED:20221112T195438Z
UID:10363-1669017600-1669050000@lutherburbankartandgardencenter.com
SUMMARY:Center Maintenance -- Archway begins
DESCRIPTION:Patty Gundry
URL:http://lutherburbankartandgardencenter.com/event/center-maintenance-archway-begins/
LOCATION:Luther Burbank Art & Garden Center\, 2050 Yulupa Avenue\, Santa Rosa\, CA\, 95405
CATEGORIES:LBA&GC
GEO:38.4369602;-122.6691319
X-APPLE-STRUCTURED-LOCATION;VALUE=URI;X-ADDRESS=Luther Burbank Art & Garden Center 2050 Yulupa Avenue Santa Rosa CA 95405;X-APPLE-RADIUS=500;X-TITLE=2050 Yulupa Avenue:geo:-122.6691319,38.4369602
END:VEVENT
BEGIN:VEVENT
DTSTART;TZID=America/Los_Angeles:20221126T100000
DTEND;TZID=America/Los_Angeles:20221126T190000
DTSTAMP:20260422T121933
CREATED:20220530T214131Z
LAST-MODIFIED:20221123T185028Z
UID:9781-1669456800-1669489200@lutherburbankartandgardencenter.com
SUMMARY:Family Thanksgiving
DESCRIPTION:Donna Lubet
URL:http://lutherburbankartandgardencenter.com/event/family-thanksgiving/
LOCATION:Luther Burbank Art & Garden Center\, 2050 Yulupa Avenue\, Santa Rosa\, CA\, 95405
CATEGORIES:Outside Rental
GEO:38.4369602;-122.6691319
X-APPLE-STRUCTURED-LOCATION;VALUE=URI;X-ADDRESS=Luther Burbank Art & Garden Center 2050 Yulupa Avenue Santa Rosa CA 95405;X-APPLE-RADIUS=500;X-TITLE=2050 Yulupa Avenue:geo:-122.6691319,38.4369602
END:VEVENT
BEGIN:VEVENT
DTSTART;TZID=America/Los_Angeles:20221127T130000
DTEND;TZID=America/Los_Angeles:20221127T200000
DTSTAMP:20260422T121933
CREATED:20221101T181307Z
LAST-MODIFIED:20221123T185133Z
UID:10328-1669554000-1669579200@lutherburbankartandgardencenter.com
SUMMARY:Kid's Birthday
DESCRIPTION:Hilda Aguilar
URL:http://lutherburbankartandgardencenter.com/event/kids-birthday/
LOCATION:Luther Burbank Art & Garden Center\, 2050 Yulupa Avenue\, Santa Rosa\, CA\, 95405
CATEGORIES:Outside Rental
GEO:38.4369602;-122.6691319
X-APPLE-STRUCTURED-LOCATION;VALUE=URI;X-ADDRESS=Luther Burbank Art & Garden Center 2050 Yulupa Avenue Santa Rosa CA 95405;X-APPLE-RADIUS=500;X-TITLE=2050 Yulupa Avenue:geo:-122.6691319,38.4369602
END:VEVENT
END:VCALENDAR