BEGIN:VCALENDAR
VERSION:2.0
PRODID:-//Luther Burbank Art and Garden Center - ECPv6.8.2.1//NONSGML v1.0//EN
CALSCALE:GREGORIAN
METHOD:PUBLISH
X-ORIGINAL-URL:http://lutherburbankartandgardencenter.com
X-WR-CALDESC:Events for Luther Burbank Art and Garden Center
REFRESH-INTERVAL;VALUE=DURATION:PT1H
X-Robots-Tag:noindex
X-PUBLISHED-TTL:PT1H
BEGIN:VTIMEZONE
TZID:America/Los_Angeles
BEGIN:DAYLIGHT
TZOFFSETFROM:-0800
TZOFFSETTO:-0700
TZNAME:PDT
DTSTART:20220313T100000
END:DAYLIGHT
BEGIN:STANDARD
TZOFFSETFROM:-0700
TZOFFSETTO:-0800
TZNAME:PST
DTSTART:20221106T090000
END:STANDARD
TZID:UTC
BEGIN:STANDARD
TZOFFSETFROM:+0000
TZOFFSETTO:+0000
TZNAME:UTC
DTSTART:20220101T000000
END:STANDARD
END:VTIMEZONE
BEGIN:VEVENT
DTSTART;TZID=America/Los_Angeles:20220903T080000
DTEND;TZID=America/Los_Angeles:20220903T170000
DTSTAMP:20260422T173508
CREATED:20220706T022312Z
LAST-MODIFIED:20220706T022312Z
UID:9856-1662192000-1662224400@lutherburbankartandgardencenter.com
SUMMARY:Iris Rhizome Sale -- Iris Society
DESCRIPTION:Anna Cadd
URL:http://lutherburbankartandgardencenter.com/event/iris-rhizome-sale-iris-society/
LOCATION:Luther Burbank Art & Garden Center\, 2050 Yulupa Avenue\, Santa Rosa\, CA\, 95405
CATEGORIES:Member Club Event
GEO:38.4369602;-122.6691319
X-APPLE-STRUCTURED-LOCATION;VALUE=URI;X-ADDRESS=Luther Burbank Art & Garden Center 2050 Yulupa Avenue Santa Rosa CA 95405;X-APPLE-RADIUS=500;X-TITLE=2050 Yulupa Avenue:geo:-122.6691319,38.4369602
END:VEVENT
BEGIN:VEVENT
DTSTART;TZID=America/Los_Angeles:20220904T110000
DTEND;TZID=America/Los_Angeles:20220904T170000
DTSTAMP:20260422T173508
CREATED:20220510T135521Z
LAST-MODIFIED:20220510T135521Z
UID:9739-1662289200-1662310800@lutherburbankartandgardencenter.com
SUMMARY:Baby Shower
DESCRIPTION:Arianna Sandoval
URL:http://lutherburbankartandgardencenter.com/event/baby-shower-11/
LOCATION:Luther Burbank Art & Garden Center\, 2050 Yulupa Avenue\, Santa Rosa\, CA\, 95405
CATEGORIES:Outside Rental
GEO:38.4369602;-122.6691319
X-APPLE-STRUCTURED-LOCATION;VALUE=URI;X-ADDRESS=Luther Burbank Art & Garden Center 2050 Yulupa Avenue Santa Rosa CA 95405;X-APPLE-RADIUS=500;X-TITLE=2050 Yulupa Avenue:geo:-122.6691319,38.4369602
END:VEVENT
BEGIN:VEVENT
DTSTART;TZID=America/Los_Angeles:20220910T140000
DTEND;TZID=America/Los_Angeles:20220910T230000
DTSTAMP:20260422T173508
CREATED:20220126T020721Z
LAST-MODIFIED:20220126T020721Z
UID:9349-1662818400-1662850800@lutherburbankartandgardencenter.com
SUMMARY:Wedding
DESCRIPTION:Vosi Landen/Sean Cotton
URL:http://lutherburbankartandgardencenter.com/event/wedding-11/
LOCATION:Luther Burbank Art & Garden Center\, 2050 Yulupa Avenue\, Santa Rosa\, CA\, 95405
CATEGORIES:Outside Rental,Wedding
GEO:38.4369602;-122.6691319
X-APPLE-STRUCTURED-LOCATION;VALUE=URI;X-ADDRESS=Luther Burbank Art & Garden Center 2050 Yulupa Avenue Santa Rosa CA 95405;X-APPLE-RADIUS=500;X-TITLE=2050 Yulupa Avenue:geo:-122.6691319,38.4369602
END:VEVENT
BEGIN:VEVENT
DTSTART;TZID=America/Los_Angeles:20220911T140000
DTEND;TZID=America/Los_Angeles:20220911T210000
DTSTAMP:20260422T173508
CREATED:20220808T034254Z
LAST-MODIFIED:20220906T150315Z
UID:9924-1662904800-1662930000@lutherburbankartandgardencenter.com
SUMMARY:Celebration of Life
DESCRIPTION:Lorena Moudi
URL:http://lutherburbankartandgardencenter.com/event/celebration-of-life-31/
LOCATION:Luther Burbank Art & Garden Center\, 2050 Yulupa Avenue\, Santa Rosa\, CA\, 95405
CATEGORIES:Outside Rental
GEO:38.4369602;-122.6691319
X-APPLE-STRUCTURED-LOCATION;VALUE=URI;X-ADDRESS=Luther Burbank Art & Garden Center 2050 Yulupa Avenue Santa Rosa CA 95405;X-APPLE-RADIUS=500;X-TITLE=2050 Yulupa Avenue:geo:-122.6691319,38.4369602
END:VEVENT
BEGIN:VEVENT
DTSTART;TZID=UTC:20220915T153000
DTEND;TZID=UTC:20220915T193000
DTSTAMP:20260422T173508
CREATED:20170505T055041Z
LAST-MODIFIED:20220322T191719Z
UID:9513-1663255800-1663270200@lutherburbankartandgardencenter.com
SUMMARY:Redwood Empire Rose Society
DESCRIPTION:Monthly on the third Thursday
URL:http://lutherburbankartandgardencenter.com/event/redwood-empire-rose-society-43-2021-10-21-2021-10-21-2022-02-17-2022-09-15/
LOCATION:CA
CATEGORIES:Member Club Event
END:VEVENT
BEGIN:VEVENT
DTSTART;TZID=America/Los_Angeles:20220917T110000
DTEND;TZID=America/Los_Angeles:20220917T210000
DTSTAMP:20260422T173508
CREATED:20211105T212617Z
LAST-MODIFIED:20220916T175049Z
UID:9134-1663412400-1663448400@lutherburbankartandgardencenter.com
SUMMARY:50th Class Reunion
DESCRIPTION:Jacquilyn Schieber
URL:http://lutherburbankartandgardencenter.com/event/50th-class-reunion-2/
LOCATION:Luther Burbank Art & Garden Center\, 2050 Yulupa Avenue\, Santa Rosa\, CA\, 95405
CATEGORIES:Outside Rental
GEO:38.4369602;-122.6691319
X-APPLE-STRUCTURED-LOCATION;VALUE=URI;X-ADDRESS=Luther Burbank Art & Garden Center 2050 Yulupa Avenue Santa Rosa CA 95405;X-APPLE-RADIUS=500;X-TITLE=2050 Yulupa Avenue:geo:-122.6691319,38.4369602
END:VEVENT
BEGIN:VEVENT
DTSTART;TZID=America/Los_Angeles:20220924T130000
DTEND;TZID=America/Los_Angeles:20220924T220000
DTSTAMP:20260422T173508
CREATED:20220916T175002Z
LAST-MODIFIED:20220916T175002Z
UID:10013-1664024400-1664056800@lutherburbankartandgardencenter.com
SUMMARY:Wedding Ceremony
DESCRIPTION:Gabriela Gudino
URL:http://lutherburbankartandgardencenter.com/event/wedding-ceremony/
LOCATION:Luther Burbank Art & Garden Center\, 2050 Yulupa Avenue\, Santa Rosa\, CA\, 95405
CATEGORIES:Outside Rental
GEO:38.4369602;-122.6691319
X-APPLE-STRUCTURED-LOCATION;VALUE=URI;X-ADDRESS=Luther Burbank Art & Garden Center 2050 Yulupa Avenue Santa Rosa CA 95405;X-APPLE-RADIUS=500;X-TITLE=2050 Yulupa Avenue:geo:-122.6691319,38.4369602
END:VEVENT
BEGIN:VEVENT
DTSTART;TZID=America/Los_Angeles:20220925T140000
DTEND;TZID=America/Los_Angeles:20220925T200000
DTSTAMP:20260422T173508
CREATED:20220920T232154Z
LAST-MODIFIED:20220920T232154Z
UID:10032-1664114400-1664136000@lutherburbankartandgardencenter.com
SUMMARY:Celebration of Life
DESCRIPTION:Mercedes Thompson
URL:http://lutherburbankartandgardencenter.com/event/celebration-of-life-35/
LOCATION:Luther Burbank Art & Garden Center\, 2050 Yulupa Avenue\, Santa Rosa\, CA\, 95405
CATEGORIES:Outside Rental
GEO:38.4369602;-122.6691319
X-APPLE-STRUCTURED-LOCATION;VALUE=URI;X-ADDRESS=Luther Burbank Art & Garden Center 2050 Yulupa Avenue Santa Rosa CA 95405;X-APPLE-RADIUS=500;X-TITLE=2050 Yulupa Avenue:geo:-122.6691319,38.4369602
END:VEVENT
BEGIN:VEVENT
DTSTART;TZID=America/Los_Angeles:20220929T100000
DTEND;TZID=America/Los_Angeles:20220929T120000
DTSTAMP:20260422T173508
CREATED:20220920T005356Z
LAST-MODIFIED:20220920T005356Z
UID:10021-1664445600-1664452800@lutherburbankartandgardencenter.com
SUMMARY:Center Front Garden mtg
DESCRIPTION:Patty Gundry
URL:http://lutherburbankartandgardencenter.com/event/center-front-garden-mtg/
LOCATION:Luther Burbank Art & Garden Center\, 2050 Yulupa Avenue\, Santa Rosa\, CA\, 95405
CATEGORIES:LBA&GC
GEO:38.4369602;-122.6691319
X-APPLE-STRUCTURED-LOCATION;VALUE=URI;X-ADDRESS=Luther Burbank Art & Garden Center 2050 Yulupa Avenue Santa Rosa CA 95405;X-APPLE-RADIUS=500;X-TITLE=2050 Yulupa Avenue:geo:-122.6691319,38.4369602
END:VEVENT
BEGIN:VEVENT
DTSTART;TZID=America/Los_Angeles:20220930T130000
DTEND;TZID=America/Los_Angeles:20220930T190000
DTSTAMP:20260422T173508
CREATED:20220904T201232Z
LAST-MODIFIED:20220904T202051Z
UID:9995-1664542800-1664564400@lutherburbankartandgardencenter.com
SUMMARY:Celebration of Life
DESCRIPTION:David Veveiros
URL:http://lutherburbankartandgardencenter.com/event/celebration-of-life-34/
LOCATION:Luther Burbank Art & Garden Center\, 2050 Yulupa Avenue\, Santa Rosa\, CA\, 95405
CATEGORIES:Outside Rental
GEO:38.4369602;-122.6691319
X-APPLE-STRUCTURED-LOCATION;VALUE=URI;X-ADDRESS=Luther Burbank Art & Garden Center 2050 Yulupa Avenue Santa Rosa CA 95405;X-APPLE-RADIUS=500;X-TITLE=2050 Yulupa Avenue:geo:-122.6691319,38.4369602
END:VEVENT
END:VCALENDAR