BEGIN:VCALENDAR
VERSION:2.0
PRODID:-//Luther Burbank Art and Garden Center - ECPv6.8.2.1//NONSGML v1.0//EN
CALSCALE:GREGORIAN
METHOD:PUBLISH
X-ORIGINAL-URL:http://lutherburbankartandgardencenter.com
X-WR-CALDESC:Events for Luther Burbank Art and Garden Center
REFRESH-INTERVAL;VALUE=DURATION:PT1H
X-Robots-Tag:noindex
X-PUBLISHED-TTL:PT1H
BEGIN:VTIMEZONE
TZID:America/Los_Angeles
BEGIN:DAYLIGHT
TZOFFSETFROM:-0800
TZOFFSETTO:-0700
TZNAME:PDT
DTSTART:20220313T100000
END:DAYLIGHT
BEGIN:STANDARD
TZOFFSETFROM:-0700
TZOFFSETTO:-0800
TZNAME:PST
DTSTART:20221106T090000
END:STANDARD
TZID:UTC
BEGIN:STANDARD
TZOFFSETFROM:+0000
TZOFFSETTO:+0000
TZNAME:UTC
DTSTART:20220101T000000
END:STANDARD
END:VTIMEZONE
BEGIN:VEVENT
DTSTART;TZID=America/Los_Angeles:20220502T100000
DTEND;TZID=America/Los_Angeles:20220502T120000
DTSTAMP:20260422T204746
CREATED:20210924T145009Z
LAST-MODIFIED:20210924T145009Z
UID:8921-1651485600-1651492800@lutherburbankartandgardencenter.com
SUMMARY:SRGC Dean Linscott Garden Cleanup
DESCRIPTION:
URL:http://lutherburbankartandgardencenter.com/event/srgc-dean-linscott-garden-cleanup-2/
LOCATION:Luther Burbank Art & Garden Center\, 2050 Yulupa Avenue\, Santa Rosa\, CA\, 95405
CATEGORIES:Member Club Event
GEO:38.4369602;-122.6691319
X-APPLE-STRUCTURED-LOCATION;VALUE=URI;X-ADDRESS=Luther Burbank Art & Garden Center 2050 Yulupa Avenue Santa Rosa CA 95405;X-APPLE-RADIUS=500;X-TITLE=2050 Yulupa Avenue:geo:-122.6691319,38.4369602
END:VEVENT
BEGIN:VEVENT
DTSTART;TZID=UTC:20220505T100000
DTEND;TZID=UTC:20220505T170000
DTSTAMP:20260422T204746
CREATED:20170505T054951Z
LAST-MODIFIED:20220301T011652Z
UID:8966-1651744800-1651770000@lutherburbankartandgardencenter.com
SUMMARY:SR Flower Arrangers Guild Tea
DESCRIPTION:Tea 1st Thursday in April 2pm-4pm
URL:http://lutherburbankartandgardencenter.com/event/sr-flower-arrangers-guild-33-2018-04-05-2022-04-05/
LOCATION:CA
CATEGORIES:Member Club Event
END:VEVENT
BEGIN:VEVENT
DTSTART;TZID=America/Los_Angeles:20220506T170000
DTEND;TZID=America/Los_Angeles:20220508T170000
DTSTAMP:20260422T204746
CREATED:20220107T011005Z
LAST-MODIFIED:20220107T011005Z
UID:9252-1651856400-1652029200@lutherburbankartandgardencenter.com
SUMMARY:Iris Show presented by the Iris Society
DESCRIPTION:Jeff   Davis
URL:http://lutherburbankartandgardencenter.com/event/iris-show-presented-by-the-iris-society/
LOCATION:Luther Burbank Art & Garden Center\, 2050 Yulupa Avenue\, Santa Rosa\, CA\, 95405
CATEGORIES:Member Club Event
GEO:38.4369602;-122.6691319
X-APPLE-STRUCTURED-LOCATION;VALUE=URI;X-ADDRESS=Luther Burbank Art & Garden Center 2050 Yulupa Avenue Santa Rosa CA 95405;X-APPLE-RADIUS=500;X-TITLE=2050 Yulupa Avenue:geo:-122.6691319,38.4369602
END:VEVENT
BEGIN:VEVENT
DTSTART;TZID=America/Los_Angeles:20220512T080000
DTEND;TZID=America/Los_Angeles:20220513T170000
DTSTAMP:20260422T204746
CREATED:20220414T163557Z
LAST-MODIFIED:20220414T163557Z
UID:9700-1652342400-1652461200@lutherburbankartandgardencenter.com
SUMMARY:Center: Striping and Sealing of Parking Lot
DESCRIPTION:
URL:http://lutherburbankartandgardencenter.com/event/center-striping-and-sealing-of-parking-lot/
LOCATION:Luther Burbank Art & Garden Center\, 2050 Yulupa Avenue\, Santa Rosa\, CA\, 95405
CATEGORIES:LBA&GC
GEO:38.4369602;-122.6691319
X-APPLE-STRUCTURED-LOCATION;VALUE=URI;X-ADDRESS=Luther Burbank Art & Garden Center 2050 Yulupa Avenue Santa Rosa CA 95405;X-APPLE-RADIUS=500;X-TITLE=2050 Yulupa Avenue:geo:-122.6691319,38.4369602
END:VEVENT
BEGIN:VEVENT
DTSTART;TZID=America/Los_Angeles:20220514T080000
DTEND;TZID=America/Los_Angeles:20220514T170000
DTSTAMP:20260422T204746
CREATED:20220131T211538Z
LAST-MODIFIED:20220131T211538Z
UID:9361-1652515200-1652547600@lutherburbankartandgardencenter.com
SUMMARY:RE Rose Society event
DESCRIPTION:Karen Ernsberger
URL:http://lutherburbankartandgardencenter.com/event/re-rose-society-event/
LOCATION:Luther Burbank Art & Garden Center\, 2050 Yulupa Avenue\, Santa Rosa\, CA\, 95405
CATEGORIES:Member Club Event
GEO:38.4369602;-122.6691319
X-APPLE-STRUCTURED-LOCATION;VALUE=URI;X-ADDRESS=Luther Burbank Art & Garden Center 2050 Yulupa Avenue Santa Rosa CA 95405;X-APPLE-RADIUS=500;X-TITLE=2050 Yulupa Avenue:geo:-122.6691319,38.4369602
END:VEVENT
BEGIN:VEVENT
DTSTART;TZID=UTC:20220518T170000
DTEND;TZID=UTC:20220518T200000
DTSTAMP:20260422T204746
CREATED:20171024T094124Z
LAST-MODIFIED:20220314T161729Z
UID:7749-1652893200-1652904000@lutherburbankartandgardencenter.com
SUMMARY:Master Gardeners
DESCRIPTION:Summer hours are in effect \nMaster Gardeners meets the third Wednesday of each month.\nEvening Meetings: May\, June\, August\, September @ 5pm–9pm\nDay Meetings: October – April (not December) @ 11am–3pm\nIn November the meeting moves to Thursday \nNo meetings at LBA&GC in July or December
URL:http://lutherburbankartandgardencenter.com/event/master-gardeners-2022-07-20/2022-05-18/
LOCATION:Luther Burbank Art & Garden Center\, 2050 Yulupa Avenue\, Santa Rosa\, CA\, 95405
CATEGORIES:Member Club Event
GEO:38.4369602;-122.6691319
X-APPLE-STRUCTURED-LOCATION;VALUE=URI;X-ADDRESS=Luther Burbank Art & Garden Center 2050 Yulupa Avenue Santa Rosa CA 95405;X-APPLE-RADIUS=500;X-TITLE=2050 Yulupa Avenue:geo:-122.6691319,38.4369602
END:VEVENT
BEGIN:VEVENT
DTSTART;TZID=America/Los_Angeles:20220520T083000
DTEND;TZID=America/Los_Angeles:20220520T160000
DTSTAMP:20260422T204746
CREATED:20220103T161158Z
LAST-MODIFIED:20220103T161158Z
UID:9227-1653035400-1653062400@lutherburbankartandgardencenter.com
SUMMARY:SR Quilt Guild Meeting
DESCRIPTION:Laura Barrett
URL:http://lutherburbankartandgardencenter.com/event/sr-quilt-guild-meeting/
LOCATION:Luther Burbank Art & Garden Center\, 2050 Yulupa Avenue\, Santa Rosa\, CA\, 95405
CATEGORIES:Member Club Event
GEO:38.4369602;-122.6691319
X-APPLE-STRUCTURED-LOCATION;VALUE=URI;X-ADDRESS=Luther Burbank Art & Garden Center 2050 Yulupa Avenue Santa Rosa CA 95405;X-APPLE-RADIUS=500;X-TITLE=2050 Yulupa Avenue:geo:-122.6691319,38.4369602
END:VEVENT
BEGIN:VEVENT
DTSTART;TZID=America/Los_Angeles:20220521T120000
DTEND;TZID=America/Los_Angeles:20220521T230000
DTSTAMP:20260422T204746
CREATED:20220314T164721Z
LAST-MODIFIED:20220520T131139Z
UID:9487-1653134400-1653174000@lutherburbankartandgardencenter.com
SUMMARY:Baptism Celebration
DESCRIPTION:Trinidad Martinez
URL:http://lutherburbankartandgardencenter.com/event/baptism-celebration-3/
LOCATION:Luther Burbank Art & Garden Center\, 2050 Yulupa Avenue\, Santa Rosa\, CA\, 95405
CATEGORIES:Outside Rental
GEO:38.4369602;-122.6691319
X-APPLE-STRUCTURED-LOCATION;VALUE=URI;X-ADDRESS=Luther Burbank Art & Garden Center 2050 Yulupa Avenue Santa Rosa CA 95405;X-APPLE-RADIUS=500;X-TITLE=2050 Yulupa Avenue:geo:-122.6691319,38.4369602
END:VEVENT
BEGIN:VEVENT
DTSTART;TZID=America/Los_Angeles:20220522T150000
DTEND;TZID=America/Los_Angeles:20220522T220000
DTSTAMP:20260422T204746
CREATED:20220311T175620Z
LAST-MODIFIED:20220311T175620Z
UID:9469-1653231600-1653256800@lutherburbankartandgardencenter.com
SUMMARY:Baby Shower
DESCRIPTION:Elizabeth Andrade/Erick Feria
URL:http://lutherburbankartandgardencenter.com/event/baby-shower-9/
LOCATION:Luther Burbank Art & Garden Center\, 2050 Yulupa Avenue\, Santa Rosa\, CA\, 95405
CATEGORIES:Outside Rental
GEO:38.4369602;-122.6691319
X-APPLE-STRUCTURED-LOCATION;VALUE=URI;X-ADDRESS=Luther Burbank Art & Garden Center 2050 Yulupa Avenue Santa Rosa CA 95405;X-APPLE-RADIUS=500;X-TITLE=2050 Yulupa Avenue:geo:-122.6691319,38.4369602
END:VEVENT
BEGIN:VEVENT
DTSTART;TZID=America/Los_Angeles:20220526T170000
DTEND;TZID=America/Los_Angeles:20220526T210000
DTSTAMP:20260422T204746
CREATED:20220516T202513Z
LAST-MODIFIED:20220516T202513Z
UID:9755-1653584400-1653598800@lutherburbankartandgardencenter.com
SUMMARY:Santa Rosa Shambhala Center
DESCRIPTION:Jill Levesque
URL:http://lutherburbankartandgardencenter.com/event/santa-rosa-shambhala-center/2022-05-26/
LOCATION:Luther Burbank Art & Garden Center\, 2050 Yulupa Avenue\, Santa Rosa\, CA\, 95405
CATEGORIES:Member Club Event
GEO:38.4369602;-122.6691319
X-APPLE-STRUCTURED-LOCATION;VALUE=URI;X-ADDRESS=Luther Burbank Art & Garden Center 2050 Yulupa Avenue Santa Rosa CA 95405;X-APPLE-RADIUS=500;X-TITLE=2050 Yulupa Avenue:geo:-122.6691319,38.4369602
END:VEVENT
BEGIN:VEVENT
DTSTART;TZID=America/Los_Angeles:20220528T120000
DTEND;TZID=America/Los_Angeles:20220528T210000
DTSTAMP:20260422T204746
CREATED:20211230T152610Z
LAST-MODIFIED:20211230T152610Z
UID:9211-1653739200-1653771600@lutherburbankartandgardencenter.com
SUMMARY:Memorial
DESCRIPTION:Sue Frey
URL:http://lutherburbankartandgardencenter.com/event/memorial-13/
LOCATION:Luther Burbank Art & Garden Center\, 2050 Yulupa Avenue\, Santa Rosa\, CA\, 95405
CATEGORIES:Outside Rental
GEO:38.4369602;-122.6691319
X-APPLE-STRUCTURED-LOCATION;VALUE=URI;X-ADDRESS=Luther Burbank Art & Garden Center 2050 Yulupa Avenue Santa Rosa CA 95405;X-APPLE-RADIUS=500;X-TITLE=2050 Yulupa Avenue:geo:-122.6691319,38.4369602
END:VEVENT
END:VCALENDAR