BEGIN:VCALENDAR
VERSION:2.0
PRODID:-//Luther Burbank Art and Garden Center - ECPv6.8.2.1//NONSGML v1.0//EN
CALSCALE:GREGORIAN
METHOD:PUBLISH
X-WR-CALNAME:Luther Burbank Art and Garden Center
X-ORIGINAL-URL:http://lutherburbankartandgardencenter.com
X-WR-CALDESC:Events for Luther Burbank Art and Garden Center
REFRESH-INTERVAL;VALUE=DURATION:PT1H
X-Robots-Tag:noindex
X-PUBLISHED-TTL:PT1H
BEGIN:VTIMEZONE
TZID:America/Los_Angeles
BEGIN:DAYLIGHT
TZOFFSETFROM:-0800
TZOFFSETTO:-0700
TZNAME:PDT
DTSTART:20220313T100000
END:DAYLIGHT
BEGIN:STANDARD
TZOFFSETFROM:-0700
TZOFFSETTO:-0800
TZNAME:PST
DTSTART:20221106T090000
END:STANDARD
TZID:UTC
BEGIN:STANDARD
TZOFFSETFROM:+0000
TZOFFSETTO:+0000
TZNAME:UTC
DTSTART:20220101T000000
END:STANDARD
END:VTIMEZONE
BEGIN:VEVENT
DTSTART;TZID=America/Los_Angeles:20220402T120000
DTEND;TZID=America/Los_Angeles:20220402T230000
DTSTAMP:20260423T014641
CREATED:20211022T145910Z
LAST-MODIFIED:20220225T001536Z
UID:9079-1648900800-1648940400@lutherburbankartandgardencenter.com
SUMMARY:Sweet 16 Birthday
DESCRIPTION:Guadalupe Perez
URL:http://lutherburbankartandgardencenter.com/event/sweet-16-birthday/
LOCATION:Luther Burbank Art & Garden Center\, 2050 Yulupa Avenue\, Santa Rosa\, CA\, 95405
CATEGORIES:Outside Rental
GEO:38.4369602;-122.6691319
X-APPLE-STRUCTURED-LOCATION;VALUE=URI;X-ADDRESS=Luther Burbank Art & Garden Center 2050 Yulupa Avenue Santa Rosa CA 95405;X-APPLE-RADIUS=500;X-TITLE=2050 Yulupa Avenue:geo:-122.6691319,38.4369602
END:VEVENT
BEGIN:VEVENT
DTSTART;TZID=UTC:20220404T110000
DTEND;TZID=UTC:20220404T140000
DTSTAMP:20260423T014641
CREATED:20170505T055018Z
LAST-MODIFIED:20220113T141725Z
UID:9186-1649070000-1649080800@lutherburbankartandgardencenter.com
SUMMARY:Iris Society
DESCRIPTION:Monthly on the second Monday
URL:http://lutherburbankartandgardencenter.com/event/iris-society-69-2022-02-14-2022-04-11/
LOCATION:CA
CATEGORIES:Member Club Event
END:VEVENT
BEGIN:VEVENT
DTSTART;TZID=UTC:20220407T090000
DTEND;TZID=UTC:20220407T120000
DTSTAMP:20260423T014641
CREATED:20170505T054951Z
LAST-MODIFIED:20220301T011748Z
UID:7676-1649322000-1649332800@lutherburbankartandgardencenter.com
SUMMARY:SR Flower Arrangers Guild
DESCRIPTION:Monthly on the first Thursday
URL:http://lutherburbankartandgardencenter.com/event/sr-flower-arrangers-guild-33-2022-05-05/
LOCATION:CA
CATEGORIES:Member Club Event
END:VEVENT
BEGIN:VEVENT
DTSTART;TZID=America/Los_Angeles:20220408T153000
DTEND;TZID=America/Los_Angeles:20220408T193000
DTSTAMP:20260423T014641
CREATED:20220121T233116Z
LAST-MODIFIED:20220121T233116Z
UID:9284-1649431800-1649446200@lutherburbankartandgardencenter.com
SUMMARY:Redwood Guild of Fiber Arts "Exploring Victorian Knitted Lace" workshop
DESCRIPTION:Phina Borgeson
URL:http://lutherburbankartandgardencenter.com/event/redwood-guild-of-fiber-arts-exploring-victorian-knitted-lace-workshop/
LOCATION:Luther Burbank Art & Garden Center\, 2050 Yulupa Avenue\, Santa Rosa\, CA\, 95405
CATEGORIES:Member Club Event
GEO:38.4369602;-122.6691319
X-APPLE-STRUCTURED-LOCATION;VALUE=URI;X-ADDRESS=Luther Burbank Art & Garden Center 2050 Yulupa Avenue Santa Rosa CA 95405;X-APPLE-RADIUS=500;X-TITLE=2050 Yulupa Avenue:geo:-122.6691319,38.4369602
END:VEVENT
BEGIN:VEVENT
DTSTART;TZID=America/Los_Angeles:20220409T093000
DTEND;TZID=America/Los_Angeles:20220409T163000
DTSTAMP:20260423T014641
CREATED:20220121T233323Z
LAST-MODIFIED:20220121T233323Z
UID:9286-1649496600-1649521800@lutherburbankartandgardencenter.com
SUMMARY:Redwood Guild of Fiber Arts\, "Exploring Victorian Knitted Lace" workshop
DESCRIPTION:Phina Borgeson
URL:http://lutherburbankartandgardencenter.com/event/redwood-guild-of-fiber-arts-exploring-victorian-knitted-lace-workshop-2/
LOCATION:Luther Burbank Art & Garden Center\, 2050 Yulupa Avenue\, Santa Rosa\, CA\, 95405
CATEGORIES:Member Club Event
GEO:38.4369602;-122.6691319
X-APPLE-STRUCTURED-LOCATION;VALUE=URI;X-ADDRESS=Luther Burbank Art & Garden Center 2050 Yulupa Avenue Santa Rosa CA 95405;X-APPLE-RADIUS=500;X-TITLE=2050 Yulupa Avenue:geo:-122.6691319,38.4369602
END:VEVENT
BEGIN:VEVENT
DTSTART;TZID=America/Los_Angeles:20220411T130000
DTEND;TZID=America/Los_Angeles:20220411T150000
DTSTAMP:20260423T014641
CREATED:20220330T125511Z
LAST-MODIFIED:20220330T125511Z
UID:9614-1649682000-1649689200@lutherburbankartandgardencenter.com
SUMMARY:Center Maintenance Committee meeting
DESCRIPTION:Karen Ernsberger and Cindy Moore
URL:http://lutherburbankartandgardencenter.com/event/center-maintenance-committee-meeting-15/2022-04-11/
LOCATION:Luther Burbank Art & Garden Center\, 2050 Yulupa Avenue\, Santa Rosa\, CA\, 95405
CATEGORIES:LBA&GC
GEO:38.4369602;-122.6691319
X-APPLE-STRUCTURED-LOCATION;VALUE=URI;X-ADDRESS=Luther Burbank Art & Garden Center 2050 Yulupa Avenue Santa Rosa CA 95405;X-APPLE-RADIUS=500;X-TITLE=2050 Yulupa Avenue:geo:-122.6691319,38.4369602
END:VEVENT
BEGIN:VEVENT
DTSTART;TZID=America/Los_Angeles:20220415T080000
DTEND;TZID=America/Los_Angeles:20220415T170000
DTSTAMP:20260423T014641
CREATED:20220221T013706Z
LAST-MODIFIED:20220221T014140Z
UID:9428-1650009600-1650042000@lutherburbankartandgardencenter.com
SUMMARY:Center: Prep and painting of exterior
DESCRIPTION:
URL:http://lutherburbankartandgardencenter.com/event/center-prep-and-painting-of-exterior/
LOCATION:Luther Burbank Art & Garden Center\, 2050 Yulupa Avenue\, Santa Rosa\, CA\, 95405
CATEGORIES:LBA&GC
GEO:38.4369602;-122.6691319
X-APPLE-STRUCTURED-LOCATION;VALUE=URI;X-ADDRESS=Luther Burbank Art & Garden Center 2050 Yulupa Avenue Santa Rosa CA 95405;X-APPLE-RADIUS=500;X-TITLE=2050 Yulupa Avenue:geo:-122.6691319,38.4369602
END:VEVENT
BEGIN:VEVENT
DTSTART;TZID=America/Los_Angeles:20220417T110000
DTEND;TZID=America/Los_Angeles:20220417T170000
DTSTAMP:20260423T014641
CREATED:20220222T033319Z
LAST-MODIFIED:20220222T033319Z
UID:9436-1650193200-1650214800@lutherburbankartandgardencenter.com
SUMMARY:Family Reunion
DESCRIPTION:Kathryn Wright
URL:http://lutherburbankartandgardencenter.com/event/family-reunion/
LOCATION:Luther Burbank Art & Garden Center\, 2050 Yulupa Avenue\, Santa Rosa\, CA\, 95405
CATEGORIES:Outside Rental
GEO:38.4369602;-122.6691319
X-APPLE-STRUCTURED-LOCATION;VALUE=URI;X-ADDRESS=Luther Burbank Art & Garden Center 2050 Yulupa Avenue Santa Rosa CA 95405;X-APPLE-RADIUS=500;X-TITLE=2050 Yulupa Avenue:geo:-122.6691319,38.4369602
END:VEVENT
BEGIN:VEVENT
DTSTART;TZID=America/Los_Angeles:20220418T080000
DTEND;TZID=America/Los_Angeles:20220422T170000
DTSTAMP:20260423T014641
CREATED:20220221T014238Z
LAST-MODIFIED:20220221T014238Z
UID:9430-1650268800-1650646800@lutherburbankartandgardencenter.com
SUMMARY:Center: prep and painting of exterior
DESCRIPTION:
URL:http://lutherburbankartandgardencenter.com/event/center-prep-and-painting-of-exterior-2/
LOCATION:Luther Burbank Art & Garden Center\, 2050 Yulupa Avenue\, Santa Rosa\, CA\, 95405
CATEGORIES:LBA&GC
GEO:38.4369602;-122.6691319
X-APPLE-STRUCTURED-LOCATION;VALUE=URI;X-ADDRESS=Luther Burbank Art & Garden Center 2050 Yulupa Avenue Santa Rosa CA 95405;X-APPLE-RADIUS=500;X-TITLE=2050 Yulupa Avenue:geo:-122.6691319,38.4369602
END:VEVENT
BEGIN:VEVENT
DTSTART;TZID=America/Los_Angeles:20220422T130000
DTEND;TZID=America/Los_Angeles:20220422T170000
DTSTAMP:20260423T014641
CREATED:20220131T211005Z
LAST-MODIFIED:20220322T190555Z
UID:9355-1650632400-1650646800@lutherburbankartandgardencenter.com
SUMMARY:Plant Sale Set up
DESCRIPTION:
URL:http://lutherburbankartandgardencenter.com/event/sr-garden-club-set-up/
LOCATION:Luther Burbank Art & Garden Center\, 2050 Yulupa Avenue\, Santa Rosa\, CA\, 95405
CATEGORIES:Member Club Event
GEO:38.4369602;-122.6691319
X-APPLE-STRUCTURED-LOCATION;VALUE=URI;X-ADDRESS=Luther Burbank Art & Garden Center 2050 Yulupa Avenue Santa Rosa CA 95405;X-APPLE-RADIUS=500;X-TITLE=2050 Yulupa Avenue:geo:-122.6691319,38.4369602
END:VEVENT
BEGIN:VEVENT
DTSTART;TZID=America/Los_Angeles:20220423T090000
DTEND;TZID=America/Los_Angeles:20220423T130000
DTSTAMP:20260423T014641
CREATED:20220131T210452Z
LAST-MODIFIED:20220322T190505Z
UID:9353-1650704400-1650718800@lutherburbankartandgardencenter.com
SUMMARY:SR Garden Club and Rose Society Annual Plant Sale
DESCRIPTION:Maeve and Donna and Karen and Barbara
URL:http://lutherburbankartandgardencenter.com/event/sr-garden-club-annual-plant-sale/
LOCATION:Luther Burbank Art & Garden Center\, 2050 Yulupa Avenue\, Santa Rosa\, CA\, 95405
CATEGORIES:Member Club Event
GEO:38.4369602;-122.6691319
X-APPLE-STRUCTURED-LOCATION;VALUE=URI;X-ADDRESS=Luther Burbank Art & Garden Center 2050 Yulupa Avenue Santa Rosa CA 95405;X-APPLE-RADIUS=500;X-TITLE=2050 Yulupa Avenue:geo:-122.6691319,38.4369602
END:VEVENT
BEGIN:VEVENT
DTSTART;TZID=America/Los_Angeles:20220425T080000
DTEND;TZID=America/Los_Angeles:20220429T170000
DTSTAMP:20260423T014641
CREATED:20220221T014342Z
LAST-MODIFIED:20220221T014342Z
UID:9432-1650873600-1651251600@lutherburbankartandgardencenter.com
SUMMARY:Center: prep and painting of exterior
DESCRIPTION:
URL:http://lutherburbankartandgardencenter.com/event/center-prep-and-painting-of-exterior-3/
LOCATION:Luther Burbank Art & Garden Center\, 2050 Yulupa Avenue\, Santa Rosa\, CA\, 95405
CATEGORIES:LBA&GC
GEO:38.4369602;-122.6691319
X-APPLE-STRUCTURED-LOCATION;VALUE=URI;X-ADDRESS=Luther Burbank Art & Garden Center 2050 Yulupa Avenue Santa Rosa CA 95405;X-APPLE-RADIUS=500;X-TITLE=2050 Yulupa Avenue:geo:-122.6691319,38.4369602
END:VEVENT
BEGIN:VEVENT
DTSTART;TZID=America/Los_Angeles:20220429T140000
DTEND;TZID=America/Los_Angeles:20220429T170000
DTSTAMP:20260423T014641
CREATED:20220131T211314Z
LAST-MODIFIED:20220322T190828Z
UID:9359-1651240800-1651251600@lutherburbankartandgardencenter.com
SUMMARY:Set up for Rose Show
DESCRIPTION:
URL:http://lutherburbankartandgardencenter.com/event/re-rose-society-event-setup/
LOCATION:Luther Burbank Art & Garden Center\, 2050 Yulupa Avenue\, Santa Rosa\, CA\, 95405
CATEGORIES:Member Club Event
GEO:38.4369602;-122.6691319
X-APPLE-STRUCTURED-LOCATION;VALUE=URI;X-ADDRESS=Luther Burbank Art & Garden Center 2050 Yulupa Avenue Santa Rosa CA 95405;X-APPLE-RADIUS=500;X-TITLE=2050 Yulupa Avenue:geo:-122.6691319,38.4369602
END:VEVENT
BEGIN:VEVENT
DTSTART;TZID=America/Los_Angeles:20220430T063000
DTEND;TZID=America/Los_Angeles:20220430T173000
DTSTAMP:20260423T014641
CREATED:20220131T211146Z
LAST-MODIFIED:20220322T190931Z
UID:9357-1651300200-1651339800@lutherburbankartandgardencenter.com
SUMMARY:Redwood Empire Rose Society Rose Show
DESCRIPTION:Karen Ernsberger/Barbara Ellis
URL:http://lutherburbankartandgardencenter.com/event/redwood-empire-rose-society-event/
LOCATION:Luther Burbank Art & Garden Center\, 2050 Yulupa Avenue\, Santa Rosa\, CA\, 95405
CATEGORIES:Member Club Event
GEO:38.4369602;-122.6691319
X-APPLE-STRUCTURED-LOCATION;VALUE=URI;X-ADDRESS=Luther Burbank Art & Garden Center 2050 Yulupa Avenue Santa Rosa CA 95405;X-APPLE-RADIUS=500;X-TITLE=2050 Yulupa Avenue:geo:-122.6691319,38.4369602
END:VEVENT
END:VCALENDAR