BEGIN:VCALENDAR
VERSION:2.0
PRODID:-//Luther Burbank Art and Garden Center - ECPv6.8.2.1//NONSGML v1.0//EN
CALSCALE:GREGORIAN
METHOD:PUBLISH
X-WR-CALNAME:Luther Burbank Art and Garden Center
X-ORIGINAL-URL:http://lutherburbankartandgardencenter.com
X-WR-CALDESC:Events for Luther Burbank Art and Garden Center
REFRESH-INTERVAL;VALUE=DURATION:PT1H
X-Robots-Tag:noindex
X-PUBLISHED-TTL:PT1H
BEGIN:VTIMEZONE
TZID:America/Los_Angeles
BEGIN:DAYLIGHT
TZOFFSETFROM:-0800
TZOFFSETTO:-0700
TZNAME:PDT
DTSTART:20230312T100000
END:DAYLIGHT
BEGIN:STANDARD
TZOFFSETFROM:-0700
TZOFFSETTO:-0800
TZNAME:PST
DTSTART:20231105T090000
END:STANDARD
END:VTIMEZONE
BEGIN:VEVENT
DTSTART;TZID=America/Los_Angeles:20230204T120000
DTEND;TZID=America/Los_Angeles:20230204T230000
DTSTAMP:20260422T000841
CREATED:20221116T160023Z
LAST-MODIFIED:20221116T160023Z
UID:10378-1675512000-1675551600@lutherburbankartandgardencenter.com
SUMMARY:Baptism Celebration
DESCRIPTION:Paola Valentin
URL:http://lutherburbankartandgardencenter.com/event/baptism-celebration-5/
LOCATION:Luther Burbank Art & Garden Center\, 2050 Yulupa Avenue\, Santa Rosa\, CA\, 95405
CATEGORIES:Outside Rental
GEO:38.4369602;-122.6691319
X-APPLE-STRUCTURED-LOCATION;VALUE=URI;X-ADDRESS=Luther Burbank Art & Garden Center 2050 Yulupa Avenue Santa Rosa CA 95405;X-APPLE-RADIUS=500;X-TITLE=2050 Yulupa Avenue:geo:-122.6691319,38.4369602
END:VEVENT
BEGIN:VEVENT
DTSTART;TZID=America/Los_Angeles:20230205T150000
DTEND;TZID=America/Los_Angeles:20230205T220000
DTSTAMP:20260422T000841
CREATED:20221207T231528Z
LAST-MODIFIED:20221207T231528Z
UID:10429-1675609200-1675634400@lutherburbankartandgardencenter.com
SUMMARY:Baby Shower
DESCRIPTION:Jennifer Garcia
URL:http://lutherburbankartandgardencenter.com/event/baby-shower-18/
LOCATION:Luther Burbank Art & Garden Center\, 2050 Yulupa Avenue\, Santa Rosa\, CA\, 95405
CATEGORIES:Outside Rental
GEO:38.4369602;-122.6691319
X-APPLE-STRUCTURED-LOCATION;VALUE=URI;X-ADDRESS=Luther Burbank Art & Garden Center 2050 Yulupa Avenue Santa Rosa CA 95405;X-APPLE-RADIUS=500;X-TITLE=2050 Yulupa Avenue:geo:-122.6691319,38.4369602
END:VEVENT
BEGIN:VEVENT
DTSTART;TZID=America/Los_Angeles:20230218T120000
DTEND;TZID=America/Los_Angeles:20230218T210000
DTSTAMP:20260422T000841
CREATED:20221220T135530Z
LAST-MODIFIED:20221220T135530Z
UID:10457-1676721600-1676754000@lutherburbankartandgardencenter.com
SUMMARY:Baby Shower
DESCRIPTION:Amber Stiving/Patti Stiving
URL:http://lutherburbankartandgardencenter.com/event/baby-shower-19/
LOCATION:Luther Burbank Art & Garden Center\, 2050 Yulupa Avenue\, Santa Rosa\, CA\, 95405
CATEGORIES:Outside Rental
GEO:38.4369602;-122.6691319
X-APPLE-STRUCTURED-LOCATION;VALUE=URI;X-ADDRESS=Luther Burbank Art & Garden Center 2050 Yulupa Avenue Santa Rosa CA 95405;X-APPLE-RADIUS=500;X-TITLE=2050 Yulupa Avenue:geo:-122.6691319,38.4369602
END:VEVENT
BEGIN:VEVENT
DTSTART;TZID=America/Los_Angeles:20230226T100000
DTEND;TZID=America/Los_Angeles:20230226T160000
DTSTAMP:20260422T000841
CREATED:20221205T233605Z
LAST-MODIFIED:20230216T191156Z
UID:10412-1677405600-1677427200@lutherburbankartandgardencenter.com
SUMMARY:Outreach Program
DESCRIPTION:Pam Wollmer/Pentacostol Church of SR
URL:http://lutherburbankartandgardencenter.com/event/outreach-program/
LOCATION:Luther Burbank Art & Garden Center\, 2050 Yulupa Avenue\, Santa Rosa\, CA\, 95405
CATEGORIES:Outside Rental
GEO:38.4369602;-122.6691319
X-APPLE-STRUCTURED-LOCATION;VALUE=URI;X-ADDRESS=Luther Burbank Art & Garden Center 2050 Yulupa Avenue Santa Rosa CA 95405;X-APPLE-RADIUS=500;X-TITLE=2050 Yulupa Avenue:geo:-122.6691319,38.4369602
END:VEVENT
END:VCALENDAR