BEGIN:VCALENDAR
VERSION:2.0
PRODID:-//Luther Burbank Art and Garden Center - ECPv6.8.2.1//NONSGML v1.0//EN
CALSCALE:GREGORIAN
METHOD:PUBLISH
X-ORIGINAL-URL:http://lutherburbankartandgardencenter.com
X-WR-CALDESC:Events for Luther Burbank Art and Garden Center
REFRESH-INTERVAL;VALUE=DURATION:PT1H
X-Robots-Tag:noindex
X-PUBLISHED-TTL:PT1H
BEGIN:VTIMEZONE
TZID:UTC
BEGIN:STANDARD
TZOFFSETFROM:+0000
TZOFFSETTO:+0000
TZNAME:UTC
DTSTART:20170101T000000
END:STANDARD
TZID:America/Los_Angeles
BEGIN:DAYLIGHT
TZOFFSETFROM:-0800
TZOFFSETTO:-0700
TZNAME:PDT
DTSTART:20170312T100000
END:DAYLIGHT
BEGIN:STANDARD
TZOFFSETFROM:-0700
TZOFFSETTO:-0800
TZNAME:PST
DTSTART:20171105T090000
END:STANDARD
END:VTIMEZONE
BEGIN:VEVENT
DTSTART;TZID=UTC:20171116T120000
DTEND;TZID=UTC:20171116T150000
DTSTAMP:20260424T131545
CREATED:20170505T055030Z
LAST-MODIFIED:20171111T233659Z
UID:3582-1510833600-1510844400@lutherburbankartandgardencenter.com
SUMMARY:Master Gardeners
DESCRIPTION:Sorry\, but you do not have permission to view this content.
URL:http://lutherburbankartandgardencenter.com/event/master-gardeners-73/
LOCATION:CA
CATEGORIES:Member Club Event
END:VEVENT
BEGIN:VEVENT
DTSTART;TZID=America/Los_Angeles:20171116T180000
DTEND;TZID=America/Los_Angeles:20171116T220000
DTSTAMP:20260424T131545
CREATED:20170513T232847Z
LAST-MODIFIED:20170516T102513Z
UID:3767-1510855200-1510869600@lutherburbankartandgardencenter.com
SUMMARY:Redwood Empire Rose Society
DESCRIPTION:Sorry\, but you do not have permission to view this content.
URL:http://lutherburbankartandgardencenter.com/event/redwood-empire-rose-society-45/
LOCATION:CA
CATEGORIES:Member Club Event
END:VEVENT
END:VCALENDAR