BEGIN:VCALENDAR
VERSION:2.0
PRODID:-//Luther Burbank Art and Garden Center - ECPv6.8.2.1//NONSGML v1.0//EN
CALSCALE:GREGORIAN
METHOD:PUBLISH
X-ORIGINAL-URL:http://lutherburbankartandgardencenter.com
X-WR-CALDESC:Events for Luther Burbank Art and Garden Center
REFRESH-INTERVAL;VALUE=DURATION:PT1H
X-Robots-Tag:noindex
X-PUBLISHED-TTL:PT1H
BEGIN:VTIMEZONE
TZID:UTC
BEGIN:STANDARD
TZOFFSETFROM:+0000
TZOFFSETTO:+0000
TZNAME:UTC
DTSTART:20170101T000000
END:STANDARD
TZID:America/Los_Angeles
BEGIN:DAYLIGHT
TZOFFSETFROM:-0800
TZOFFSETTO:-0700
TZNAME:PDT
DTSTART:20170312T100000
END:DAYLIGHT
BEGIN:STANDARD
TZOFFSETFROM:-0700
TZOFFSETTO:-0800
TZNAME:PST
DTSTART:20171105T090000
END:STANDARD
END:VTIMEZONE
BEGIN:VEVENT
DTSTART;TZID=UTC:20171012T080000
DTEND;TZID=UTC:20171012T150000
DTSTAMP:20260424T144714
CREATED:20171025T001442Z
LAST-MODIFIED:20171025T001442Z
UID:4553-1507795200-1507820400@lutherburbankartandgardencenter.com
SUMMARY:WASCO
DESCRIPTION:Sorry\, but you do not have permission to view this content.
URL:http://lutherburbankartandgardencenter.com/event/wasco/
LOCATION:Luther Burbank Art & Garden Center\, 2050 Yulupa Avenue\, Santa Rosa\, CA\, 95405
CATEGORIES:Member Club Event
GEO:38.4369602;-122.6691319
X-APPLE-STRUCTURED-LOCATION;VALUE=URI;X-ADDRESS=Luther Burbank Art & Garden Center 2050 Yulupa Avenue Santa Rosa CA 95405;X-APPLE-RADIUS=500;X-TITLE=2050 Yulupa Avenue:geo:-122.6691319,38.4369602
END:VEVENT
BEGIN:VEVENT
DTSTART;TZID=America/Los_Angeles:20171012T173000
DTEND;TZID=America/Los_Angeles:20171012T230000
DTSTAMP:20260424T144714
CREATED:20170513T232838Z
LAST-MODIFIED:20170516T102620Z
UID:3742-1507829400-1507849200@lutherburbankartandgardencenter.com
SUMMARY:S R Photo Soc
DESCRIPTION:Sorry\, but you do not have permission to view this content.
URL:http://lutherburbankartandgardencenter.com/event/s-r-photo-soc-22/
LOCATION:CA
CATEGORIES:Member Club Event
END:VEVENT
END:VCALENDAR