BEGIN:VCALENDAR
VERSION:2.0
PRODID:-//Luther Burbank Art and Garden Center - ECPv6.8.2.1//NONSGML v1.0//EN
CALSCALE:GREGORIAN
METHOD:PUBLISH
X-ORIGINAL-URL:http://lutherburbankartandgardencenter.com
X-WR-CALDESC:Events for Luther Burbank Art and Garden Center
REFRESH-INTERVAL;VALUE=DURATION:PT1H
X-Robots-Tag:noindex
X-PUBLISHED-TTL:PT1H
BEGIN:VTIMEZONE
TZID:America/Los_Angeles
BEGIN:DAYLIGHT
TZOFFSETFROM:-0800
TZOFFSETTO:-0700
TZNAME:PDT
DTSTART:20170312T100000
END:DAYLIGHT
BEGIN:STANDARD
TZOFFSETFROM:-0700
TZOFFSETTO:-0800
TZNAME:PST
DTSTART:20171105T090000
END:STANDARD
END:VTIMEZONE
BEGIN:VEVENT
DTSTART;TZID=America/Los_Angeles:20170810T080000
DTEND;TZID=America/Los_Angeles:20170810T140000
DTSTAMP:20260424T211322
CREATED:20170505T055003Z
LAST-MODIFIED:20170516T102835Z
UID:3520-1502352000-1502373600@lutherburbankartandgardencenter.com
SUMMARY:WASCO
DESCRIPTION:Sorry\, but you do not have permission to view this content.
URL:http://lutherburbankartandgardencenter.com/event/wasco-61/
LOCATION:CA
CATEGORIES:Member Club Event
END:VEVENT
BEGIN:VEVENT
DTSTART;TZID=America/Los_Angeles:20170810T183000
DTEND;TZID=America/Los_Angeles:20170810T223000
DTSTAMP:20260424T211322
CREATED:20170513T232824Z
LAST-MODIFIED:20170516T102835Z
UID:3703-1502389800-1502404200@lutherburbankartandgardencenter.com
SUMMARY:SR Photographic Society
DESCRIPTION:Sorry\, but you do not have permission to view this content.
URL:http://lutherburbankartandgardencenter.com/event/sr-photographic-society-30/
LOCATION:CA
CATEGORIES:Member Club Event
END:VEVENT
END:VCALENDAR