BEGIN:VCALENDAR
VERSION:2.0
PRODID:-//Luther Burbank Art and Garden Center - ECPv6.8.2.1//NONSGML v1.0//EN
CALSCALE:GREGORIAN
METHOD:PUBLISH
X-WR-CALNAME:Luther Burbank Art and Garden Center
X-ORIGINAL-URL:http://lutherburbankartandgardencenter.com
X-WR-CALDESC:Events for Luther Burbank Art and Garden Center
REFRESH-INTERVAL;VALUE=DURATION:PT1H
X-Robots-Tag:noindex
X-PUBLISHED-TTL:PT1H
BEGIN:VTIMEZONE
TZID:UTC
BEGIN:STANDARD
TZOFFSETFROM:+0000
TZOFFSETTO:+0000
TZNAME:UTC
DTSTART:20170101T000000
END:STANDARD
END:VTIMEZONE
BEGIN:VEVENT
DTSTART;TZID=UTC:20170725T090000
DTEND;TZID=UTC:20170725T150000
DTSTAMP:20260424T193535
CREATED:20170505T054957Z
LAST-MODIFIED:20171111T211217Z
UID:3509-1500973200-1500994800@lutherburbankartandgardencenter.com
SUMMARY:Pointless Sisters
DESCRIPTION:Sorry\, but you do not have permission to view this content.
URL:http://lutherburbankartandgardencenter.com/event/pointless-sisters-43/
LOCATION:CA
CATEGORIES:Member Club Event
END:VEVENT
BEGIN:VEVENT
DTSTART;TZID=UTC:20170725T173000
DTEND;TZID=UTC:20170725T220000
DTSTAMP:20260424T193535
CREATED:20170505T054959Z
LAST-MODIFIED:20171111T211529Z
UID:3510-1501003800-1501020000@lutherburbankartandgardencenter.com
SUMMARY:Bonsai Society
DESCRIPTION:Sorry\, but you do not have permission to view this content.
URL:http://lutherburbankartandgardencenter.com/event/bonsai-society-31/
LOCATION:CA
CATEGORIES:Member Club Event
END:VEVENT
END:VCALENDAR