BEGIN:VCALENDAR
VERSION:2.0
PRODID:-//Luther Burbank Art and Garden Center - ECPv6.8.2.1//NONSGML v1.0//EN
CALSCALE:GREGORIAN
METHOD:PUBLISH
X-ORIGINAL-URL:http://lutherburbankartandgardencenter.com
X-WR-CALDESC:Events for Luther Burbank Art and Garden Center
REFRESH-INTERVAL;VALUE=DURATION:PT1H
X-Robots-Tag:noindex
X-PUBLISHED-TTL:PT1H
BEGIN:VTIMEZONE
TZID:America/Los_Angeles
BEGIN:DAYLIGHT
TZOFFSETFROM:-0800
TZOFFSETTO:-0700
TZNAME:PDT
DTSTART:20170312T100000
END:DAYLIGHT
BEGIN:STANDARD
TZOFFSETFROM:-0700
TZOFFSETTO:-0800
TZNAME:PST
DTSTART:20171105T090000
END:STANDARD
END:VTIMEZONE
BEGIN:VEVENT
DTSTART;TZID=America/Los_Angeles:20170713T080000
DTEND;TZID=America/Los_Angeles:20170713T140000
DTSTAMP:20260424T211411
CREATED:20170513T232812Z
LAST-MODIFIED:20170516T102942Z
UID:3683-1499932800-1499954400@lutherburbankartandgardencenter.com
SUMMARY:WASCO
DESCRIPTION:Sorry\, but you do not have permission to view this content.
URL:http://lutherburbankartandgardencenter.com/event/wasco-69/
LOCATION:CA
CATEGORIES:Member Club Event
END:VEVENT
BEGIN:VEVENT
DTSTART;TZID=America/Los_Angeles:20170713T183000
DTEND;TZID=America/Los_Angeles:20170713T223000
DTSTAMP:20260424T211411
CREATED:20170505T054953Z
LAST-MODIFIED:20170516T102942Z
UID:3499-1499970600-1499985000@lutherburbankartandgardencenter.com
SUMMARY:SR Photo Soc
DESCRIPTION:Sorry\, but you do not have permission to view this content.
URL:http://lutherburbankartandgardencenter.com/event/sr-photo-soc-19/
LOCATION:CA
CATEGORIES:Member Club Event
END:VEVENT
END:VCALENDAR