BEGIN:VCALENDAR
VERSION:2.0
PRODID:-//Luther Burbank Art and Garden Center - ECPv6.8.2.1//NONSGML v1.0//EN
CALSCALE:GREGORIAN
METHOD:PUBLISH
X-WR-CALNAME:Luther Burbank Art and Garden Center
X-ORIGINAL-URL:http://lutherburbankartandgardencenter.com
X-WR-CALDESC:Events for Luther Burbank Art and Garden Center
REFRESH-INTERVAL;VALUE=DURATION:PT1H
X-Robots-Tag:noindex
X-PUBLISHED-TTL:PT1H
BEGIN:VTIMEZONE
TZID:America/Los_Angeles
BEGIN:DAYLIGHT
TZOFFSETFROM:-0800
TZOFFSETTO:-0700
TZNAME:PDT
DTSTART:20170312T100000
END:DAYLIGHT
BEGIN:STANDARD
TZOFFSETFROM:-0700
TZOFFSETTO:-0800
TZNAME:PST
DTSTART:20171105T090000
END:STANDARD
TZID:UTC
BEGIN:STANDARD
TZOFFSETFROM:+0000
TZOFFSETTO:+0000
TZNAME:UTC
DTSTART:20170101T000000
END:STANDARD
END:VTIMEZONE
BEGIN:VEVENT
DTSTART;TZID=America/Los_Angeles:20171004T170000
DTEND;TZID=America/Los_Angeles:20171004T213000
DTSTAMP:20260424T130736
CREATED:20170505T055017Z
LAST-MODIFIED:20171111T233609Z
UID:3552-1507136400-1507152600@lutherburbankartandgardencenter.com
SUMMARY:Radio Amateurs
DESCRIPTION:Sorry\, but you do not have permission to view this content.
URL:http://lutherburbankartandgardencenter.com/event/radio-amateurs-38/
LOCATION:CA
CATEGORIES:Member Club Event
END:VEVENT
BEGIN:VEVENT
DTSTART;TZID=UTC:20171010T183000
DTEND;TZID=UTC:20171010T213000
DTSTAMP:20260424T130736
CREATED:20170505T055019Z
LAST-MODIFIED:20210916T180043Z
UID:3555-1507660200-1507671000@lutherburbankartandgardencenter.com
SUMMARY:Men's Garden Club
DESCRIPTION:Sorry\, but you do not have permission to view this content.
URL:http://lutherburbankartandgardencenter.com/event/mens-garden-club-46/2017-10-10/
LOCATION:Luther Burbank Art & Garden Center\, 2050 Yulupa Avenue\, Santa Rosa\, CA\, 95405
CATEGORIES:Member Club Event
GEO:38.4369602;-122.6691319
X-APPLE-STRUCTURED-LOCATION;VALUE=URI;X-ADDRESS=Luther Burbank Art & Garden Center 2050 Yulupa Avenue Santa Rosa CA 95405;X-APPLE-RADIUS=500;X-TITLE=2050 Yulupa Avenue:geo:-122.6691319,38.4369602
END:VEVENT
BEGIN:VEVENT
DTSTART;TZID=America/Los_Angeles:20171011T100000
DTEND;TZID=America/Los_Angeles:20171011T150000
DTSTAMP:20260424T130736
CREATED:20170505T055019Z
LAST-MODIFIED:20170516T102620Z
UID:3556-1507716000-1507734000@lutherburbankartandgardencenter.com
SUMMARY:Redwood Stitchers
DESCRIPTION:Sorry\, but you do not have permission to view this content.
URL:http://lutherburbankartandgardencenter.com/event/redwood-stitchers-68/
LOCATION:CA
CATEGORIES:Member Club Event
END:VEVENT
BEGIN:VEVENT
DTSTART;TZID=UTC:20171012T080000
DTEND;TZID=UTC:20171012T150000
DTSTAMP:20260424T130736
CREATED:20171025T001442Z
LAST-MODIFIED:20171025T001442Z
UID:4553-1507795200-1507820400@lutherburbankartandgardencenter.com
SUMMARY:WASCO
DESCRIPTION:Sorry\, but you do not have permission to view this content.
URL:http://lutherburbankartandgardencenter.com/event/wasco/
LOCATION:Luther Burbank Art & Garden Center\, 2050 Yulupa Avenue\, Santa Rosa\, CA\, 95405
CATEGORIES:Member Club Event
GEO:38.4369602;-122.6691319
X-APPLE-STRUCTURED-LOCATION;VALUE=URI;X-ADDRESS=Luther Burbank Art & Garden Center 2050 Yulupa Avenue Santa Rosa CA 95405;X-APPLE-RADIUS=500;X-TITLE=2050 Yulupa Avenue:geo:-122.6691319,38.4369602
END:VEVENT
BEGIN:VEVENT
DTSTART;TZID=America/Los_Angeles:20171012T173000
DTEND;TZID=America/Los_Angeles:20171012T230000
DTSTAMP:20260424T130736
CREATED:20170513T232838Z
LAST-MODIFIED:20170516T102620Z
UID:3742-1507829400-1507849200@lutherburbankartandgardencenter.com
SUMMARY:S R Photo Soc
DESCRIPTION:Sorry\, but you do not have permission to view this content.
URL:http://lutherburbankartandgardencenter.com/event/s-r-photo-soc-22/
LOCATION:CA
CATEGORIES:Member Club Event
END:VEVENT
BEGIN:VEVENT
DTSTART;TZID=America/Los_Angeles:20171017T173000
DTEND;TZID=America/Los_Angeles:20171017T220000
DTSTAMP:20260424T130736
CREATED:20170505T055020Z
LAST-MODIFIED:20171111T233609Z
UID:3559-1508261400-1508277600@lutherburbankartandgardencenter.com
SUMMARY:Native Plant Society
DESCRIPTION:Sorry\, but you do not have permission to view this content.
URL:http://lutherburbankartandgardencenter.com/event/native-plant-society-36/
LOCATION:CA
CATEGORIES:Member Club Event
END:VEVENT
BEGIN:VEVENT
DTSTART;TZID=UTC:20171018T120000
DTEND;TZID=UTC:20171018T150000
DTSTAMP:20260424T130736
CREATED:20170505T055021Z
LAST-MODIFIED:20171111T233609Z
UID:3560-1508328000-1508338800@lutherburbankartandgardencenter.com
SUMMARY:Master Gardeners
DESCRIPTION:Sorry\, but you do not have permission to view this content.
URL:http://lutherburbankartandgardencenter.com/event/master-gardeners-72/
LOCATION:CA
CATEGORIES:Member Club Event
END:VEVENT
BEGIN:VEVENT
DTSTART;TZID=America/Los_Angeles:20171019T170000
DTEND;TZID=America/Los_Angeles:20171019T210000
DTSTAMP:20260424T130736
CREATED:20170505T055021Z
LAST-MODIFIED:20170516T102620Z
UID:3561-1508432400-1508446800@lutherburbankartandgardencenter.com
SUMMARY:Redwood Empire Rose Society
DESCRIPTION:Sorry\, but you do not have permission to view this content.
URL:http://lutherburbankartandgardencenter.com/event/redwood-empire-rose-society-41/
LOCATION:CA
CATEGORIES:Member Club Event
END:VEVENT
BEGIN:VEVENT
DTSTART;TZID=America/Los_Angeles:20171020T080000
DTEND;TZID=America/Los_Angeles:20171020T160000
DTSTAMP:20260424T130736
CREATED:20170505T055021Z
LAST-MODIFIED:20171111T233609Z
UID:3562-1508486400-1508515200@lutherburbankartandgardencenter.com
SUMMARY:SR Quilt Guild
DESCRIPTION:Sorry\, but you do not have permission to view this content.
URL:http://lutherburbankartandgardencenter.com/event/sr-quilt-guild-36/
LOCATION:CA
CATEGORIES:Member Club Event
END:VEVENT
BEGIN:VEVENT
DTSTART;TZID=America/Los_Angeles:20171020T173000
DTEND;TZID=America/Los_Angeles:20171020T220000
DTSTAMP:20260424T130736
CREATED:20170505T055022Z
LAST-MODIFIED:20170516T102620Z
UID:3563-1508520600-1508536800@lutherburbankartandgardencenter.com
SUMMARY:SCPN
DESCRIPTION:Sorry\, but you do not have permission to view this content.
URL:http://lutherburbankartandgardencenter.com/event/scpn-36/
LOCATION:CA
CATEGORIES:Member Club Event
END:VEVENT
BEGIN:VEVENT
DTSTART;TZID=America/Los_Angeles:20171023T103000
DTEND;TZID=America/Los_Angeles:20171023T170000
DTSTAMP:20260424T130736
CREATED:20170505T055022Z
LAST-MODIFIED:20170516T102620Z
UID:3564-1508754600-1508778000@lutherburbankartandgardencenter.com
SUMMARY:Santa Rosa Garden Club
DESCRIPTION:Sorry\, but you do not have permission to view this content.
URL:http://lutherburbankartandgardencenter.com/event/santa-rosa-garden-club-50/
LOCATION:CA
CATEGORIES:Member Club Event
END:VEVENT
BEGIN:VEVENT
DTSTART;TZID=UTC:20171024T090000
DTEND;TZID=UTC:20171024T150000
DTSTAMP:20260424T130736
CREATED:20170505T055023Z
LAST-MODIFIED:20171111T233610Z
UID:3565-1508835600-1508857200@lutherburbankartandgardencenter.com
SUMMARY:Pointless Sisters
DESCRIPTION:Sorry\, but you do not have permission to view this content.
URL:http://lutherburbankartandgardencenter.com/event/pointless-sisters-47/
LOCATION:CA
CATEGORIES:Member Club Event
END:VEVENT
BEGIN:VEVENT
DTSTART;TZID=UTC:20171024T173000
DTEND;TZID=UTC:20171024T220000
DTSTAMP:20260424T130736
CREATED:20170505T055023Z
LAST-MODIFIED:20171111T233610Z
UID:3566-1508866200-1508882400@lutherburbankartandgardencenter.com
SUMMARY:Bonsai Society
DESCRIPTION:Sorry\, but you do not have permission to view this content.
URL:http://lutherburbankartandgardencenter.com/event/bonsai-society-34/
LOCATION:CA
CATEGORIES:Member Club Event
END:VEVENT
BEGIN:VEVENT
DTSTART;TZID=UTC:20171025T100000
DTEND;TZID=UTC:20171025T150000
DTSTAMP:20260424T130736
CREATED:20170505T055023Z
LAST-MODIFIED:20171023T004225Z
UID:3567-1508925600-1508943600@lutherburbankartandgardencenter.com
SUMMARY:Redwood Stitchers
DESCRIPTION:Sorry\, but you do not have permission to view this content.
URL:http://lutherburbankartandgardencenter.com/event/redwood-stitchers-69/2017-10-25/
LOCATION:Luther Burbank Art & Garden Center\, 2050 Yulupa Avenue\, Santa Rosa\, CA\, 95405
CATEGORIES:Member Club Event
GEO:38.4369602;-122.6691319
X-APPLE-STRUCTURED-LOCATION;VALUE=URI;X-ADDRESS=Luther Burbank Art & Garden Center 2050 Yulupa Avenue Santa Rosa CA 95405;X-APPLE-RADIUS=500;X-TITLE=2050 Yulupa Avenue:geo:-122.6691319,38.4369602
END:VEVENT
BEGIN:VEVENT
DTSTART;TZID=America/Los_Angeles:20171026T173000
DTEND;TZID=America/Los_Angeles:20171026T230000
DTSTAMP:20260424T130736
CREATED:20170505T055024Z
LAST-MODIFIED:20170516T102620Z
UID:3568-1509039000-1509058800@lutherburbankartandgardencenter.com
SUMMARY:SR Photographic Society
DESCRIPTION:Sorry\, but you do not have permission to view this content.
URL:http://lutherburbankartandgardencenter.com/event/sr-photographic-society-26/
LOCATION:CA
CATEGORIES:Member Club Event
END:VEVENT
BEGIN:VEVENT
DTSTART;TZID=America/Los_Angeles:20171027T173000
DTEND;TZID=America/Los_Angeles:20171027T230000
DTSTAMP:20260424T130736
CREATED:20170513T232843Z
LAST-MODIFIED:20170516T102620Z
UID:3753-1509125400-1509145200@lutherburbankartandgardencenter.com
SUMMARY:Pagan Network
DESCRIPTION:Sorry\, but you do not have permission to view this content.
URL:http://lutherburbankartandgardencenter.com/event/pagan-network-4/
LOCATION:CA
CATEGORIES:Member Club Event
END:VEVENT
END:VCALENDAR