BEGIN:VCALENDAR
VERSION:2.0
PRODID:-//Luther Burbank Art and Garden Center - ECPv6.8.2.1//NONSGML v1.0//EN
CALSCALE:GREGORIAN
METHOD:PUBLISH
X-ORIGINAL-URL:http://lutherburbankartandgardencenter.com
X-WR-CALDESC:Events for Luther Burbank Art and Garden Center
REFRESH-INTERVAL;VALUE=DURATION:PT1H
X-Robots-Tag:noindex
X-PUBLISHED-TTL:PT1H
BEGIN:VTIMEZONE
TZID:America/Los_Angeles
BEGIN:DAYLIGHT
TZOFFSETFROM:-0800
TZOFFSETTO:-0700
TZNAME:PDT
DTSTART:20170312T100000
END:DAYLIGHT
BEGIN:STANDARD
TZOFFSETFROM:-0700
TZOFFSETTO:-0800
TZNAME:PST
DTSTART:20171105T090000
END:STANDARD
TZID:UTC
BEGIN:STANDARD
TZOFFSETFROM:+0000
TZOFFSETTO:+0000
TZNAME:UTC
DTSTART:20170101T000000
END:STANDARD
END:VTIMEZONE
BEGIN:VEVENT
DTSTART;TZID=America/Los_Angeles:20170705T170000
DTEND;TZID=America/Los_Angeles:20170705T213000
DTSTAMP:20260424T193338
CREATED:20170505T054949Z
LAST-MODIFIED:20171111T211216Z
UID:3489-1499274000-1499290200@lutherburbankartandgardencenter.com
SUMMARY:Radio Amateurs
DESCRIPTION:Sorry\, but you do not have permission to view this content.
URL:http://lutherburbankartandgardencenter.com/event/radio-amateurs-35/
LOCATION:CA
CATEGORIES:Member Club Event
END:VEVENT
BEGIN:VEVENT
DTSTART;TZID=UTC:20170706T090000
DTEND;TZID=UTC:20170706T120000
DTSTAMP:20260424T193338
CREATED:20170505T054951Z
LAST-MODIFIED:20210924T172747Z
UID:3490-1499331600-1499342400@lutherburbankartandgardencenter.com
SUMMARY:SR Flower Arrangers Guild
DESCRIPTION:Sorry\, but you do not have permission to view this content.
URL:http://lutherburbankartandgardencenter.com/event/sr-flower-arrangers-guild-33/2017-07-06/
LOCATION:CA
CATEGORIES:Member Club Event
END:VEVENT
BEGIN:VEVENT
DTSTART;TZID=America/Los_Angeles:20170707T080000
DTEND;TZID=America/Los_Angeles:20170707T230000
DTSTAMP:20260424T193338
CREATED:20170505T054951Z
LAST-MODIFIED:20170516T103033Z
UID:3491-1499414400-1499468400@lutherburbankartandgardencenter.com
SUMMARY:WASCO
DESCRIPTION:Sorry\, but you do not have permission to view this content.
URL:http://lutherburbankartandgardencenter.com/event/wasco-57/
LOCATION:CA
CATEGORIES:Member Club Event
END:VEVENT
BEGIN:VEVENT
DTSTART;TZID=America/Los_Angeles:20170708T090000
DTEND;TZID=America/Los_Angeles:20170708T230000
DTSTAMP:20260424T193338
CREATED:20170505T054951Z
LAST-MODIFIED:20170516T102942Z
UID:3492-1499504400-1499554800@lutherburbankartandgardencenter.com
SUMMARY:WASCO
DESCRIPTION:Sorry\, but you do not have permission to view this content.
URL:http://lutherburbankartandgardencenter.com/event/wasco-58/
LOCATION:CA
CATEGORIES:Member Club Event
END:VEVENT
BEGIN:VEVENT
DTSTART;TZID=America/Los_Angeles:20170709T100000
DTEND;TZID=America/Los_Angeles:20170709T230000
DTSTAMP:20260424T193338
CREATED:20170505T054951Z
LAST-MODIFIED:20170516T102942Z
UID:3493-1499594400-1499641200@lutherburbankartandgardencenter.com
SUMMARY:WASCO
DESCRIPTION:Sorry\, but you do not have permission to view this content.
URL:http://lutherburbankartandgardencenter.com/event/wasco-59/
LOCATION:CA
CATEGORIES:Member Club Event
END:VEVENT
BEGIN:VEVENT
DTSTART;TZID=America/Los_Angeles:20170710T170000
DTEND;TZID=America/Los_Angeles:20170710T220000
DTSTAMP:20260424T193338
CREATED:20170505T054951Z
LAST-MODIFIED:20170516T102942Z
UID:3494-1499706000-1499724000@lutherburbankartandgardencenter.com
SUMMARY:Iris Society
DESCRIPTION:Sorry\, but you do not have permission to view this content.
URL:http://lutherburbankartandgardencenter.com/event/iris-society-65/
LOCATION:CA
CATEGORIES:Member Club Event
END:VEVENT
BEGIN:VEVENT
DTSTART;TZID=America/Los_Angeles:20170711T183000
DTEND;TZID=America/Los_Angeles:20170711T213000
DTSTAMP:20260424T193338
CREATED:20170505T054953Z
LAST-MODIFIED:20170516T102942Z
UID:3496-1499797800-1499808600@lutherburbankartandgardencenter.com
SUMMARY:Men's Garden Club
DESCRIPTION:Sorry\, but you do not have permission to view this content.
URL:http://lutherburbankartandgardencenter.com/event/mens-garden-club-43/
LOCATION:CA
CATEGORIES:Member Club Event
END:VEVENT
BEGIN:VEVENT
DTSTART;TZID=America/Los_Angeles:20170712T100000
DTEND;TZID=America/Los_Angeles:20170712T150000
DTSTAMP:20260424T193338
CREATED:20170505T054953Z
LAST-MODIFIED:20170516T102942Z
UID:3497-1499853600-1499871600@lutherburbankartandgardencenter.com
SUMMARY:Redwood Stitchers
DESCRIPTION:Sorry\, but you do not have permission to view this content.
URL:http://lutherburbankartandgardencenter.com/event/redwood-stitchers-63/
LOCATION:CA
CATEGORIES:Member Club Event
END:VEVENT
BEGIN:VEVENT
DTSTART;TZID=America/Los_Angeles:20170713T080000
DTEND;TZID=America/Los_Angeles:20170713T140000
DTSTAMP:20260424T193338
CREATED:20170513T232812Z
LAST-MODIFIED:20170516T102942Z
UID:3683-1499932800-1499954400@lutherburbankartandgardencenter.com
SUMMARY:WASCO
DESCRIPTION:Sorry\, but you do not have permission to view this content.
URL:http://lutherburbankartandgardencenter.com/event/wasco-69/
LOCATION:CA
CATEGORIES:Member Club Event
END:VEVENT
BEGIN:VEVENT
DTSTART;TZID=America/Los_Angeles:20170713T183000
DTEND;TZID=America/Los_Angeles:20170713T223000
DTSTAMP:20260424T193338
CREATED:20170505T054953Z
LAST-MODIFIED:20170516T102942Z
UID:3499-1499970600-1499985000@lutherburbankartandgardencenter.com
SUMMARY:SR Photo Soc
DESCRIPTION:Sorry\, but you do not have permission to view this content.
URL:http://lutherburbankartandgardencenter.com/event/sr-photo-soc-19/
LOCATION:CA
CATEGORIES:Member Club Event
END:VEVENT
BEGIN:VEVENT
DTSTART;TZID=America/Los_Angeles:20170718T173000
DTEND;TZID=America/Los_Angeles:20170718T220000
DTSTAMP:20260424T193338
CREATED:20170505T054955Z
LAST-MODIFIED:20171111T211216Z
UID:3502-1500399000-1500415200@lutherburbankartandgardencenter.com
SUMMARY:Native Plant Society
DESCRIPTION:Sorry\, but you do not have permission to view this content.
URL:http://lutherburbankartandgardencenter.com/event/native-plant-society-33/
LOCATION:CA
CATEGORIES:Member Club Event
END:VEVENT
BEGIN:VEVENT
DTSTART;TZID=UTC:20170719T170000
DTEND;TZID=UTC:20170719T210000
DTSTAMP:20260424T193338
CREATED:20170505T054955Z
LAST-MODIFIED:20171111T211216Z
UID:3503-1500483600-1500498000@lutherburbankartandgardencenter.com
SUMMARY:Master Gardeners
DESCRIPTION:Sorry\, but you do not have permission to view this content.
URL:http://lutherburbankartandgardencenter.com/event/master-gardeners-69/
LOCATION:CA
CATEGORIES:Member Club Event
END:VEVENT
BEGIN:VEVENT
DTSTART;TZID=America/Los_Angeles:20170720T170000
DTEND;TZID=America/Los_Angeles:20170720T210000
DTSTAMP:20260424T193338
CREATED:20170505T054955Z
LAST-MODIFIED:20170516T102942Z
UID:3504-1500570000-1500584400@lutherburbankartandgardencenter.com
SUMMARY:Redwood Empire Rose Society
DESCRIPTION:Sorry\, but you do not have permission to view this content.
URL:http://lutherburbankartandgardencenter.com/event/redwood-empire-rose-society-38/
LOCATION:CA
CATEGORIES:Member Club Event
END:VEVENT
BEGIN:VEVENT
DTSTART;TZID=America/Los_Angeles:20170721T080000
DTEND;TZID=America/Los_Angeles:20170721T160000
DTSTAMP:20260424T193338
CREATED:20170505T054957Z
LAST-MODIFIED:20171111T211216Z
UID:3505-1500624000-1500652800@lutherburbankartandgardencenter.com
SUMMARY:SR Quilt Guild
DESCRIPTION:Sorry\, but you do not have permission to view this content.
URL:http://lutherburbankartandgardencenter.com/event/sr-quilt-guild-34/
LOCATION:CA
CATEGORIES:Member Club Event
END:VEVENT
BEGIN:VEVENT
DTSTART;TZID=America/Los_Angeles:20170721T173000
DTEND;TZID=America/Los_Angeles:20170721T220000
DTSTAMP:20260424T193338
CREATED:20170505T054957Z
LAST-MODIFIED:20170516T102942Z
UID:3506-1500658200-1500674400@lutherburbankartandgardencenter.com
SUMMARY:SCPN
DESCRIPTION:Sorry\, but you do not have permission to view this content.
URL:http://lutherburbankartandgardencenter.com/event/scpn-33/
LOCATION:CA
CATEGORIES:Member Club Event
END:VEVENT
BEGIN:VEVENT
DTSTART;TZID=America/Los_Angeles:20170724T103000
DTEND;TZID=America/Los_Angeles:20170724T170000
DTSTAMP:20260424T193338
CREATED:20170505T054957Z
LAST-MODIFIED:20170516T102942Z
UID:3508-1500892200-1500915600@lutherburbankartandgardencenter.com
SUMMARY:Santa Rosa Garden Club
DESCRIPTION:Sorry\, but you do not have permission to view this content.
URL:http://lutherburbankartandgardencenter.com/event/santa-rosa-garden-club-47/
LOCATION:CA
CATEGORIES:Member Club Event
END:VEVENT
BEGIN:VEVENT
DTSTART;TZID=UTC:20170725T090000
DTEND;TZID=UTC:20170725T150000
DTSTAMP:20260424T193338
CREATED:20170505T054957Z
LAST-MODIFIED:20171111T211217Z
UID:3509-1500973200-1500994800@lutherburbankartandgardencenter.com
SUMMARY:Pointless Sisters
DESCRIPTION:Sorry\, but you do not have permission to view this content.
URL:http://lutherburbankartandgardencenter.com/event/pointless-sisters-43/
LOCATION:CA
CATEGORIES:Member Club Event
END:VEVENT
BEGIN:VEVENT
DTSTART;TZID=UTC:20170725T173000
DTEND;TZID=UTC:20170725T220000
DTSTAMP:20260424T193338
CREATED:20170505T054959Z
LAST-MODIFIED:20171111T211529Z
UID:3510-1501003800-1501020000@lutherburbankartandgardencenter.com
SUMMARY:Bonsai Society
DESCRIPTION:Sorry\, but you do not have permission to view this content.
URL:http://lutherburbankartandgardencenter.com/event/bonsai-society-31/
LOCATION:CA
CATEGORIES:Member Club Event
END:VEVENT
BEGIN:VEVENT
DTSTART;TZID=America/Los_Angeles:20170726T100000
DTEND;TZID=America/Los_Angeles:20170726T150000
DTSTAMP:20260424T193338
CREATED:20170505T054959Z
LAST-MODIFIED:20170516T102942Z
UID:3511-1501063200-1501081200@lutherburbankartandgardencenter.com
SUMMARY:Redwood Stitchers
DESCRIPTION:Sorry\, but you do not have permission to view this content.
URL:http://lutherburbankartandgardencenter.com/event/redwood-stitchers-64/
LOCATION:CA
CATEGORIES:Member Club Event
END:VEVENT
BEGIN:VEVENT
DTSTART;TZID=America/Los_Angeles:20170727T173000
DTEND;TZID=America/Los_Angeles:20170727T230000
DTSTAMP:20260424T193338
CREATED:20170505T054959Z
LAST-MODIFIED:20170516T102835Z
UID:3512-1501176600-1501196400@lutherburbankartandgardencenter.com
SUMMARY:SR Photographic Society
DESCRIPTION:Sorry\, but you do not have permission to view this content.
URL:http://lutherburbankartandgardencenter.com/event/sr-photographic-society-23/
LOCATION:CA
CATEGORIES:Member Club Event
END:VEVENT
END:VCALENDAR