BEGIN:VCALENDAR
VERSION:2.0
PRODID:-//Luther Burbank Art and Garden Center - ECPv6.8.2.1//NONSGML v1.0//EN
CALSCALE:GREGORIAN
METHOD:PUBLISH
X-ORIGINAL-URL:http://lutherburbankartandgardencenter.com
X-WR-CALDESC:Events for Luther Burbank Art and Garden Center
REFRESH-INTERVAL;VALUE=DURATION:PT1H
X-Robots-Tag:noindex
X-PUBLISHED-TTL:PT1H
BEGIN:VTIMEZONE
TZID:America/Los_Angeles
BEGIN:DAYLIGHT
TZOFFSETFROM:-0800
TZOFFSETTO:-0700
TZNAME:PDT
DTSTART:20170312T100000
END:DAYLIGHT
BEGIN:STANDARD
TZOFFSETFROM:-0700
TZOFFSETTO:-0800
TZNAME:PST
DTSTART:20171105T090000
END:STANDARD
TZID:UTC
BEGIN:STANDARD
TZOFFSETFROM:+0000
TZOFFSETTO:+0000
TZNAME:UTC
DTSTART:20170101T000000
END:STANDARD
END:VTIMEZONE
BEGIN:VEVENT
DTSTART;TZID=America/Los_Angeles:20170601T090000
DTEND;TZID=America/Los_Angeles:20170601T120000
DTSTAMP:20260424T193339
CREATED:20170505T054937Z
LAST-MODIFIED:20170516T103240Z
UID:3462-1496307600-1496318400@lutherburbankartandgardencenter.com
SUMMARY:SR Flower Arrangers Guild
DESCRIPTION:Sorry\, but you do not have permission to view this content.
URL:http://lutherburbankartandgardencenter.com/event/sr-flower-arrangers-guild-32/
LOCATION:CA
CATEGORIES:Member Club Event
END:VEVENT
BEGIN:VEVENT
DTSTART;TZID=America/Los_Angeles:20170607T170000
DTEND;TZID=America/Los_Angeles:20170607T213000
DTSTAMP:20260424T193339
CREATED:20170505T054939Z
LAST-MODIFIED:20171111T211135Z
UID:3466-1496854800-1496871000@lutherburbankartandgardencenter.com
SUMMARY:Radio Amateurs
DESCRIPTION:Sorry\, but you do not have permission to view this content.
URL:http://lutherburbankartandgardencenter.com/event/radio-amateurs-34/
LOCATION:CA
CATEGORIES:Member Club Event
END:VEVENT
BEGIN:VEVENT
DTSTART;TZID=America/Los_Angeles:20170608T080000
DTEND;TZID=America/Los_Angeles:20170608T150000
DTSTAMP:20260424T193339
CREATED:20170505T054939Z
LAST-MODIFIED:20170516T103240Z
UID:3467-1496908800-1496934000@lutherburbankartandgardencenter.com
SUMMARY:WASCO
DESCRIPTION:Sorry\, but you do not have permission to view this content.
URL:http://lutherburbankartandgardencenter.com/event/wasco-56/
LOCATION:CA
CATEGORIES:Member Club Event
END:VEVENT
BEGIN:VEVENT
DTSTART;TZID=America/Los_Angeles:20170608T173000
DTEND;TZID=America/Los_Angeles:20170608T223000
DTSTAMP:20260424T193339
CREATED:20170505T054940Z
LAST-MODIFIED:20170516T103240Z
UID:3468-1496943000-1496961000@lutherburbankartandgardencenter.com
SUMMARY:SR Photo Soc
DESCRIPTION:Sorry\, but you do not have permission to view this content.
URL:http://lutherburbankartandgardencenter.com/event/sr-photo-soc-18/
LOCATION:CA
CATEGORIES:Member Club Event
END:VEVENT
BEGIN:VEVENT
DTSTART;TZID=America/Los_Angeles:20170612T170000
DTEND;TZID=America/Los_Angeles:20170612T220000
DTSTAMP:20260424T193339
CREATED:20170505T054941Z
LAST-MODIFIED:20170516T103240Z
UID:3470-1497286800-1497304800@lutherburbankartandgardencenter.com
SUMMARY:Iris Society
DESCRIPTION:Sorry\, but you do not have permission to view this content.
URL:http://lutherburbankartandgardencenter.com/event/iris-society-64/
LOCATION:CA
CATEGORIES:Member Club Event
END:VEVENT
BEGIN:VEVENT
DTSTART;TZID=America/Los_Angeles:20170613T183000
DTEND;TZID=America/Los_Angeles:20170613T213000
DTSTAMP:20260424T193339
CREATED:20170505T054941Z
LAST-MODIFIED:20170516T103240Z
UID:3471-1497378600-1497389400@lutherburbankartandgardencenter.com
SUMMARY:Men's Garden Club
DESCRIPTION:Sorry\, but you do not have permission to view this content.
URL:http://lutherburbankartandgardencenter.com/event/mens-garden-club-42/
LOCATION:CA
CATEGORIES:Member Club Event
END:VEVENT
BEGIN:VEVENT
DTSTART;TZID=America/Los_Angeles:20170614T100000
DTEND;TZID=America/Los_Angeles:20170614T150000
DTSTAMP:20260424T193339
CREATED:20170505T054942Z
LAST-MODIFIED:20170516T103240Z
UID:3472-1497434400-1497452400@lutherburbankartandgardencenter.com
SUMMARY:Redwood Stitchers
DESCRIPTION:Sorry\, but you do not have permission to view this content.
URL:http://lutherburbankartandgardencenter.com/event/redwood-stitchers-61/
LOCATION:CA
CATEGORIES:Member Club Event
END:VEVENT
BEGIN:VEVENT
DTSTART;TZID=America/Los_Angeles:20170615T170000
DTEND;TZID=America/Los_Angeles:20170615T210000
DTSTAMP:20260424T193339
CREATED:20170505T054942Z
LAST-MODIFIED:20170516T103034Z
UID:3473-1497546000-1497560400@lutherburbankartandgardencenter.com
SUMMARY:Redwood Empire Rose Society
DESCRIPTION:Sorry\, but you do not have permission to view this content.
URL:http://lutherburbankartandgardencenter.com/event/redwood-empire-rose-society-37/
LOCATION:CA
CATEGORIES:Member Club Event
END:VEVENT
BEGIN:VEVENT
DTSTART;TZID=America/Los_Angeles:20170616T080000
DTEND;TZID=America/Los_Angeles:20170616T160000
DTSTAMP:20260424T193339
CREATED:20170505T054942Z
LAST-MODIFIED:20171111T211135Z
UID:3474-1497600000-1497628800@lutherburbankartandgardencenter.com
SUMMARY:SR Quilt Guild
DESCRIPTION:Sorry\, but you do not have permission to view this content.
URL:http://lutherburbankartandgardencenter.com/event/sr-quilt-guild-33/
LOCATION:CA
CATEGORIES:Member Club Event
END:VEVENT
BEGIN:VEVENT
DTSTART;TZID=America/Los_Angeles:20170616T173000
DTEND;TZID=America/Los_Angeles:20170616T220000
DTSTAMP:20260424T193339
CREATED:20170505T054944Z
LAST-MODIFIED:20170516T103034Z
UID:3475-1497634200-1497650400@lutherburbankartandgardencenter.com
SUMMARY:SCPN
DESCRIPTION:Sorry\, but you do not have permission to view this content.
URL:http://lutherburbankartandgardencenter.com/event/scpn-32/
LOCATION:CA
CATEGORIES:Member Club Event
END:VEVENT
BEGIN:VEVENT
DTSTART;TZID=America/Los_Angeles:20170620T173000
DTEND;TZID=America/Los_Angeles:20170620T220000
DTSTAMP:20260424T193339
CREATED:20170505T054944Z
LAST-MODIFIED:20171111T211216Z
UID:3478-1497979800-1497996000@lutherburbankartandgardencenter.com
SUMMARY:Native Plant Society
DESCRIPTION:Sorry\, but you do not have permission to view this content.
URL:http://lutherburbankartandgardencenter.com/event/native-plant-society-32/
LOCATION:CA
CATEGORIES:Member Club Event
END:VEVENT
BEGIN:VEVENT
DTSTART;TZID=UTC:20170621T170000
DTEND;TZID=UTC:20170621T200000
DTSTAMP:20260424T193339
CREATED:20170505T054944Z
LAST-MODIFIED:20171111T211216Z
UID:3479-1498064400-1498075200@lutherburbankartandgardencenter.com
SUMMARY:Master Gardeners
DESCRIPTION:Sorry\, but you do not have permission to view this content.
URL:http://lutherburbankartandgardencenter.com/event/master-gardeners-68/
LOCATION:CA
CATEGORIES:Member Club Event
END:VEVENT
BEGIN:VEVENT
DTSTART;TZID=UTC:20170622T183000
DTEND;TZID=UTC:20170622T230000
DTSTAMP:20260424T193339
CREATED:20170505T054946Z
LAST-MODIFIED:20170516T103034Z
UID:3480-1498156200-1498172400@lutherburbankartandgardencenter.com
SUMMARY:SR Photographic Society
DESCRIPTION:Sorry\, but you do not have permission to view this content.
URL:http://lutherburbankartandgardencenter.com/event/sr-photographic-society-22/
LOCATION:CA
CATEGORIES:Member Club Event
END:VEVENT
BEGIN:VEVENT
DTSTART;TZID=America/Los_Angeles:20170626T103000
DTEND;TZID=America/Los_Angeles:20170626T170000
DTSTAMP:20260424T193339
CREATED:20170505T054946Z
LAST-MODIFIED:20170516T103034Z
UID:3484-1498473000-1498496400@lutherburbankartandgardencenter.com
SUMMARY:Santa Rosa Garden Club
DESCRIPTION:Sorry\, but you do not have permission to view this content.
URL:http://lutherburbankartandgardencenter.com/event/santa-rosa-garden-club-46/
LOCATION:CA
CATEGORIES:Member Club Event
END:VEVENT
BEGIN:VEVENT
DTSTART;TZID=UTC:20170627T090000
DTEND;TZID=UTC:20170627T150000
DTSTAMP:20260424T193339
CREATED:20170505T054948Z
LAST-MODIFIED:20171111T211216Z
UID:3485-1498554000-1498575600@lutherburbankartandgardencenter.com
SUMMARY:Pointless Sisters
DESCRIPTION:Sorry\, but you do not have permission to view this content.
URL:http://lutherburbankartandgardencenter.com/event/pointless-sisters-42/
LOCATION:CA
CATEGORIES:Member Club Event
END:VEVENT
BEGIN:VEVENT
DTSTART;TZID=UTC:20170627T173000
DTEND;TZID=UTC:20170627T220000
DTSTAMP:20260424T193339
CREATED:20170505T054948Z
LAST-MODIFIED:20171111T211216Z
UID:3486-1498584600-1498600800@lutherburbankartandgardencenter.com
SUMMARY:Bonsai Society
DESCRIPTION:Sorry\, but you do not have permission to view this content.
URL:http://lutherburbankartandgardencenter.com/event/bonsai-society-30/
LOCATION:CA
CATEGORIES:Member Club Event
END:VEVENT
BEGIN:VEVENT
DTSTART;TZID=America/Los_Angeles:20170628T100000
DTEND;TZID=America/Los_Angeles:20170628T150000
DTSTAMP:20260424T193339
CREATED:20170505T054948Z
LAST-MODIFIED:20170516T103033Z
UID:3487-1498644000-1498662000@lutherburbankartandgardencenter.com
SUMMARY:Redwood Stitchers
DESCRIPTION:Sorry\, but you do not have permission to view this content.
URL:http://lutherburbankartandgardencenter.com/event/redwood-stitchers-62/
LOCATION:CA
CATEGORIES:Member Club Event
END:VEVENT
BEGIN:VEVENT
DTSTART;TZID=America/Los_Angeles:20170629T090000
DTEND;TZID=America/Los_Angeles:20170629T150000
DTSTAMP:20260424T193339
CREATED:20170505T054949Z
LAST-MODIFIED:20171111T211216Z
UID:3488-1498726800-1498748400@lutherburbankartandgardencenter.com
SUMMARY:Quilt Guild
DESCRIPTION:Sorry\, but you do not have permission to view this content.
URL:http://lutherburbankartandgardencenter.com/event/quilt-guild-19/
LOCATION:CA
CATEGORIES:Member Club Event
END:VEVENT
END:VCALENDAR